Rose-DB-Object v0.815 Perl 5 v5.31.8 amd64-freebsd
- Status
- Pass
- From
- Slaven Rezić (SREZIC)
- Dist
-
Rose-DB-Object v0.815
- Platform
- Perl 5 v5.31.8 amd64-freebsd
- Date
- 2020-02-12 20:58:04
- ID
- 5ca0f8fa-4dda-11ea-8c1d-b78d1f24ea8f
This distribution has been tested as part of the CPAN Testers
project, supporting the Perl programming language. See
http://wiki.cpantesters.org/ for more information or email
questions to cpan-testers-discuss@perl.org
--
Dear John Siracusa,
This is a computer-generated report for Rose-DB-Object-0.815
on perl 5.31.8, created by CPAN-Reporter-1.2018.
Thank you for uploading your work to CPAN. Congratulations!
All tests were successful.
Sections of this report:
* Tester comments
* Program output
* Prerequisites
* Environment and other context
------------------------------
TESTER COMMENTS
------------------------------
Additional comments from tester:
none provided
------------------------------
PROGRAM OUTPUT
------------------------------
Output from '/usr/bin/make test':
PERL_DL_NONLAZY=1 "/usr/perl5.31.8p/bin/perl5.31.8" "-MExtUtils::Command::MM" "-MTest::Harness" "-e" "undef *Test::Harness::Switches; test_harness(0, 'blib/lib', 'blib/arch')" t/*.t
##
## DBI 1.643
## DBD::Pg 3.10.4
## DBD::mysql 4.050
## DBD::SQLite 1.64
## JSON 4.02
##
## WARNING: Almost all the tests in this module distribution need to connect
## to a database in order to run. The tests need full privileges on this
## database: the ability to create and drop tables, insert, update, and delete
## rows, create schemas, sequences, functions, triggers, the works.
##
## By default, the tests will try to connect to the database named "test"
## running on "localhost" using the default superuser username for each
## database type and an empty password.
##
## If you have setup your database in a secure manner, these connection
## attempts will fail, and the tests will be skipped. If you want to override
## these values, set the following environment variables before running tests.
## (The current values are shown in parentheses.)
##
## PostgreSQL:
##
## RDBO_PG_DSN (dbi:Pg:dbname=test;host=localhost)
## RDBO_PG_USER (postgres)
## RDBO_PG_PASS (<none>)
##
## MySQL:
##
## RDBO_MYSQL_DSN (dbi:mysql:database=test;host=localhost)
## RDBO_MYSQL_USER (root)
## RDBO_MYSQL_PASS (<none>)
##
## Oracle:
##
## RDBO_ORACLE_DSN (dbi:Oracle:dbname=test)
## RDBO_ORACLE_USER (<none>)
## RDBO_ORACLE_PASS (<none>)
##
## Informix:
##
## RDBO_INFORMIX_DSN (dbi:Informix:test@test)
## RDBO_INFORMIX_USER (<none>)
## RDBO_INFORMIX_PASS (<none>)
##
## SQLite: To disable the SQLite tests, set this environment varible
##
## RDBO_NO_SQLITE (<undef>)
##
## Press return to continue (or wait 60 seconds)
t/00-warning.t ..................... ok
t/as-tree.t ........................ ok
t/auto-setup.t ..................... ok
t/bind-param.t ..................... ok
t/column-triggers.t ................ ok
t/column-values.t .................. ok
t/db-migration.t ................... ok
t/db-object-auto.t ................. ok
t/db-object-cached.t ............... ok
t/db-object-changes-only-1.t ....... ok
t/db-object-changes-only-2.t ....... ok
t/db-object-convention.t ........... ok
t/db-object-foreign-key-auto.t ..... ok
t/db-object-foreign-key.t .......... ok
t/db-object-helpers.t .............. ok
t/db-object-loader-2.t ............. ok
t/db-object-loader-3.t ............. ok
t/db-object-loader-4.t ............. ok
t/db-object-loader-5.t ............. ok
t/db-object-loader-6.t ............. ok
t/db-object-loader-7.t ............. ok
t/db-object-loader-8.t ............. ok
t/db-object-loader-9.t ............. ok
t/db-object-loader.t ............... ok
t/db-object-manager-bulk-ops.t ..... ok
t/db-object-manager.t .............. ok
t/db-object-mapper.t ............... ok
t/db-object-metadata.t ............. ok
t/db-object-relationship-auto-2.t .. ok
t/db-object-relationship-auto.t .... ok
t/db-object-relationship.t ......... ok
t/db-object-std-cached.t ........... ok
t/db-object-std.t .................. ok
t/db-object.t ...................... ok
t/deep-joins.t ..................... ok
t/inheritance.t .................... ok
t/lazy-columns.t ................... ok
t/leaks.t .......................... ok
t/make-modules.t ................... ok
t/makemethods-db.t ................. ok
t/makemethods.t .................... ok
t/multi-many-the-hard-way.t ........ ok
t/multi-pk-sequences.t ............. ok
t/nested-joins.t ................... ok
t/one-to-many-reset.t .............. ok
t/pk-fk-columns.t .................. ok
t/pod.t ............................ ok
t/query-builder.t .................. ok
t/rt-cpan-45836.t .................. ok
t/save-cascade.t ................... ok
t/schema-override.t ................ ok
t/spot-check-01.t .................. ok
t/spot-check-02.t .................. ok
t/spot-check-03.t .................. ok
t/spot-check-04.t .................. ok
t/spot-check-05.t .................. ok
t/spot-check-06.t .................. ok
t/spot-check-07.t .................. ok
t/spot-check-08.t .................. ok
t/spot-check-09.t .................. ok
t/spot-check-10.t .................. ok
t/spot-check-11.t .................. ok
t/spot-check-12.t .................. ok
t/spot-check-13.t .................. ok
t/spot-check-14.t .................. ok
t/undef-overrides-default.t ........ ok
t/unique-key-prefs.t ............... ok
All tests successful.
Files=67, Tests=15335, 96 wallclock secs ( 1.49 usr 0.44 sys + 34.94 cusr 10.82 csys = 47.69 CPU)
Result: PASS
------------------------------
PREREQUISITES
------------------------------
Prerequisite modules loaded:
requires:
Module Need Have
-------------------- -------- --------
Bit::Vector 0 7.4
Clone 0.29 0.43
Cwd 0 3.78
Data::Dumper 2.121 2.174
DateTime 0 1.51
DBI 1.40 1.643
File::Path 0 2.16
File::Spec 0 3.78
List::MoreUtils 0 0.428
Math::BigInt 1.77 1.999818
perl 5.006000 5.031008
Rose::DateTime::Util 0.532 0.540
Rose::DB 0.763 0.781
Rose::Object 0.854 0.860
Scalar::Util 0 1.54
Test::More 0 1.302171
Time::Clock 1.00 1.03
build_requires:
Module Need Have
-------------------- -------- --------
ExtUtils::MakeMaker 0 7.44
configure_requires:
Module Need Have
-------------------- -------- --------
ExtUtils::MakeMaker 0 7.44
------------------------------
ENVIRONMENT AND OTHER CONTEXT
------------------------------
Environment variables:
PATH = /usr/local/bin:/usr/bin:/bin:/usr/local/sbin:/usr/sbin:/sbin:/home/cpansand/bin/freebsd12.0:/home/cpansand/bin/sh:/home/cpansand/bin:/usr/games:/home/cpansand/devel:/usr/home/eserte/src/srezic-misc/scripts
PERL5LIB = /home/cpansand/.cpan/build/2020021220/Rose-DB-0.781-0/blib/arch:/home/cpansand/.cpan/build/2020021220/Rose-DB-0.781-0/blib/lib:/home/cpansand/.cpan/build/2020021220/Time-Clock-1.03-0/blib/arch:/home/cpansand/.cpan/build/2020021220/Time-Clock-1.03-0/blib/lib:/home/cpansand/.cpan/build/2020021220/SQL-ReservedWords-0.8-0/blib/arch:/home/cpansand/.cpan/build/2020021220/SQL-ReservedWords-0.8-0/blib/lib:/home/cpansand/.cpan/build/2020021220/Rose-DateTime-0.540-0/blib/arch:/home/cpansand/.cpan/build/2020021220/Rose-DateTime-0.540-0/blib/lib:/home/cpansand/.cpan/build/2020021220/Rose-Object-0.860-0/blib/arch:/home/cpansand/.cpan/build/2020021220/Rose-Object-0.860-0/blib/lib:/home/cpansand/.cpan/build/2020021220/DateTime-Format-Oracle-0.06-0/blib/arch:/home/cpansand/.cpan/build/2020021220/DateTime-Format-Oracle-0.06-0/blib/lib:/home/cpansand/.cpan/build/2020021220/Convert-NLS_DATE_FORMAT-0.06-0/blib/arch:/home/cpansand/.cpan/build/2020021220/Convert-NLS_DATE_FORMAT-0.06-0/blib/lib
PERL5OPT =
PERL5_CPANPLUS_IS_RUNNING = 55381
PERL5_CPAN_IS_RUNNING = 55381
PERL5_CPAN_IS_RUNNING_IN_RECURSION = 55367,55381
PERLDOC = -MPod::Perldoc::ToTextOverstrike
PERL_BATCH = yes
PERL_CANARY_STABILITY_NOPROMPT = 1
PERL_CPAN_REPORTER_CONFIG = /var/tmp/cpansmoker-1023/2020021220/cpanreporter_002_config.ini
PERL_EXTUTILS_AUTOINSTALL = --defaultdeps
PERL_MM_USE_DEFAULT = 1
PERL_USE_UNSAFE_INC = 1
SHELL = /usr/local/bin/zsh
TERM = screen
TMPDIR = /var/tmp/cpansmoker-1023/2020021220
Perl special variables (and OS-specific diagnostics, for MSWin32):
$^X = /usr/perl5.31.8p/bin/perl5.31.8
$UID/$EUID = 1023 / 1023
$GID = 1023 1023
$EGID = 1023 1023
Perl module toolchain versions installed:
Module Have
------------------- --------
CPAN 2.27
CPAN::Meta 2.150010
Cwd 3.78
ExtUtils::CBuilder 0.280234
ExtUtils::Command 7.44
ExtUtils::Install 2.14
ExtUtils::MakeMaker 7.44
ExtUtils::Manifest 1.72
ExtUtils::ParseXS 3.40
File::Spec 3.78
JSON 4.02
JSON::PP 4.04
Module::Build 0.4231
Module::Signature n/a
Parse::CPAN::Meta 2.150010
Test::Harness 3.42
Test::More 1.302171
YAML 1.30
YAML::Syck 1.32
version 0.9924
--
Summary of my perl5 (revision 5 version 31 subversion 8) configuration:
Platform:
osname=freebsd
osvers=12.1-stable
archname=amd64-freebsd
uname='freebsd cloud1.bbbike.org 12.1-stable freebsd 12.1-stable 461f25da156(stable12) generic amd64 '
config_args='-ds -e -Dprefix=/usr/perl5.31.8p -Dusedevel -Dusemallocwrap=no -Dcf_email=srezic@cpan.org -Doptimize=-O2 -pipe'
hint=recommended
useposix=true
d_sigaction=define
useithreads=undef
usemultiplicity=undef
use64bitint=define
use64bitall=define
uselongdouble=undef
usemymalloc=n
default_inc_excludes_dot=define
bincompat5005=undef
Compiler:
cc='cc'
ccflags ='-DHAS_FPSETMASK -DHAS_FLOATINGPOINT_H -fno-strict-aliasing -pipe -fstack-protector-strong -I/usr/local/include'
optimize='-O2 -pipe'
cppflags='-DHAS_FPSETMASK -DHAS_FLOATINGPOINT_H -fno-strict-aliasing -pipe -fstack-protector-strong -I/usr/local/include'
ccversion=''
gccversion='FreeBSD Clang 9.0.1 (git@github.com:llvm/llvm-project.git c1a0a213378a458fbea1a5c77b315c7dce08fd05)'
gccosandvers=''
intsize=4
longsize=8
ptrsize=8
doublesize=8
byteorder=12345678
doublekind=3
d_longlong=define
longlongsize=8
d_longdbl=define
longdblsize=16
longdblkind=3
ivtype='long'
ivsize=8
nvtype='double'
nvsize=8
Off_t='off_t'
lseeksize=8
alignbytes=8
prototype=define
Linker and Libraries:
ld='cc'
ldflags ='-pthread -Wl,-E -fstack-protector-strong -L/usr/local/lib'
libpth=/usr/lib /usr/local/lib /usr/lib/clang/9.0.1/lib /usr/lib
libs=-lpthread -lgdbm -ldl -lm -lcrypt -lutil -lc
perllibs=-lpthread -ldl -lm -lcrypt -lutil -lc
libc=
so=so
useshrplib=false
libperl=libperl.a
gnulibc_version=''
Dynamic Linking:
dlsrc=dl_dlopen.xs
dlext=so
d_dlsymun=undef
ccdlflags=' '
cccdlflags='-DPIC -fPIC'
lddlflags='-shared -L/usr/local/lib -fstack-protector-strong'
Characteristics of this binary (from libperl):
Compile-time options:
HAS_TIMES
PERLIO_LAYERS
PERL_COPY_ON_WRITE
PERL_DONT_CREATE_GVSV
PERL_OP_PARENT
PERL_PRESERVE_IVUV
PERL_USE_DEVEL
USE_64_BIT_ALL
USE_64_BIT_INT
USE_LARGE_FILES
USE_LOCALE
USE_LOCALE_COLLATE
USE_LOCALE_CTYPE
USE_LOCALE_NUMERIC
USE_LOCALE_TIME
USE_PERLIO
USE_PERL_ATOF
Built under freebsd
Compiled at Jan 23 2020 18:26:54
%ENV:
PERL5LIB="/home/cpansand/.cpan/build/2020021220/Rose-DB-0.781-0/blib/arch:/home/cpansand/.cpan/build/2020021220/Rose-DB-0.781-0/blib/lib:/home/cpansand/.cpan/build/2020021220/Time-Clock-1.03-0/blib/arch:/home/cpansand/.cpan/build/2020021220/Time-Clock-1.03-0/blib/lib:/home/cpansand/.cpan/build/2020021220/SQL-ReservedWords-0.8-0/blib/arch:/home/cpansand/.cpan/build/2020021220/SQL-ReservedWords-0.8-0/blib/lib:/home/cpansand/.cpan/build/2020021220/Rose-DateTime-0.540-0/blib/arch:/home/cpansand/.cpan/build/2020021220/Rose-DateTime-0.540-0/blib/lib:/home/cpansand/.cpan/build/2020021220/Rose-Object-0.860-0/blib/arch:/home/cpansand/.cpan/build/2020021220/Rose-Object-0.860-0/blib/lib:/home/cpansand/.cpan/build/2020021220/DateTime-Format-Oracle-0.06-0/blib/arch:/home/cpansand/.cpan/build/2020021220/DateTime-Format-Oracle-0.06-0/blib/lib:/home/cpansand/.cpan/build/2020021220/Convert-NLS_DATE_FORMAT-0.06-0/blib/arch:/home/cpansand/.cpan/build/2020021220/Convert-NLS_DATE_FORMAT-0.06-0/blib/lib"
PERL5OPT=""
PERL5_CPANPLUS_IS_RUNNING="55381"
PERL5_CPAN_IS_RUNNING="55381"
PERL5_CPAN_IS_RUNNING_IN_RECURSION="55367,55381"
PERLDOC="-MPod::Perldoc::ToTextOverstrike"
PERL_BATCH="yes"
PERL_CANARY_STABILITY_NOPROMPT="1"
PERL_CPAN_REPORTER_CONFIG="/var/tmp/cpansmoker-1023/2020021220/cpanreporter_002_config.ini"
PERL_EXTUTILS_AUTOINSTALL="--defaultdeps"
PERL_MM_USE_DEFAULT="1"
PERL_USE_UNSAFE_INC="1"
@INC:
/home/cpansand/.cpan/build/2020021220/Rose-DB-0.781-0/blib/arch
/home/cpansand/.cpan/build/2020021220/Rose-DB-0.781-0/blib/lib
/home/cpansand/.cpan/build/2020021220/Time-Clock-1.03-0/blib/arch
/home/cpansand/.cpan/build/2020021220/Time-Clock-1.03-0/blib/lib
/home/cpansand/.cpan/build/2020021220/SQL-ReservedWords-0.8-0/blib/arch
/home/cpansand/.cpan/build/2020021220/SQL-ReservedWords-0.8-0/blib/lib
/home/cpansand/.cpan/build/2020021220/Rose-DateTime-0.540-0/blib/arch
/home/cpansand/.cpan/build/2020021220/Rose-DateTime-0.540-0/blib/lib
/home/cpansand/.cpan/build/2020021220/Rose-Object-0.860-0/blib/arch
/home/cpansand/.cpan/build/2020021220/Rose-Object-0.860-0/blib/lib
/home/cpansand/.cpan/build/2020021220/DateTime-Format-Oracle-0.06-0/blib/arch
/home/cpansand/.cpan/build/2020021220/DateTime-Format-Oracle-0.06-0/blib/lib
/home/cpansand/.cpan/build/2020021220/Convert-NLS_DATE_FORMAT-0.06-0/blib/arch
/home/cpansand/.cpan/build/2020021220/Convert-NLS_DATE_FORMAT-0.06-0/blib/lib
/usr/perl5.31.8p/lib/site_perl/5.31.8/amd64-freebsd
/usr/perl5.31.8p/lib/site_perl/5.31.8
/usr/perl5.31.8p/lib/5.31.8/amd64-freebsd
/usr/perl5.31.8p/lib/5.31.8
.