YAML v1.27_001 Perl 5 v5.26.0 x86_64-linux

Status
Pass
From
Slaven Rezić (SREZIC)
Dist
YAML v1.27_001
Platform
Perl 5 v5.26.0 x86_64-linux
Date
2019-04-27 16:13:15
ID
5c98618a-6907-11e9-b7db-3a1c1f24ea8f
This distribution has been tested as part of the CPAN Testers
project, supporting the Perl programming language.  See
http://wiki.cpantesters.org/ for more information or email
questions to cpan-testers-discuss@perl.org


--
Dear Tina Muller,

This is a computer-generated report for YAML-1.27_001
on perl 5.26.0, created by CPAN-Reporter-1.2018.

Thank you for uploading your work to CPAN.  Congratulations!
All tests were successful.

Sections of this report:

    * Tester comments
    * Program output
    * Prerequisites
    * Environment and other context

------------------------------
TESTER COMMENTS
------------------------------

Additional comments from tester:

none provided

------------------------------
PROGRAM OUTPUT
------------------------------

Output from 'make test':

PERL_DL_NONLAZY=1 "/opt/perl-5.26.0/bin/perl5.26.0" "-MExtUtils::Command::MM" "-MTest::Harness" "-e" "undef *Test::Harness::Switches; test_harness(0, 'blib/lib', 'blib/arch')" t/*.t
t/000-compile-modules.t ............ ok
t/2-scalars.t ...................... ok
t/author-pod-syntax.t .............. skipped: these tests are for testing by the author
t/basic-tests.t .................... ok
t/bugs-emailed.t ................... ok
t/bugs-rt.t ........................ ok
t/changes.t ........................ ok
t/dump-basics.t .................... ok
t/dump-blessed-glob.t .............. ok
t/dump-blessed.t ................... ok
t/dump-code.t ...................... ok
t/dump-file-utf8.t ................. ok
t/dump-file.t ...................... ok
t/dump-nested.t .................... ok
t/dump-opts.t ...................... ok
t/dump-perl-types-512.t ............ skipped: test only for perls before v5.13.5-11-gfb85c04
t/dump-perl-types-514.t ............ ok
t/dump-perl-types.t ................ ok
t/dump-stringify.t ................. ok
t/dump-stringy-numbers.t ........... ok
t/dump-synopsis.t .................. ok
t/dump-tests-512.t ................. skipped: test only for perls before v5.13.5-11-gfb85c04
t/dump-tests-514.t ................. ok
t/dump-tests.t ..................... ok
t/dump-works.t ..................... ok
t/errors.t ......................... ok
t/export.t ......................... ok
t/freeze-thaw.t .................... ok
t/global-api.t ..................... ok
t/inbox.t .......................... ok
t/io-handle.t ...................... ok
t/issue-149.t ...................... ok
t/issue-69.t ....................... ok
t/load-code.t ...................... ok
t/load-fails.t ..................... ok
t/load-passes.t .................... ok
t/load-slides.t .................... ok
t/load-spec.t ...................... ok
t/load-tests.t ..................... ok
t/load-works.t ..................... ok
t/marshall.t ....................... ok
t/no-load-blessed.t ................ ok
t/node-info.t ...................... ok
t/numify.t ......................... ok
t/preserve.t ....................... ok
t/pugs-objects.t ................... ok
t/references.t ..................... ok
t/regexp.t ......................... ok
t/roundtrip.t ...................... ok
t/rt-90593.t ....................... ok
t/svk.t ............................ ok
t/test.t ........................... ok
t/trailing-comments-content.t ...... ok
t/trailing-comments-non-content.t .. ok
All tests successful.
Files=54, Tests=541, 11 wallclock secs ( 0.08 usr  0.17 sys +  9.09 cusr  0.72 csys = 10.06 CPU)
Result: PASS

------------------------------
PREREQUISITES
------------------------------

Prerequisite modules loaded:

requires:

    Module              Need     Have    
    ------------------- -------- --------
    perl                5.008001 5.026000

build_requires:

    Module              Need     Have    
    ------------------- -------- --------
    Encode              0        2.88    
    ExtUtils::MakeMaker 0        7.24    
    Test::Deep          0        1.127   
    Test::More          0.88     1.302073
    Test::YAML          1.05     1.06    

configure_requires:

    Module              Need     Have    
    ------------------- -------- --------
    ExtUtils::MakeMaker 0        7.24    


------------------------------
ENVIRONMENT AND OTHER CONTEXT
------------------------------

Environment variables:

    LANG = en_US.UTF-8
    PATH = /usr/local/bin:/usr/bin:/bin:/usr/local/sbin:/usr/sbin:/sbin:/home/cpansand/bin/linux-gnu:/home/cpansand/bin/sh:/home/cpansand/bin:/usr/games:/home/cpansand/devel:/home/eserte/src/srezic-misc/scripts
    PERL5LIB = /home/cpansand/.cpan/build/2019042715/File-Find-CaseCollide-0.0.2-0/blib/arch:/home/cpansand/.cpan/build/2019042715/File-Find-CaseCollide-0.0.2-0/blib/lib:/home/cpansand/.cpan/build/2019042715/File-Find-Object-v0.3.2-1/blib/arch:/home/cpansand/.cpan/build/2019042715/File-Find-Object-v0.3.2-1/blib/lib:/home/cpansand/.cpan/build/2019042715/Class-XSAccessor-1.19-1/blib/arch:/home/cpansand/.cpan/build/2019042715/Class-XSAccessor-1.19-1/blib/lib:/home/cpansand/.cpan/build/2019042715/FFI-CheckLib-0.24-0/blib/arch:/home/cpansand/.cpan/build/2019042715/FFI-CheckLib-0.24-0/blib/lib:/home/cpansand/.cpan/build/2019042715/PPI-1.256-1/blib/arch:/home/cpansand/.cpan/build/2019042715/PPI-1.256-1/blib/lib:/home/cpansand/.cpan/build/2019042715/Test-InDistDir-1.112071-1/blib/arch:/home/cpansand/.cpan/build/2019042715/Test-InDistDir-1.112071-1/blib/lib:/home/cpansand/.cpan/build/2019042715/Inline-0.82_001-0/blib/arch:/home/cpansand/.cpan/build/2019042715/Inline-0.82_001-0/blib/lib:/home/cpansand/.cpan/build/2019042715/Lingua-EN-Inflect-1.904-1/blib/arch:/home/cpansand/.cpan/build/2019042715/Lingua-EN-Inflect-1.904-1/blib/lib
    PERL5OPT = 
    PERL5_CPANPLUS_IS_RUNNING = 9725
    PERL5_CPAN_IS_RUNNING = 9725
    PERL5_CPAN_IS_RUNNING_IN_RECURSION = 28638,9725
    PERLDOC = -MPod::Perldoc::ToTextOverstrike
    PERL_BATCH = yes
    PERL_CANARY_STABILITY_NOPROMPT = 1
    PERL_CPAN_REPORTER_CONFIG = /var/tmp/cpansmoker-1023/2019042715/cpanreporter_000_config.ini
    PERL_EXTUTILS_AUTOINSTALL = --defaultdeps
    PERL_USE_UNSAFE_INC = 1
    SHELL = /bin/zsh
    TERM = screen
    TMPDIR = /var/tmp/cpansmoker-1023/2019042715

Perl special variables (and OS-specific diagnostics, for MSWin32):

    $^X = /opt/perl-5.26.0/bin/perl5.26.0
    $UID/$EUID = 1023 / 1023
    $GID = 1023 1023
    $EGID = 1023 1023

Perl module toolchain versions installed:

    Module              Have      
    ------------------- ----------
    CPAN                2.18      
    CPAN::Meta          2.150010  
    Cwd                 3.67      
    ExtUtils::CBuilder  0.280225  
    ExtUtils::Command   7.24      
    ExtUtils::Install   2.04      
    ExtUtils::MakeMaker 7.24      
    ExtUtils::Manifest  1.70      
    ExtUtils::ParseXS   3.34      
    File::Spec          3.67      
    JSON                2.94      
    JSON::PP            2.27400_02
    Module::Build       0.4224    
    Module::Signature   n/a       
    Parse::CPAN::Meta   2.150010  
    Test::Harness       3.38      
    Test::More          1.302073  
    YAML                1.23      
    YAML::Syck          1.30      
    version             0.9917    


--

Summary of my perl5 (revision 5 version 26 subversion 0) configuration:
   
  Platform:
    osname=linux
    osvers=2.6.32-696.3.1.el6.x86_64
    archname=x86_64-linux
    uname='linux centos6 2.6.32-696.3.1.el6.x86_64 #1 smp tue may 30 19:52:55 utc 2017 x86_64 x86_64 x86_64 gnulinux '
    config_args='-ds -e -Dprefix=/opt/perl-5.26.0 -Dcf_email=srezic@cpan.org'
    hint=recommended
    useposix=true
    d_sigaction=define
    useithreads=undef
    usemultiplicity=undef
    use64bitint=define
    use64bitall=define
    uselongdouble=undef
    usemymalloc=n
    default_inc_excludes_dot=define
    bincompat5005=undef
  Compiler:
    cc='cc'
    ccflags ='-fwrapv -fno-strict-aliasing -pipe -fstack-protector -I/usr/local/include -D_LARGEFILE_SOURCE -D_FILE_OFFSET_BITS=64 -D_FORTIFY_SOURCE=2'
    optimize='-O2'
    cppflags='-fwrapv -fno-strict-aliasing -pipe -fstack-protector -I/usr/local/include'
    ccversion=''
    gccversion='4.4.7 20120313 (Red Hat 4.4.7-18)'
    gccosandvers=''
    intsize=4
    longsize=8
    ptrsize=8
    doublesize=8
    byteorder=12345678
    doublekind=3
    d_longlong=define
    longlongsize=8
    d_longdbl=define
    longdblsize=16
    longdblkind=3
    ivtype='long'
    ivsize=8
    nvtype='double'
    nvsize=8
    Off_t='off_t'
    lseeksize=8
    alignbytes=8
    prototype=define
  Linker and Libraries:
    ld='cc'
    ldflags =' -fstack-protector -L/usr/local/lib'
    libpth=/usr/local/lib /usr/lib /lib/../lib64 /usr/lib/../lib64 /lib /lib64 /usr/lib64 /usr/local/lib64
    libs=-lpthread -lnsl -lgdbm -ldb -ldl -lm -lcrypt -lutil -lc
    perllibs=-lpthread -lnsl -ldl -lm -lcrypt -lutil -lc
    libc=libc-2.12.so
    so=so
    useshrplib=false
    libperl=libperl.a
    gnulibc_version='2.12'
  Dynamic Linking:
    dlsrc=dl_dlopen.xs
    dlext=so
    d_dlsymun=undef
    ccdlflags='-Wl,-E'
    cccdlflags='-fPIC'
    lddlflags='-shared -O2 -L/usr/local/lib -fstack-protector'


Characteristics of this binary (from libperl): 
  Compile-time options:
    HAS_TIMES
    PERLIO_LAYERS
    PERL_COPY_ON_WRITE
    PERL_DONT_CREATE_GVSV
    PERL_MALLOC_WRAP
    PERL_OP_PARENT
    PERL_PRESERVE_IVUV
    USE_64_BIT_ALL
    USE_64_BIT_INT
    USE_LARGE_FILES
    USE_LOCALE
    USE_LOCALE_COLLATE
    USE_LOCALE_CTYPE
    USE_LOCALE_NUMERIC
    USE_LOCALE_TIME
    USE_PERLIO
    USE_PERL_ATOF
  Built under linux
  Compiled at Jun 27 2017 20:34:22
  %ENV:
    PERL5LIB="/home/cpansand/.cpan/build/2019042715/File-Find-CaseCollide-0.0.2-0/blib/arch:/home/cpansand/.cpan/build/2019042715/File-Find-CaseCollide-0.0.2-0/blib/lib:/home/cpansand/.cpan/build/2019042715/File-Find-Object-v0.3.2-1/blib/arch:/home/cpansand/.cpan/build/2019042715/File-Find-Object-v0.3.2-1/blib/lib:/home/cpansand/.cpan/build/2019042715/Class-XSAccessor-1.19-1/blib/arch:/home/cpansand/.cpan/build/2019042715/Class-XSAccessor-1.19-1/blib/lib:/home/cpansand/.cpan/build/2019042715/FFI-CheckLib-0.24-0/blib/arch:/home/cpansand/.cpan/build/2019042715/FFI-CheckLib-0.24-0/blib/lib:/home/cpansand/.cpan/build/2019042715/PPI-1.256-1/blib/arch:/home/cpansand/.cpan/build/2019042715/PPI-1.256-1/blib/lib:/home/cpansand/.cpan/build/2019042715/Test-InDistDir-1.112071-1/blib/arch:/home/cpansand/.cpan/build/2019042715/Test-InDistDir-1.112071-1/blib/lib:/home/cpansand/.cpan/build/2019042715/Inline-0.82_001-0/blib/arch:/home/cpansand/.cpan/build/2019042715/Inline-0.82_001-0/blib/lib:/home/cpansand/.cpan/build/2019042715/Lingua-EN-Inflect-1.904-1/blib/arch:/home/cpansand/.cpan/build/2019042715/Lingua-EN-Inflect-1.904-1/blib/lib"
    PERL5OPT=""
    PERL5_CPANPLUS_IS_RUNNING="9725"
    PERL5_CPAN_IS_RUNNING="9725"
    PERL5_CPAN_IS_RUNNING_IN_RECURSION="28638,9725"
    PERLDOC="-MPod::Perldoc::ToTextOverstrike"
    PERL_BATCH="yes"
    PERL_CANARY_STABILITY_NOPROMPT="1"
    PERL_CPAN_REPORTER_CONFIG="/var/tmp/cpansmoker-1023/2019042715/cpanreporter_000_config.ini"
    PERL_EXTUTILS_AUTOINSTALL="--defaultdeps"
    PERL_USE_UNSAFE_INC="1"
  @INC:
    /home/cpansand/.cpan/build/2019042715/File-Find-CaseCollide-0.0.2-0/blib/arch
    /home/cpansand/.cpan/build/2019042715/File-Find-CaseCollide-0.0.2-0/blib/lib
    /home/cpansand/.cpan/build/2019042715/File-Find-Object-v0.3.2-1/blib/arch
    /home/cpansand/.cpan/build/2019042715/File-Find-Object-v0.3.2-1/blib/lib
    /home/cpansand/.cpan/build/2019042715/Class-XSAccessor-1.19-1/blib/arch
    /home/cpansand/.cpan/build/2019042715/Class-XSAccessor-1.19-1/blib/lib
    /home/cpansand/.cpan/build/2019042715/FFI-CheckLib-0.24-0/blib/arch
    /home/cpansand/.cpan/build/2019042715/FFI-CheckLib-0.24-0/blib/lib
    /home/cpansand/.cpan/build/2019042715/PPI-1.256-1/blib/arch
    /home/cpansand/.cpan/build/2019042715/PPI-1.256-1/blib/lib
    /home/cpansand/.cpan/build/2019042715/Test-InDistDir-1.112071-1/blib/arch
    /home/cpansand/.cpan/build/2019042715/Test-InDistDir-1.112071-1/blib/lib
    /home/cpansand/.cpan/build/2019042715/Inline-0.82_001-0/blib/arch
    /home/cpansand/.cpan/build/2019042715/Inline-0.82_001-0/blib/lib
    /home/cpansand/.cpan/build/2019042715/Lingua-EN-Inflect-1.904-1/blib/arch
    /home/cpansand/.cpan/build/2019042715/Lingua-EN-Inflect-1.904-1/blib/lib
    /opt/perl-5.26.0/lib/site_perl/5.26.0/x86_64-linux
    /opt/perl-5.26.0/lib/site_perl/5.26.0
    /opt/perl-5.26.0/lib/5.26.0/x86_64-linux
    /opt/perl-5.26.0/lib/5.26.0
    .