Back
From: metabase:user:30f4dfbe-2aae-11df-837a-5e0a49663a4f
Subject: PASS Test-LWP-Recorder-0.1.1 v5.14.0 SunOS/Solaris
Date: 2015-11-17T10:52:54Z
This distribution has been tested as part of the CPAN Testers
project, supporting the Perl programming language. See
http://wiki.cpantesters.org/ for more information or email
questions to cpan-testers-discuss@perl.org
--
Dear Edward J. Allen III,
This is a computer-generated report for Test-LWP-Recorder-0.1.1
on perl 5.14.0, created by CPAN-Reporter-1.2015.
Thank you for uploading your work to CPAN. Congratulations!
All tests were successful.
Sections of this report:
* Tester comments
* Program output
* Prerequisites
* Environment and other context
------------------------------
TESTER COMMENTS
------------------------------
Additional comments from tester:
this report is from an automated smoke testing program
and was not reviewed by a human for accuracy
------------------------------
PROGRAM OUTPUT
------------------------------
Output from './Build test':
t/00-compile.t ................ ok
#
#
# perl: v5.14.0 (wanted 5.006) on solaris from /export/home/njh/perl5/perlbrew/perls/perl-5.14.0/bin/perl5.14.0
#
# Carp => 1.36 (want any version)
# Digest::MD5 => 2.54 (want any version)
# File::Find => 1.19 (want any version)
# File::Slurp => 9999.19 (want any version)
# File::Spec => 3.47 (want any version)
# File::Temp => 0.2304 (want any version)
# HTTP::Response => 6.04 (want any version)
# HTTP::Status => 6.03 (want any version)
# LWP::UserAgent => 6.13 (want any version)
# LWPx::Record::DataSection => 0.01 (want any version)
# List::Util => 1.42 (want any version)
# Module::Build => 0.4005 (want 0.3601)
# Pod::Coverage::TrustPod => module not found. (want any version)
# Test::More => 1.001014 (want 0.88)
# Test::Pod => 1.51 (want 1.41)
# Test::Pod::Coverage => 1.10 (want 1.08)
# base => 2.18 (want any version)
# lib => 0.63 (want any version)
# strict => 1.04 (want any version)
# warnings => 1.12 (want any version)
#
# Thanks for using my code. I hope it works for you.
# If not, please try and include this output in the bug report.
# That will help me reproduce the issue and solve you problem.
#
t/000-report-versions-tiny.t .. ok
t/author-critic.t ............. skipped: these tests are for testing by the author
t/author-pod-spell.t .......... skipped: these tests are for testing by the author
t/lwpxtest.t .................. ok
t/lwpxtest_02.t ............... ok
t/release-pod-coverage.t ...... skipped: these tests are for release candidate testing
t/release-pod-linkcheck.t ..... skipped: these tests are for release candidate testing
t/release-pod-syntax.t ........ skipped: these tests are for release candidate testing
All tests successful.
Files=9, Tests=14, 1 wallclock secs ( 0.05 usr 0.03 sys + 0.50 cusr 0.34 csys = 0.92 CPU)
Result: PASS
------------------------------
PREREQUISITES
------------------------------
Prerequisite modules loaded:
requires:
Module Need Have
------------------------- ------ --------
base 0 2.18
Carp 0 1.36
Digest::MD5 0 2.54
File::Slurp 0 9999.19
File::Spec 0 3.47
HTTP::Response 0 6.04
HTTP::Status 0 6.03
List::Util 0 1.42
LWP::UserAgent 0 6.13
perl 5.006 5.014000
strict 0 1.04
warnings 0 1.12
build_requires:
Module Need Have
------------------------- ------ --------
File::Find 0 1.19
File::Temp 0 0.2304
lib 0 0.63
LWPx::Record::DataSection 0 0.01
Module::Build 0.3601 0.4005
Test::More 0.88 1.001014
configure_requires:
Module Need Have
------------------------- ------ --------
Module::Build 0.3601 0.4005
------------------------------
ENVIRONMENT AND OTHER CONTEXT
------------------------------
Environment variables:
AUTOMATED_TESTING = 1
PATH = /export/home/njh/perl5/perlbrew/bin:/export/home/njh/perl5/perlbrew/perls/perl-5.14.0/bin:/export/home/njh/perl5/perlbrew/bin:/usr/bin
PERL5LIB = /export/home/njh/.cpan/build/LWPx-Record-DataSection-0.01-IN4KUD/blib/arch:/export/home/njh/.cpan/build/LWPx-Record-DataSection-0.01-IN4KUD/blib/lib:/export/home/njh/.cpan/build/CGI-Simple-1.115-rZ5XdD/blib/arch:/export/home/njh/.cpan/build/CGI-Simple-1.115-rZ5XdD/blib/lib:/export/home/njh/.cpan/build/IO-stringy-2.111-9tJ3ft/blib/arch:/export/home/njh/.cpan/build/IO-stringy-2.111-9tJ3ft/blib/lib:/export/home/njh/.cpan/build/File-Slurp-9999.19-uagpE0/blib/arch:/export/home/njh/.cpan/build/File-Slurp-9999.19-uagpE0/blib/lib:/export/home/njh/.cpan/build/Text-Trim-1.02-LCr0vH/blib/arch:/export/home/njh/.cpan/build/Text-Trim-1.02-LCr0vH/blib/lib:/export/home/njh/.cpan/build/Tie-ToObject-0.03-TilUVF/blib/arch:/export/home/njh/.cpan/build/Tie-ToObject-0.03-TilUVF/blib/lib
PERL5OPT =
PERL5_CPANPLUS_IS_RUNNING = 26199
PERL5_CPAN_IS_RUNNING = 26199
PERL5_MINISMOKEBOX = 0.58
PERLBREW_BASHRC_VERSION = 0.73
PERLBREW_LIB =
PERLBREW_MANPATH = /export/home/njh/perl5/perlbrew/perls/perl-5.14.0/man
PERLBREW_PATH = /export/home/njh/perl5/perlbrew/bin:/export/home/njh/perl5/perlbrew/perls/perl-5.14.0/bin
PERLBREW_PERL = perl-5.14.0
PERLBREW_ROOT = /export/home/njh/perl5/perlbrew
PERLBREW_VERSION = 0.73
PERL_EXTUTILS_AUTOINSTALL = --defaultdeps
PERL_LOCAL_LIB_ROOT =
PERL_MM_USE_DEFAULT = 1
SHELL = /usr/bin/sh
TERM = dumb
Perl special variables (and OS-specific diagnostics, for MSWin32):
$^X = /export/home/njh/perl5/perlbrew/perls/perl-5.14.0/bin/perl5.14.0
$UID/$EUID = 100 / 100
$GID = 10 10
$EGID = 10 10
Perl module toolchain versions installed:
Module Have
------------------- --------
CPAN 1.9800
CPAN::Meta 2.150005
Cwd 3.47
ExtUtils::CBuilder 0.280224
ExtUtils::Command 7.10
ExtUtils::Install 2.04
ExtUtils::MakeMaker 7.10
ExtUtils::Manifest 1.65
ExtUtils::ParseXS 3.30
File::Spec 3.47
JSON 2.90
JSON::PP 2.27300
Module::Build 0.4005
Module::Signature n/a
Parse::CPAN::Meta 1.4417
Test::Harness 3.28
Test::More 1.001014
YAML 1.15
YAML::Syck 1.29
version 0.9912
--
Summary of my perl5 (revision 5 version 14 subversion 0) configuration:
Platform:
osname=solaris, osvers=2.11, archname=i86pc-solaris-thread-multi
uname='sunos solaris11.bandsman.co.uk 5.11 11.2 i86pc i386 i86pc '
config_args='-de -Dprefix=/export/home/njh/perl5/perlbrew/perls/perl-5.14.0 -Duseithreads -Dusemultiplicity -Dusedevel -Accflags=-O2 -W -Wformat=2 -Wswitch -Wshadow -Wwrite-strings -Wuninitialized -Wall -pipe -mtune=native -march=native -fomit-frame-pointer -msse2 -msse -mmmx -mfpmath=sse -D_FORTIFY_SOURCE=2 -Wpointer-arith -Wstrict-prototypes -fstack-protector -Wstack-protector -Wextra -Wbad-function-cast -Wcast-align -Wcast-qual -Wdisabled-optimization -Wendif-labels -Wfloat-equal -Wformat-nonliteral -Winline -Wmissing-declarations -Wmissing-prototypes -Wnested-externs -Wpointer-arith -Wundef -Wformat-security -ftree-vectorize -Acc=gcc -Aeval:scriptdir=/export/home/njh/perl5/perlbrew/perls/perl-5.14.0/bin'
hint=recommended, useposix=true, d_sigaction=define
useithreads=define, usemultiplicity=define
useperlio=define, d_sfio=undef, uselargefiles=define, usesocks=undef
use64bitint=undef, use64bitall=undef, uselongdouble=undef
usemymalloc=n, bincompat5005=undef
Compiler:
cc=' gcc', ccflags ='-D_REENTRANT -O2 -W -Wformat=2 -Wswitch -Wshadow -Wwrite-strings -Wuninitialized -Wall -pipe -mtune=native -march=native -fomit-frame-pointer -msse2 -msse -mmmx -mfpmath=sse -D_FORTIFY_SOURCE=2 -Wpointer-arith -Wstrict-prototypes -fstack-protector -Wstack-protector -Wextra -Wbad-function-cast -Wcast-align -Wcast-qual -Wdisabled-optimization -Wendif-labels -Wfloat-equal -Wformat-nonliteral -Winline -Wmissing-declarations -Wmissing-prototypes -Wnested-externs -Wpointer-arith -Wundef -Wformat-security -ftree-vectorize -fno-strict-aliasing -I/usr/gnu/include -D_LARGEFILE_SOURCE -D_FILE_OFFSET_BITS=64 -DPERL_USE_SAFE_PUTENV',
optimize='-O',
cppflags='-D_REENTRANT -O2 -W -Wformat=2 -Wswitch -Wshadow -Wwrite-strings -Wuninitialized -Wall -pipe -mtune=native -march=native -fomit-frame-pointer -msse2 -msse -mmmx -mfpmath=sse -D_FORTIFY_SOURCE=2 -Wpointer-arith -Wstrict-prototypes -fstack-protector -Wstack-protector -Wextra -Wbad-function-cast -Wcast-align -Wcast-qual -Wdisabled-optimization -Wendif-labels -Wfloat-equal -Wformat-nonliteral -Winline -Wmissing-declarations -Wmissing-prototypes -Wnested-externs -Wpointer-arith -Wundef -Wformat-security -ftree-vectorize -fno-strict-aliasing -I/usr/gnu/include'
ccversion='', gccversion='4.8.2', gccosandvers=''
intsize=4, longsize=4, ptrsize=4, doublesize=8, byteorder=1234
d_longlong=define, longlongsize=8, d_longdbl=define, longdblsize=12
ivtype='long', ivsize=4, nvtype='double', nvsize=8, Off_t='off_t', lseeksize=8
alignbytes=4, prototype=define
Linker and Libraries:
ld=' gcc', ldflags =' -fstack-protector -L/usr/gnu/lib '
libpth=/usr/gnu/lib /usr/lib /usr/ccs/lib
libs=-lsocket -lnsl -lgdbm -ldb -ldl -lm -lpthread -lc
perllibs=-lsocket -lnsl -ldl -lm -lpthread -lc
libc=/lib/libc.so, so=so, useshrplib=false, libperl=libperl.a
gnulibc_version=''
Dynamic Linking:
dlsrc=dl_dlopen.xs, dlext=so, d_dlsymun=undef, ccdlflags=' '
cccdlflags='-fPIC', lddlflags='-shared -L/usr/gnu/lib -fstack-protector'
Characteristics of this binary (from libperl):
Compile-time options: MULTIPLICITY PERL_DONT_CREATE_GVSV
PERL_IMPLICIT_CONTEXT PERL_MALLOC_WRAP
PERL_PRESERVE_IVUV PERL_USE_DEVEL
PERL_USE_SAFE_PUTENV USE_ITHREADS USE_LARGE_FILES
USE_PERLIO USE_PERL_ATOF USE_REENTRANT_API
Locally applied patches:
Devel::PatchPerl 1.34
Built under solaris
Compiled at May 3 2015 11:11:11
%ENV:
PERL5LIB="/export/home/njh/.cpan/build/LWPx-Record-DataSection-0.01-IN4KUD/blib/arch:/export/home/njh/.cpan/build/LWPx-Record-DataSection-0.01-IN4KUD/blib/lib:/export/home/njh/.cpan/build/CGI-Simple-1.115-rZ5XdD/blib/arch:/export/home/njh/.cpan/build/CGI-Simple-1.115-rZ5XdD/blib/lib:/export/home/njh/.cpan/build/IO-stringy-2.111-9tJ3ft/blib/arch:/export/home/njh/.cpan/build/IO-stringy-2.111-9tJ3ft/blib/lib:/export/home/njh/.cpan/build/File-Slurp-9999.19-uagpE0/blib/arch:/export/home/njh/.cpan/build/File-Slurp-9999.19-uagpE0/blib/lib:/export/home/njh/.cpan/build/Text-Trim-1.02-LCr0vH/blib/arch:/export/home/njh/.cpan/build/Text-Trim-1.02-LCr0vH/blib/lib:/export/home/njh/.cpan/build/Tie-ToObject-0.03-TilUVF/blib/arch:/export/home/njh/.cpan/build/Tie-ToObject-0.03-TilUVF/blib/lib"
PERL5OPT=""
PERL5_CPANPLUS_IS_RUNNING="26199"
PERL5_CPAN_IS_RUNNING="26199"
PERL5_MINISMOKEBOX="0.58"
PERLBREW_BASHRC_VERSION="0.73"
PERLBREW_LIB=""
PERLBREW_MANPATH="/export/home/njh/perl5/perlbrew/perls/perl-5.14.0/man"
PERLBREW_PATH="/export/home/njh/perl5/perlbrew/bin:/export/home/njh/perl5/perlbrew/perls/perl-5.14.0/bin"
PERLBREW_PERL="perl-5.14.0"
PERLBREW_ROOT="/export/home/njh/perl5/perlbrew"
PERLBREW_VERSION="0.73"
PERL_EXTUTILS_AUTOINSTALL="--defaultdeps"
PERL_LOCAL_LIB_ROOT=""
PERL_MM_USE_DEFAULT="1"
@INC:
/export/home/njh/.cpan/build/LWPx-Record-DataSection-0.01-IN4KUD/blib/arch
/export/home/njh/.cpan/build/LWPx-Record-DataSection-0.01-IN4KUD/blib/lib
/export/home/njh/.cpan/build/CGI-Simple-1.115-rZ5XdD/blib/arch
/export/home/njh/.cpan/build/CGI-Simple-1.115-rZ5XdD/blib/lib
/export/home/njh/.cpan/build/IO-stringy-2.111-9tJ3ft/blib/arch
/export/home/njh/.cpan/build/IO-stringy-2.111-9tJ3ft/blib/lib
/export/home/njh/.cpan/build/File-Slurp-9999.19-uagpE0/blib/arch
/export/home/njh/.cpan/build/File-Slurp-9999.19-uagpE0/blib/lib
/export/home/njh/.cpan/build/Text-Trim-1.02-LCr0vH/blib/arch
/export/home/njh/.cpan/build/Text-Trim-1.02-LCr0vH/blib/lib
/export/home/njh/.cpan/build/Tie-ToObject-0.03-TilUVF/blib/arch
/export/home/njh/.cpan/build/Tie-ToObject-0.03-TilUVF/blib/lib
/export/home/njh/perl5/perlbrew/perls/perl-5.14.0/lib/site_perl/5.14.0/i86pc-solaris-thread-multi
/export/home/njh/perl5/perlbrew/perls/perl-5.14.0/lib/site_perl/5.14.0
/export/home/njh/perl5/perlbrew/perls/perl-5.14.0/lib/5.14.0/i86pc-solaris-thread-multi
/export/home/njh/perl5/perlbrew/perls/perl-5.14.0/lib/5.14.0
.