YAML v1.27 Perl 5 v5.26.2 x86_64-linux-thread-multi
- Status
- Pass
- From
- Nick Alcock
- Dist
-
YAML v1.27
- Platform
- Perl 5 v5.26.2 x86_64-linux-thread-multi
- Date
- 2018-12-08 17:04:42
- ID
- 5ade93d8-fb0b-11e8-905d-9fe06e35cde7
This distribution has been tested as part of the CPAN Testers
project, supporting the Perl programming language. See
http://wiki.cpantesters.org/ for more information or email
questions to cpan-testers-discuss@perl.org
--
Dear Tina Muller,
This is a computer-generated report for YAML-1.27
on perl 5.26.2, created by CPAN-Reporter-1.2018.
Thank you for uploading your work to CPAN. Congratulations!
All tests were successful.
Sections of this report:
* Tester comments
* Program output
* Prerequisites
* Environment and other context
------------------------------
TESTER COMMENTS
------------------------------
Additional comments from tester:
none provided
------------------------------
PROGRAM OUTPUT
------------------------------
Output from '/usr/bin/make test':
PERL_DL_NONLAZY=1 "/pkg/perl/5.26.2-14/usr/bin/perl" "-MExtUtils::Command::MM" "-MTest::Harness" "-e" "undef *Test::Harness::Switches; test_harness(0, 'blib/lib', 'blib/arch')" t/*.t
t/000-compile-modules.t ............ ok
t/2-scalars.t ...................... ok
t/author-pod-syntax.t .............. skipped: these tests are for testing by the author
t/basic-tests.t .................... ok
t/bugs-emailed.t ................... ok
t/bugs-rt.t ........................ ok
t/changes.t ........................ ok
t/dump-basics.t .................... ok
t/dump-blessed-glob.t .............. ok
t/dump-blessed.t ................... ok
t/dump-code.t ...................... ok
t/dump-file-utf8.t ................. ok
t/dump-file.t ...................... ok
t/dump-nested.t .................... ok
t/dump-opts.t ...................... ok
t/dump-perl-types-512.t ............ skipped: test only for perls before v5.13.5-11-gfb85c04
t/dump-perl-types-514.t ............ ok
t/dump-perl-types.t ................ ok
t/dump-stringify.t ................. ok
t/dump-stringy-numbers.t ........... ok
t/dump-synopsis.t .................. ok
t/dump-tests-512.t ................. skipped: test only for perls before v5.13.5-11-gfb85c04
t/dump-tests-514.t ................. ok
t/dump-tests.t ..................... ok
t/dump-works.t ..................... ok
t/errors.t ......................... ok
t/export.t ......................... ok
t/freeze-thaw.t .................... ok
t/global-api.t ..................... ok
t/inbox.t .......................... ok
t/io-handle.t ...................... ok
t/issue-149.t ...................... ok
t/issue-69.t ....................... ok
t/load-code.t ...................... ok
t/load-fails.t ..................... ok
t/load-passes.t .................... ok
t/load-slides.t .................... ok
t/load-spec.t ...................... ok
t/load-tests.t ..................... ok
t/load-works.t ..................... ok
t/marshall.t ....................... ok
t/no-load-blessed.t ................ ok
t/node-info.t ...................... ok
t/numify.t ......................... ok
t/preserve.t ....................... ok
t/pugs-objects.t ................... ok
t/references.t ..................... ok
t/regexp.t ......................... ok
t/roundtrip.t ...................... ok
t/rt-90593.t ....................... ok
t/svk.t ............................ ok
t/test.t ........................... ok
t/trailing-comments-content.t ...... ok
t/trailing-comments-non-content.t .. ok
All tests successful.
Files=54, Tests=541, 9 wallclock secs ( 0.26 usr 0.04 sys + 8.21 cusr 0.46 csys = 8.97 CPU)
Result: PASS
------------------------------
PREREQUISITES
------------------------------
Prerequisite modules loaded:
requires:
Module Need Have
------------------- -------- --------
perl 5.008001 5.026002
build_requires:
Module Need Have
------------------- -------- --------
Encode 0 2.98
ExtUtils::MakeMaker 0 7.34
Test::Deep 0 1.128
Test::More 0.88 1.302141
Test::YAML 1.05 1.07
configure_requires:
Module Need Have
------------------- -------- --------
ExtUtils::MakeMaker 0 7.34
------------------------------
ENVIRONMENT AND OTHER CONTEXT
------------------------------
Environment variables:
LANG = en_GB.UTF-8
LC_COLLATE = C
PATH = /root/bin:/root/bin:/usr/bin:/bin:/usr/sbin:/sbin:/usr/games
PERL5LIB =
PERL5OPT =
PERL5_CPANPLUS_IS_RUNNING = 104686
PERL5_CPAN_IS_RUNNING = 104686
PERL_USE_UNSAFE_INC = 1
SHELL = /bin/bash
TERM = xterm-256color
Perl special variables (and OS-specific diagnostics, for MSWin32):
$^X = /pkg/perl/5.26.2-14/usr/bin/perl
$UID/$EUID = 0 / 0
$GID = 0 0 1 2 3 4 6 10 11 16 25 72 73 80
$EGID = 0 0 1 2 3 4 6 10 11 16 25 72 73 80
Perl module toolchain versions installed:
Module Have
------------------- --------
CPAN 2.18
CPAN::Meta 2.150010
Cwd 3.75
ExtUtils::CBuilder 0.280230
ExtUtils::Command 7.34
ExtUtils::Install 2.14
ExtUtils::MakeMaker 7.34
ExtUtils::Manifest 1.71
ExtUtils::ParseXS 3.35
File::Spec 3.75
JSON 4.00
JSON::PP 4.00
Module::Build 0.4224
Module::Signature 0.83
Parse::CPAN::Meta 2.150010
Test::Harness 3.42
Test::More 1.302141
YAML 1.26
YAML::Syck 1.30
version 0.9924
--
Summary of my perl5 (revision 5 version 26 subversion 2) configuration:
Local Commit: d466eac9557b33e8e69c2e0a8e223652bc692da6
Ancestor: ec1caca18cd82b52415e8d49701f71e4035de2cc
Platform:
osname=linux
osvers=4.15.12-00009-g24d82701fc6c-dirty
archname=x86_64-linux-thread-multi
uname='linux loom 4.15.12-00009-g24d82701fc6c-dirty #2 smp thu mar 22 09:40:08 gmt 2018 x86_64 gnulinux '
config_args='-d -e -Duseithreads -D privlib=/usr/lib/perl5/5.26 -D sitelib=/usr/lib/perl5/site_perl/5.26 -D optimize=-Wstrict-overflow=1 -gdwarf-4 -feliminate-unused-debug-types -fvar-tracking-assignments -O2 -pipe '
hint=recommended
useposix=true
d_sigaction=define
useithreads=define
usemultiplicity=define
use64bitint=define
use64bitall=define
uselongdouble=undef
usemymalloc=n
default_inc_excludes_dot=define
bincompat5005=undef
Compiler:
cc='gcc'
ccflags ='-D_REENTRANT -D_GNU_SOURCE -D_REENTRANT -D_GNU_SOURCE -g -fno-strict-aliasing -D_LARGEFILE_SOURCE -D_FILE_OFFSET_BITS=64 -pipe -fstack-protector-strong -fwrapv -D_LARGEFILE_SOURCE -D_FILE_OFFSET_BITS=64 -D_FORTIFY_SOURCE=2'
optimize='-Wstrict-overflow=1 -gdwarf-4 -feliminate-unused-debug-types -fvar-tracking-assignments -O2 -pipe '
cppflags='-D_REENTRANT -D_GNU_SOURCE -D_REENTRANT -D_GNU_SOURCE -g -fno-strict-aliasing -D_LARGEFILE_SOURCE -D_FILE_OFFSET_BITS=64 -pipe -fstack-protector-strong -fwrapv'
ccversion=''
gccversion='6.4.1 20171107'
gccosandvers=''
intsize=4
longsize=8
ptrsize=8
doublesize=8
byteorder=12345678
doublekind=3
d_longlong=define
longlongsize=8
d_longdbl=define
longdblsize=16
longdblkind=3
ivtype='long'
ivsize=8
nvtype='double'
nvsize=8
Off_t='off_t'
lseeksize=8
alignbytes=8
prototype=define
Linker and Libraries:
ld='gcc'
ldflags ='-Wl,--enable-new-dtags -fstack-protector-strong -L/usr/local/lib'
libpth=/usr/lib /lib /pkg/gcc/6.4.0-246/usr/bin/../lib/gcc/x86_64-pc-linux-gnu/6.4.1/include-fixed /usr/local/lib /usr/lib /lib/64 /usr/lib/64 /lib64 /usr/lib64 /usr/local/lib64
libs=-lpthread -lgdbm -ldb -ldl -lm -lcrypt -lutil -lc -lgdbm_compat
perllibs=-lpthread -ldl -lm -lcrypt -lutil -lc
libc=libc-2.27.so
so=so
useshrplib=true
libperl=libperl.so
gnulibc_version='2.27'
Dynamic Linking:
dlsrc=dl_dlopen.xs
dlext=so
d_dlsymun=undef
ccdlflags='-Wl,-E -Wl,-rpath,/usr/lib/perl5/5.26/x86_64-linux-thread-multi/CORE'
cccdlflags='-fPIC'
lddlflags='-shared -Wstrict-overflow=1 -gdwarf-4 -feliminate-unused-debug-types -fvar-tracking-assignments -O2 -pipe -L/usr/local/lib -fstack-protector-strong'
Characteristics of this binary (from libperl):
Compile-time options:
HAS_TIMES
MULTIPLICITY
PERLIO_LAYERS
PERL_COPY_ON_WRITE
PERL_DONT_CREATE_GVSV
PERL_IMPLICIT_CONTEXT
PERL_MALLOC_WRAP
PERL_OP_PARENT
PERL_PRESERVE_IVUV
USE_64_BIT_ALL
USE_64_BIT_INT
USE_ITHREADS
USE_LARGE_FILES
USE_LOCALE
USE_LOCALE_COLLATE
USE_LOCALE_CTYPE
USE_LOCALE_NUMERIC
USE_LOCALE_TIME
USE_PERLIO
USE_PERL_ATOF
USE_REENTRANT_API
Locally applied patches:
29a80fa538040a712640c4baf61ff06681be2871
819d33dd453108278801122a71747b2a6bfa0cd5
bb4859a6c66a0bd22b6002060f5153f9ce8e4592
6a2f43687dfd1ccf235bdc2aef008921a332703b
7a6cd6acd699e6f30c81e35f58aa10b2e317a290
9434249e51f572afc805ecef3e0e6085de12b73b
4aa6418113117d76edb5c6564ca87ce2113d612a
398b59b749ddf1984a49fc86324f98052b141a45
Built under linux
Compiled at Apr 20 2018 12:03:49
%ENV:
PERL5LIB=""
PERL5OPT=""
PERL5_CPANPLUS_IS_RUNNING="104686"
PERL5_CPAN_IS_RUNNING="104686"
PERL_USE_UNSAFE_INC="1"
@INC:
/usr/lib/perl5/site_perl/5.26/x86_64-linux-thread-multi
/usr/lib/perl5/site_perl/5.26
/usr/lib/perl5/5.26/x86_64-linux-thread-multi
/usr/lib/perl5/5.26
.