Dist-Zilla-Plugin-CheckExtraTests v0.029 Perl 5 v5.24.3 x86_64-linux-thread-multi-ld
- Status
- Pass
- From
- Andreas J. König (ANDK)
- Dist
-
Dist-Zilla-Plugin-CheckExtraTests v0.029
- Platform
- Perl 5 v5.24.3 x86_64-linux-thread-multi-ld
- Date
- 2017-10-06 23:44:54
- ID
- 5a4e402e-aaf0-11e7-9af0-5afeeebcb7dc
This distribution has been tested as part of the CPAN Testers
project, supporting the Perl programming language. See
http://wiki.cpantesters.org/ for more information or email
questions to cpan-testers-discuss@perl.org
--
Dear David Golden,
This is a computer-generated report for Dist-Zilla-Plugin-CheckExtraTests-0.029
on perl 5.24.3, created by CPAN-Reporter-1.2018.
Thank you for uploading your work to CPAN. Congratulations!
All tests were successful.
Sections of this report:
* Tester comments
* Program output
* Prerequisites
* Environment and other context
------------------------------
TESTER COMMENTS
------------------------------
Additional comments from tester:
this report is from an automated smoke testing program
and was not reviewed by a human for accuracy
------------------------------
PROGRAM OUTPUT
------------------------------
Output from '/usr/bin/make test':
PERL_DL_NONLAZY=1 "/home/sand/src/perl/repoperls/installed-perls/host/k93msid/v5.24.3/a1a1/bin/perl" "-MExtUtils::Command::MM" "-MTest::Harness" "-e" "undef *Test::Harness::Switches; test_harness(0, 'blib/lib', 'blib/arch')" t/*.t
#
# Versions for all modules listed in MYMETA.json (including optional ones):
#
# === Configure Requires ===
#
# Module Want Have
# ------------------- ---- -------
# ExtUtils::MakeMaker 6.17 7.31_04
#
# === Configure Suggests ===
#
# Module Want Have
# -------- ------- ----------
# JSON::PP 2.27300 2.27300_01
#
# === Build Requires ===
#
# Module Want Have
# ------------------- ---- -------
# ExtUtils::MakeMaker any 7.31_04
#
# === Test Requires ===
#
# Module Want Have
# ------------------------ ---- --------
# Capture::Tiny any 0.46
# Dist::Zilla::App::Tester any 6.010
# ExtUtils::MakeMaker any 7.31_04
# File::Spec any 3.63_01
# Params::Util any 1.07
# Sub::Exporter any 0.987
# Test::More 0.88 1.302098
# Test::Requires any 0.10
# Try::Tiny any 0.28
# lib any 0.63
#
# === Test Recommends ===
#
# Module Want Have
# ---------- -------- --------
# CPAN::Meta 2.120900 2.150010
#
# === Runtime Requires ===
#
# Module Want Have
# -------------------------------- ----- ------
# App::Prove 3.00 3.39
# Archive::Tar any 2.26
# Dist::Zilla 4.3 6.010
# Dist::Zilla::App any 6.010
# Dist::Zilla::Role::BeforeRelease any 6.010
# Dist::Zilla::Role::TestRunner any 6.010
# File::pushd any 1.014
# Moose 2 2.2006
# Path::Iterator::Rule any 1.012
# Path::Tiny 0.013 0.104
# namespace::autoclean 0.09 0.28
# strict any 1.11
# warnings any 1.36
#
t/00-report-prereqs.t .. ok
t/checkxt.t ............ ok
t/runxt.t .............. ok
t/withblib.t ........... ok
All tests successful.
Files=4, Tests=20, 26 wallclock secs ( 0.03 usr 0.04 sys + 9.71 cusr 3.83 csys = 13.61 CPU)
Result: PASS
------------------------------
PREREQUISITES
------------------------------
Prerequisite modules loaded:
requires:
Module Need Have
-------------------------------- ----- --------
App::Prove 3.00 3.39
Archive::Tar 0 2.26
Dist::Zilla 4.3 6.010
Dist::Zilla::App 0 6.010
Dist::Zilla::Role::BeforeRelease 0 6.010
Dist::Zilla::Role::TestRunner 0 6.010
File::pushd 0 1.014
Moose 2 2.2006
namespace::autoclean 0.09 0.28
Path::Iterator::Rule 0 1.012
Path::Tiny 0.013 0.104
perl 5.006 5.024003
strict 0 1.11
warnings 0 1.36
build_requires:
Module Need Have
-------------------------------- ----- --------
Capture::Tiny 0 0.46
Dist::Zilla::App::Tester 0 6.010
ExtUtils::MakeMaker 0 7.31_04
File::Spec 0 3.63_01
lib 0 0.63
Params::Util 0 1.07
Sub::Exporter 0 0.987
Test::More 0.88 1.302098
Test::Requires 0 0.10
Try::Tiny 0 0.28
configure_requires:
Module Need Have
-------------------------------- ----- --------
ExtUtils::MakeMaker 6.17 7.31_04
perl 5.006 5.024003
------------------------------
ENVIRONMENT AND OTHER CONTEXT
------------------------------
Environment variables:
AUTOMATED_TESTING = 1
LANG = en_US.UTF-8
PATH = /home/sand/bin:/usr/local/bin:/usr/bin:/bin:/usr/games:/usr/local/perl/bin:/usr/X11/bin:/sbin:/usr/sbin
PERL5LIB =
PERL5OPT =
PERL5_CPANPLUS_IS_RUNNING = 30553
PERL5_CPAN_IS_RUNNING = 30553
PERL5_CPAN_IS_RUNNING_IN_RECURSION = 15736,30553
PERL_CANARY_STABILITY_NOPROMPT = 1
PERL_MM_USE_DEFAULT = 1
PERL_USE_UNSAFE_INC = 1
SHELL = /usr/bin/zsh
TERM = screen
Perl special variables (and OS-specific diagnostics, for MSWin32):
$^X = /home/sand/src/perl/repoperls/installed-perls/host/k93msid/v5.24.3/a1a1/bin/perl
$UID/$EUID = 1005 / 1005
$GID = 1005 1005
$EGID = 1005 1005
Perl module toolchain versions installed:
Module Have
------------------- ----------
CPAN 2.18
CPAN::Meta 2.150010
Cwd 3.63_01
ExtUtils::CBuilder 0.280226
ExtUtils::Command 7.31_04
ExtUtils::Install 2.06
ExtUtils::MakeMaker 7.31_04
ExtUtils::Manifest 1.70
ExtUtils::ParseXS 3.31
File::Spec 3.63_01
JSON 2.94
JSON::PP 2.27300_01
Module::Build 0.4224
Module::Signature 0.81
Parse::CPAN::Meta 2.150010
Test::Harness 3.39
Test::More 1.302098
YAML 1.23
YAML::Syck 1.30
version 0.9916
--
Summary of my perl5 (revision 5 version 24 subversion 3) configuration:
Derived from: 9f1d3884c227a955e9ecaaadba4cba3280c47e3a
Platform:
osname=linux, osvers=4.12.0-2-amd64, archname=x86_64-linux-thread-multi-ld
uname='linux k93msid 4.12.0-2-amd64 #1 smp debian 4.12.13-1 (2017-09-19) x86_64 gnulinux '
config_args='-Dprefix=/home/sand/src/perl/repoperls/installed-perls/host/k93msid/v5.24.3/a1a1 -Dmyhostname=k93msid -Dinstallusrbinperl=n -Uversiononly -Dusedevel -des -Ui_db -Dlibswanted=cl pthread socket inet nsl gdbm dbm malloc dl ld sun m crypt sec util c cposix posix ucb BSD gdbm_compat -Duseithreads -Duselongdouble -DDEBUGGING=both'
hint=recommended, useposix=true, d_sigaction=define
useithreads=define, usemultiplicity=define
use64bitint=define, use64bitall=define, uselongdouble=define
usemymalloc=n, bincompat5005=undef
Compiler:
cc='cc', ccflags ='-D_REENTRANT -D_GNU_SOURCE -fwrapv -DDEBUGGING -fno-strict-aliasing -pipe -fstack-protector-strong -I/usr/local/include -D_LARGEFILE_SOURCE -D_FILE_OFFSET_BITS=64 -D_FORTIFY_SOURCE=2',
optimize='-O2 -g',
cppflags='-D_REENTRANT -D_GNU_SOURCE -fwrapv -DDEBUGGING -fno-strict-aliasing -pipe -fstack-protector-strong -I/usr/local/include'
ccversion='', gccversion='7.2.0', gccosandvers=''
intsize=4, longsize=8, ptrsize=8, doublesize=8, byteorder=12345678, doublekind=3
d_longlong=define, longlongsize=8, d_longdbl=define, longdblsize=16, longdblkind=3
ivtype='long', ivsize=8, nvtype='long double', nvsize=16, Off_t='off_t', lseeksize=8
alignbytes=16, prototype=define
Linker and Libraries:
ld='cc', ldflags =' -fstack-protector-strong -L/usr/local/lib'
libpth=/usr/local/lib /usr/lib/gcc/x86_64-linux-gnu/7/include-fixed /usr/include/x86_64-linux-gnu /usr/lib /lib/x86_64-linux-gnu /lib/../lib /usr/lib/x86_64-linux-gnu /usr/lib/../lib /lib
libs=-lpthread -lnsl -ldl -lm -lcrypt -lutil -lc
perllibs=-lpthread -lnsl -ldl -lm -lcrypt -lutil -lc
libc=libc-2.24.so, so=so, useshrplib=false, libperl=libperl.a
gnulibc_version='2.24'
Dynamic Linking:
dlsrc=dl_dlopen.xs, dlext=so, d_dlsymun=undef, ccdlflags='-Wl,-E'
cccdlflags='-fPIC', lddlflags='-shared -O2 -g -L/usr/local/lib -fstack-protector-strong'
Characteristics of this binary (from libperl):
Compile-time options: DEBUGGING HAS_TIMES MULTIPLICITY PERLIO_LAYERS
PERL_COPY_ON_WRITE PERL_DONT_CREATE_GVSV
PERL_HASH_FUNC_ONE_AT_A_TIME_HARD
PERL_IMPLICIT_CONTEXT PERL_MALLOC_WRAP
PERL_PRESERVE_IVUV PERL_TRACK_MEMPOOL PERL_USE_DEVEL
USE_64_BIT_ALL USE_64_BIT_INT USE_ITHREADS
USE_LARGE_FILES USE_LOCALE USE_LOCALE_COLLATE
USE_LOCALE_CTYPE USE_LOCALE_NUMERIC USE_LOCALE_TIME
USE_LONG_DOUBLE USE_PERLIO USE_PERL_ATOF
USE_REENTRANT_API
Locally applied patches:
uncommitted-changes
Built under linux
Compiled at Oct 1 2017 23:01:23
%ENV:
PERL5LIB=""
PERL5OPT=""
PERL5_CPANPLUS_IS_RUNNING="30553"
PERL5_CPAN_IS_RUNNING="30553"
PERL5_CPAN_IS_RUNNING_IN_RECURSION="15736,30553"
PERL_CANARY_STABILITY_NOPROMPT="1"
PERL_MM_USE_DEFAULT="1"
PERL_USE_UNSAFE_INC="1"
@INC:
/home/sand/src/perl/repoperls/installed-perls/host/k93msid/v5.24.3/a1a1/lib/site_perl/5.24.3/x86_64-linux-thread-multi-ld
/home/sand/src/perl/repoperls/installed-perls/host/k93msid/v5.24.3/a1a1/lib/site_perl/5.24.3
/home/sand/src/perl/repoperls/installed-perls/host/k93msid/v5.24.3/a1a1/lib/5.24.3/x86_64-linux-thread-multi-ld
/home/sand/src/perl/repoperls/installed-perls/host/k93msid/v5.24.3/a1a1/lib/5.24.3
.