Devel-CheckLib v1.11 Perl 5 v5.16.3 i386-freebsd-thread-multi
- Status
- Pass
- From
- Nigel Horne
- Dist
-
Devel-CheckLib v1.11
- Platform
- Perl 5 v5.16.3 i386-freebsd-thread-multi
- Date
- 2018-04-08 18:33:37
- ID
- 5a155e2a-3b5b-11e8-91ce-d3e3deac0b3f
This distribution has been tested as part of the CPAN Testers
project, supporting the Perl programming language. See
http://wiki.cpantesters.org/ for more information or email
questions to cpan-testers-discuss@perl.org
--
Dear Yasuhiro Matsumoto,
This is a computer-generated report for Devel-CheckLib-1.11
on perl 5.16.3, created by CPAN-Reporter-1.2017.
Thank you for uploading your work to CPAN. Congratulations!
All tests were successful.
Sections of this report:
* Tester comments
* Program output
* Prerequisites
* Environment and other context
------------------------------
TESTER COMMENTS
------------------------------
Additional comments from tester:
this report is from an automated smoke testing program
and was not reviewed by a human for accuracy
------------------------------
PROGRAM OUTPUT
------------------------------
Output from '/usr/bin/make test':
PERL_DL_NONLAZY=1 "/usr/home/njh/perl5/perlbrew/perls/perl-5.16.3/bin/perl" "-MExtUtils::Command::MM" "-MTest::Harness" "-e" "undef *Test::Harness::Switches; test_harness(0, 'blib/lib', 'blib/arch')" t/*.t
t/00-load.t ................... ok
t/analyze-binary.t ............ ok
Name "Config::STORE" used only once: possible typo at t/bad-single-word-compiler.t line 18.
t/bad-single-word-compiler.t .. ok
t/cmdline-LIBS-INC.t .......... ok
t/custom-function.t ........... ok
t/dash-l-libs.t ............... ok
t/exit_with_message.t ......... ok
t/flags.t ..................... ok
t/found.t ..................... ok
t/headers.t ................... ok
Name "Config::STORE" used only once: possible typo at t/multi-word-compiler.t line 18.
t/multi-word-compiler.t ....... ok
t/not_found.t ................. ok
All tests successful.
Files=12, Tests=42, 160 wallclock secs ( 0.59 usr 0.31 sys + 38.95 cusr 16.34 csys = 56.19 CPU)
Result: PASS
------------------------------
PREREQUISITES
------------------------------
Prerequisite modules loaded:
requires:
Module Need Have
------------------- ------- --------
Exporter 0 5.72
File::Spec 0 3.47
File::Temp 0.16 0.2304
perl 5.00405 5.016003
build_requires:
Module Need Have
------------------- ------- --------
IO::CaptureOutput 1.0801 1.1104
Mock::Config 0.02 0.03
Test::More 0.62 1.302073
configure_requires:
Module Need Have
------------------- ------- --------
ExtUtils::MakeMaker 0 7.10
------------------------------
ENVIRONMENT AND OTHER CONTEXT
------------------------------
Environment variables:
AUTOMATED_TESTING = 1
PATH = /home/njh/perl5/perlbrew/bin:/home/njh/perl5/perlbrew/perls/perl-5.16.3/bin:src/njh/smoker/bin:/usr/local/bin:/bin:/usr/bin
PERL5LIB = /home/njh/.cpan/build/Mock-Config-0.03-0/blib/arch:/home/njh/.cpan/build/Mock-Config-0.03-0/blib/lib:/home/njh/.cpan/build/Compress-LZF-3.8-0/blib/arch:/home/njh/.cpan/build/Compress-LZF-3.8-0/blib/lib:/home/njh/.cpan/build/Bundle-IO-Compress-Bzip2-2.081-0/blib/arch:/home/njh/.cpan/build/Bundle-IO-Compress-Bzip2-2.081-0/blib/lib:/home/njh/.cpan/build/Bundle-Compress-Zlib-2.081-0/blib/arch:/home/njh/.cpan/build/Bundle-Compress-Zlib-2.081-0/blib/lib:/home/njh/.cpan/build/Jacode4e-2.13.6.5-0/blib/arch:/home/njh/.cpan/build/Jacode4e-2.13.6.5-0/blib/lib
PERL5OPT =
PERL5_CPANPLUS_IS_RUNNING = 45043
PERL5_CPAN_IS_RUNNING = 45043
PERLBREW_BASHRC_VERSION = 0.80
PERLBREW_HOME = /home/njh/.perlbrew
PERLBREW_MANPATH = /home/njh/perl5/perlbrew/perls/perl-5.16.3/man
PERLBREW_PATH = /home/njh/perl5/perlbrew/bin:/home/njh/perl5/perlbrew/perls/perl-5.16.3/bin
PERLBREW_PERL = perl-5.16.3
PERLBREW_ROOT = /home/njh/perl5/perlbrew
PERLBREW_VERSION = 0.80
SHELL = /bin/sh
Perl special variables (and OS-specific diagnostics, for MSWin32):
$^X = /usr/home/njh/perl5/perlbrew/perls/perl-5.16.3/bin/perl
$UID/$EUID = 1000 / 1000
$GID = 1000 1000 0
$EGID = 1000 1000 0
Perl module toolchain versions installed:
Module Have
------------------- --------
CPAN 2.16
CPAN::Meta 2.150005
Cwd 3.47
ExtUtils::CBuilder 0.280224
ExtUtils::Command 7.10
ExtUtils::Install 2.04
ExtUtils::MakeMaker 7.10
ExtUtils::Manifest 1.65
ExtUtils::ParseXS 3.30
File::Spec 3.47
JSON 2.90
JSON::PP 2.27300
Module::Build 0.4210
Module::Signature n/a
Parse::CPAN::Meta 1.4422
Test::Harness 3.34
Test::More 1.302073
YAML 1.23
YAML::Syck 1.29
version 0.99
--
Summary of my perl5 (revision 5 version 16 subversion 3) configuration:
Platform:
osname=freebsd, osvers=9.1-release, archname=i386-freebsd-thread-multi
uname='freebsd amber 9.1-release freebsd 9.1-release #0 r243826: tue dec 4 06:55:39 utc 2012 root@obrian.cse.buffalo.edu:usrobjusrsrcsysgeneric i386 '
config_args='-de -Dprefix=/home/njh/perl5/perlbrew/perls/perl-5.16.3 -Duseithreads -Dusemultiplicity -Accflags=-O2 -W -Wformat=2 -Wswitch -Wshadow -Wwrite-strings -Wuninitialized -Wall -pipe -mtune=native -march=native -fomit-frame-pointer -msse2 -msse -mmmx -mfpmath=sse -pedantic -D_FORTIFY_SOURCE=2 -Wpointer-arith -Wstrict-prototypes -fstack-protector -Wstack-protector -Wextra -Wbad-function-cast -Wcast-align -Wcast-qual -Wdisabled-optimization -Wendif-labels -Wfloat-equal -Wformat-nonliteral -Winline -Wmissing-declarations -Wmissing-prototypes -Wnested-externs -Wpointer-arith -Wundef -Wformat-security -ftree-vectorize -Aeval:scriptdir=/home/njh/perl5/perlbrew/perls/perl-5.16.3/bin'
hint=recommended, useposix=true, d_sigaction=define
useithreads=define, usemultiplicity=define
useperlio=define, d_sfio=undef, uselargefiles=define, usesocks=undef
use64bitint=undef, use64bitall=undef, uselongdouble=undef
usemymalloc=n, bincompat5005=undef
Compiler:
cc='cc', ccflags ='-DHAS_FPSETMASK -DHAS_FLOATINGPOINT_H -O2 -W -Wformat=2 -Wswitch -Wshadow -Wwrite-strings -Wuninitialized -Wall -pipe -mtune=native -march=native -fomit-frame-pointer -msse2 -msse -mmmx -mfpmath=sse -pedantic -D_FORTIFY_SOURCE=2 -Wpointer-arith -Wstrict-prototypes -fstack-protector -Wstack-protector -Wextra -Wbad-function-cast -Wcast-align -Wcast-qual -Wdisabled-optimization -Wendif-labels -Wfloat-equal -Wformat-nonliteral -Winline -Wmissing-declarations -Wmissing-prototypes -Wnested-externs -Wpointer-arith -Wundef -Wformat-security -ftree-vectorize -fno-strict-aliasing -I/usr/local/include',
optimize='-O',
cppflags='-DHAS_FPSETMASK -DHAS_FLOATINGPOINT_H -O2 -W -Wformat=2 -Wswitch -Wshadow -Wwrite-strings -Wuninitialized -Wall -pipe -mtune=native -march=native -fomit-frame-pointer -msse2 -msse -mmmx -mfpmath=sse -pedantic -D_FORTIFY_SOURCE=2 -Wpointer-arith -Wstrict-prototypes -fstack-protector -Wstack-protector -Wextra -Wbad-function-cast -Wcast-align -Wcast-qual -Wdisabled-optimization -Wendif-labels -Wfloat-equal -Wformat-nonliteral -Winline -Wmissing-declarations -Wmissing-prototypes -Wnested-externs -Wpointer-arith -Wundef -Wformat-security -ftree-vectorize -fno-strict-aliasing -I/usr/local/include'
ccversion='', gccversion='4.2.1 20070831 patched [FreeBSD]', gccosandvers=''
intsize=4, longsize=4, ptrsize=4, doublesize=8, byteorder=1234
d_longlong=define, longlongsize=8, d_longdbl=define, longdblsize=12
ivtype='long', ivsize=4, nvtype='double', nvsize=8, Off_t='off_t', lseeksize=8
alignbytes=4, prototype=define
Linker and Libraries:
ld='cc', ldflags ='-pthread -Wl,-E -fstack-protector -L/usr/local/lib'
libpth=/usr/lib /usr/local/lib
libs=-lm -lcrypt
perllibs=-lm -lcrypt
libc=, so=so, useshrplib=false, libperl=libperl.a
gnulibc_version=''
Dynamic Linking:
dlsrc=dl_dlopen.xs, dlext=so, d_dlsymun=undef, ccdlflags=' '
cccdlflags='-DPIC -fPIC', lddlflags='-shared -L/usr/local/lib -fstack-protector'
Characteristics of this binary (from libperl):
Compile-time options: HAS_TIMES MULTIPLICITY PERLIO_LAYERS
PERL_DONT_CREATE_GVSV PERL_IMPLICIT_CONTEXT
PERL_MALLOC_WRAP PERL_PRESERVE_IVUV USE_ITHREADS
USE_LARGE_FILES USE_LOCALE USE_LOCALE_COLLATE
USE_LOCALE_CTYPE USE_LOCALE_NUMERIC USE_PERLIO
USE_PERL_ATOF USE_REENTRANT_API
Built under freebsd
Compiled at Jul 22 2013 18:46:22
%ENV:
PERL5LIB="/home/njh/.cpan/build/Mock-Config-0.03-0/blib/arch:/home/njh/.cpan/build/Mock-Config-0.03-0/blib/lib:/home/njh/.cpan/build/Compress-LZF-3.8-0/blib/arch:/home/njh/.cpan/build/Compress-LZF-3.8-0/blib/lib:/home/njh/.cpan/build/Bundle-IO-Compress-Bzip2-2.081-0/blib/arch:/home/njh/.cpan/build/Bundle-IO-Compress-Bzip2-2.081-0/blib/lib:/home/njh/.cpan/build/Bundle-Compress-Zlib-2.081-0/blib/arch:/home/njh/.cpan/build/Bundle-Compress-Zlib-2.081-0/blib/lib:/home/njh/.cpan/build/Jacode4e-2.13.6.5-0/blib/arch:/home/njh/.cpan/build/Jacode4e-2.13.6.5-0/blib/lib"
PERL5OPT=""
PERL5_CPANPLUS_IS_RUNNING="45043"
PERL5_CPAN_IS_RUNNING="45043"
PERLBREW_BASHRC_VERSION="0.80"
PERLBREW_HOME="/home/njh/.perlbrew"
PERLBREW_MANPATH="/home/njh/perl5/perlbrew/perls/perl-5.16.3/man"
PERLBREW_PATH="/home/njh/perl5/perlbrew/bin:/home/njh/perl5/perlbrew/perls/perl-5.16.3/bin"
PERLBREW_PERL="perl-5.16.3"
PERLBREW_ROOT="/home/njh/perl5/perlbrew"
PERLBREW_VERSION="0.80"
@INC:
/home/njh/.cpan/build/Mock-Config-0.03-0/blib/arch
/home/njh/.cpan/build/Mock-Config-0.03-0/blib/lib
/home/njh/.cpan/build/Compress-LZF-3.8-0/blib/arch
/home/njh/.cpan/build/Compress-LZF-3.8-0/blib/lib
/home/njh/.cpan/build/Bundle-IO-Compress-Bzip2-2.081-0/blib/arch
/home/njh/.cpan/build/Bundle-IO-Compress-Bzip2-2.081-0/blib/lib
/home/njh/.cpan/build/Bundle-Compress-Zlib-2.081-0/blib/arch
/home/njh/.cpan/build/Bundle-Compress-Zlib-2.081-0/blib/lib
/home/njh/.cpan/build/Jacode4e-2.13.6.5-0/blib/arch
/home/njh/.cpan/build/Jacode4e-2.13.6.5-0/blib/lib
/home/njh/perl5/perlbrew/perls/perl-5.16.3/lib/site_perl/5.16.3/i386-freebsd-thread-multi
/home/njh/perl5/perlbrew/perls/perl-5.16.3/lib/site_perl/5.16.3
/home/njh/perl5/perlbrew/perls/perl-5.16.3/lib/5.16.3/i386-freebsd-thread-multi
/home/njh/perl5/perlbrew/perls/perl-5.16.3/lib/5.16.3
.