Report for Math-PlanePath-118

Back
From: metabase:user:00e8548a-0e72-11e3-8ee3-df0a9c418065
Subject: PASS Math-PlanePath-118 v5.16.3 GNU/Linux
Date: 2015-04-12T05:39:55Z

This distribution has been tested as part of the CPAN Testers
project, supporting the Perl programming language.  See
http://wiki.cpantesters.org/ for more information or email
questions to cpan-testers-discuss@perl.org


--
Dear Kevin Ryde,

This is a computer-generated report for Math-PlanePath-118
on perl 5.16.3, created by CPAN-Reporter-1.2014.

Thank you for uploading your work to CPAN.  Congratulations!
All tests were successful.

Sections of this report:

    * Tester comments
    * Program output
    * Prerequisites
    * Environment and other context

------------------------------
TESTER COMMENTS
------------------------------

Additional comments from tester:

this report is from an automated smoke testing program
and was not reviewed by a human for accuracy

------------------------------
PROGRAM OUTPUT
------------------------------

Output from '/usr/bin/make test':

PERL_DL_NONLAZY=1 "/usr/bin/perl" "-MExtUtils::Command::MM" "-MTest::Harness" "-e" "undef *Test::Harness::Switches; test_harness(0, 'blib/lib', 'blib/arch')" t/*.t
t/AlternatePaper.t .............. ok
t/AlternatePaperMidpoint.t ...... ok
t/AnvilSpiral.t ................. ok
t/ArchimedeanChords.t ........... ok
t/AztecDiamondRings.t ........... ok
# modulo operator dodginess ((~0)%2) != ((~0)&1): no
# round_down_pow(3) tests stop for round-off at i=34
t/Base-Digits.t ................. ok
# Data::Float not available
t/Base-Generic.t ................ ok
t/BetaOmeta.t ................... ok
# Math::BigFloat version 1.9993
# Math::BigInt version 1.9993
# +inf is inf
# -inf is -inf
# nan is NaN
t/bigfloat.t .................... ok
# skip due to Math::BigInt::Lite not available -- Can't locate Math/BigInt/Lite.pm in @INC (@INC contains: t /root/.cpan/build/Math-PlanePath-118-fhlt8W/blib/lib /root/.cpan/build/Math-PlanePath-118-fhlt8W/blib/arch /root/.cpan/build/constant-defer-6-WwO_sE/blib/arch /root/.cpan/build/constant-defer-6-WwO_sE/blib/lib /root/.cpan/build/Math-Libm-1.00-eO5VX3/blib/arch /root/.cpan/build/Math-Libm-1.00-eO5VX3/blib/lib /usr/local/lib64/perl5 /usr/local/share/perl5 /usr/lib64/perl5/vendor_perl /usr/share/perl5/vendor_perl /usr/lib64/perl5 /usr/share/perl5 .) at t/bigint-lite.t line 34.
# 
t/bigint-lite.t ................. ok
# Math::BigInt version 1.9993
# Math::BigInt version 1.9993
t/bigint.t ...................... ok
t/CCurve.t ...................... ok
# bitwise check rule=2
# bitwise check rule=4
# bitwise check rule=6
# bitwise check rule=10
# bitwise check rule=12
# bitwise check rule=14
# bitwise check rule=16
# bitwise check rule=18
# bitwise check rule=20
# bitwise check rule=24
# bitwise check rule=26
# bitwise check rule=34
# bitwise check rule=36
# bitwise check rule=38
# bitwise check rule=42
# bitwise check rule=44
# bitwise check rule=46
# bitwise check rule=48
# bitwise check rule=50
# bitwise check rule=52
# bitwise check rule=54
# bitwise check rule=56
# bitwise check rule=57
# bitwise check rule=58
# bitwise check rule=60
# bitwise check rule=66
# bitwise check rule=68
# bitwise check rule=74
# bitwise check rule=76
# bitwise check rule=80
# bitwise check rule=82
# bitwise check rule=84
# bitwise check rule=88
# bitwise check rule=90
# bitwise check rule=98
# bitwise check rule=99
# bitwise check rule=100
# bitwise check rule=102
# bitwise check rule=106
# bitwise check rule=108
# bitwise check rule=112
# bitwise check rule=114
# bitwise check rule=116
# bitwise check rule=120
# bitwise check rule=122
# bitwise check rule=130
# bitwise check rule=132
# bitwise check rule=134
# bitwise check rule=138
# bitwise check rule=140
# bitwise check rule=142
# bitwise check rule=144
# bitwise check rule=146
# bitwise check rule=148
# bitwise check rule=151
# bitwise check rule=152
# bitwise check rule=154
# bitwise check rule=159
# bitwise check rule=162
# bitwise check rule=164
# bitwise check rule=166
# bitwise check rule=170
# bitwise check rule=172
# bitwise check rule=174
# bitwise check rule=176
# bitwise check rule=178
# bitwise check rule=179
# bitwise check rule=180
# bitwise check rule=183
# bitwise check rule=184
# bitwise check rule=186
# bitwise check rule=190
# bitwise check rule=191
# bitwise check rule=194
# bitwise check rule=196
# bitwise check rule=202
# bitwise check rule=204
# bitwise check rule=206
# bitwise check rule=208
# bitwise check rule=210
# bitwise check rule=212
# bitwise check rule=215
# bitwise check rule=216
# bitwise check rule=218
# bitwise check rule=220
# bitwise check rule=222
# bitwise check rule=223
# bitwise check rule=226
# bitwise check rule=228
# bitwise check rule=234
# bitwise check rule=236
# bitwise check rule=238
# bitwise check rule=240
# bitwise check rule=242
# bitwise check rule=244
# bitwise check rule=246
# bitwise check rule=247
# bitwise check rule=248
# bitwise check rule=250
# bitwise check rule=252
# bitwise check rule=254
# bitwise check rule=255
# bitwise checks 102
t/CellularRule.t ................ ok
t/CellularRule190.t ............. ok
t/CfracDigits.t ................. ok
t/ChanTree.t .................... ok
t/CincoCurve.t .................. ok
t/Columns-load.t ................ ok
t/Columns.t ..................... ok
t/ComplexMinus.t ................ ok
t/ComplexPlus.t ................. ok
t/CoprimeColumns.t .............. ok
t/Corner.t ...................... ok
t/CornerReplicate.t ............. ok
t/CubicBase.t ................... ok
t/DekkingCurve.t ................ ok
t/DiagonalRationals.t ........... ok
t/Diagonals.t ................... ok
t/DiamondArms.t ................. ok
t/DiamondSpiral.t ............... ok
t/DigitGroups.t ................. ok
t/DivisibleColumns.t ............ ok
t/DragonCurve.t ................. ok
t/DragonMidpoint.t .............. ok
t/DragonRounded.t ............... ok
t/FactorRationals.t ............. ok
t/FibonacciWordFractal.t ........ ok
t/File.t ........................ ok
t/FilledRings.t ................. ok
t/Flowsnake.t ................... ok
t/FlowsnakeCentres.t ............ ok
t/GcdRationals.t ................ ok
t/GosperIslands.t ............... ok
t/GosperSide.t .................. ok
t/GrayCode.t .................... ok
t/GreekKeySpiral.t .............. ok
t/HexArms.t ..................... ok
t/HexSpiral-load.t .............. ok
t/HexSpiral.t ................... ok
t/HexSpiralSkewed-unskew.t ...... ok
t/HexSpiralSkewed.t ............. ok
t/HilbertCurve-load.t ........... ok
t/HilbertCurve.t ................ ok
t/HilbertSpiral.t ............... ok
t/HIndexing.t ................... ok
t/Hypot.t ....................... ok
t/HypotOctant.t ................. ok
t/ImaginaryBase.t ............... ok
t/ImaginaryHalf.t ............... ok
t/KnightSpiral.t ................ ok
t/KochCurve.t ................... ok
t/KochelCurve.t ................. ok
t/KochPeaks.t ................... ok
t/KochSnowflakes.t .............. ok
t/KochSquareflakes.t ............ ok
t/LTiling.t ..................... ok
t/MultipleRings.t ............... ok
# skip due to Number::Fraction 1.14 not available -- Can't locate Number/Fraction.pm in @INC (@INC contains: t /root/.cpan/build/Math-PlanePath-118-fhlt8W/blib/lib /root/.cpan/build/Math-PlanePath-118-fhlt8W/blib/arch /root/.cpan/build/constant-defer-6-WwO_sE/blib/arch /root/.cpan/build/constant-defer-6-WwO_sE/blib/lib /root/.cpan/build/Math-Libm-1.00-eO5VX3/blib/arch /root/.cpan/build/Math-Libm-1.00-eO5VX3/blib/lib /usr/local/lib64/perl5 /usr/local/share/perl5 /usr/lib64/perl5/vendor_perl /usr/share/perl5/vendor_perl /usr/lib64/perl5 /usr/share/perl5 .) at (eval 2) line 1.
# BEGIN failed--compilation aborted at (eval 2) line 1.
# 
t/number-fraction.t ............. ok
# skip due to Math::NumSeq not available -- Can't locate Math/NumSeq.pm in @INC (@INC contains: t /root/.cpan/build/Math-PlanePath-118-fhlt8W/blib/lib /root/.cpan/build/Math-PlanePath-118-fhlt8W/blib/arch /root/.cpan/build/constant-defer-6-WwO_sE/blib/arch /root/.cpan/build/constant-defer-6-WwO_sE/blib/lib /root/.cpan/build/Math-Libm-1.00-eO5VX3/blib/arch /root/.cpan/build/Math-Libm-1.00-eO5VX3/blib/lib /usr/local/lib64/perl5 /usr/local/share/perl5 /usr/lib64/perl5/vendor_perl /usr/share/perl5/vendor_perl /usr/lib64/perl5 /usr/share/perl5 .) at t/NumSeq-PlanePathCoord.t line 35.
# 
t/NumSeq-PlanePathCoord.t ....... ok
# skip due to Math::NumSeq not available -- Can't locate Math/NumSeq.pm in @INC (@INC contains: t /root/.cpan/build/Math-PlanePath-118-fhlt8W/blib/lib /root/.cpan/build/Math-PlanePath-118-fhlt8W/blib/arch /root/.cpan/build/constant-defer-6-WwO_sE/blib/arch /root/.cpan/build/constant-defer-6-WwO_sE/blib/lib /root/.cpan/build/Math-Libm-1.00-eO5VX3/blib/arch /root/.cpan/build/Math-Libm-1.00-eO5VX3/blib/lib /usr/local/lib64/perl5 /usr/local/share/perl5 /usr/lib64/perl5/vendor_perl /usr/share/perl5/vendor_perl /usr/lib64/perl5 /usr/share/perl5 .) at t/NumSeq-PlanePathDelta.t line 35.
# 
t/NumSeq-PlanePathDelta.t ....... ok
# skip due to Math::NumSeq not available -- Can't locate Math/NumSeq.pm in @INC (@INC contains: t /root/.cpan/build/Math-PlanePath-118-fhlt8W/blib/lib /root/.cpan/build/Math-PlanePath-118-fhlt8W/blib/arch /root/.cpan/build/constant-defer-6-WwO_sE/blib/arch /root/.cpan/build/constant-defer-6-WwO_sE/blib/lib /root/.cpan/build/Math-Libm-1.00-eO5VX3/blib/arch /root/.cpan/build/Math-Libm-1.00-eO5VX3/blib/lib /usr/local/lib64/perl5 /usr/local/share/perl5 /usr/lib64/perl5/vendor_perl /usr/share/perl5/vendor_perl /usr/lib64/perl5 /usr/share/perl5 .) at t/NumSeq-PlanePathN.t line 35.
# 
t/NumSeq-PlanePathN.t ........... ok
# skip due to Math::NumSeq not available -- Can't locate Math/NumSeq.pm in @INC (@INC contains: t /root/.cpan/build/Math-PlanePath-118-fhlt8W/blib/lib /root/.cpan/build/Math-PlanePath-118-fhlt8W/blib/arch /root/.cpan/build/constant-defer-6-WwO_sE/blib/arch /root/.cpan/build/constant-defer-6-WwO_sE/blib/lib /root/.cpan/build/Math-Libm-1.00-eO5VX3/blib/arch /root/.cpan/build/Math-Libm-1.00-eO5VX3/blib/lib /usr/local/lib64/perl5 /usr/local/share/perl5 /usr/lib64/perl5/vendor_perl /usr/share/perl5/vendor_perl /usr/lib64/perl5 /usr/share/perl5 .) at t/NumSeq-PlanePathTurn.t line 35.
# 
t/NumSeq-PlanePathTurn.t ........ ok
t/PeanoCurve-load.t ............. ok
t/PeanoCurve.t .................. ok
t/PixelRings.t .................. ok
t/PlanePath.t ................... ok
t/PyramidRows.t ................. ok
# have_53bits: 1
t/PythagoreanTree.t ............. ok
t/QuadricCurve.t ................ ok
t/QuadricIslands.t .............. ok
t/QuintetCentres.t .............. ok
t/QuintetCurve.t ................ ok
t/RationalsTree.t ............... ok
t/Rows-load.t ................... ok
t/Rows.t ........................ ok
t/SacksSpiral.t ................. ok
t/SierpinskiArrowhead.t ......... ok
t/SierpinskiArrowheadCentres.t .. ok
t/SierpinskiCurve.t ............. ok
t/SierpinskiCurveStair.t ........ ok
t/SierpinskiTriangle.t .......... ok
t/SquareSpiral.t ................ ok
t/Staircase.t ................... ok
t/StaircaseAlternating.t ........ ok
t/TerdragonCurve.t .............. ok
t/TerdragonMidpoint.t ........... ok
t/TheodorusSpiral.t ............. ok
t/TriangularHypot.t ............. ok
t/UlamWarburton.t ............... ok
t/UlamWarburtonQuarter.t ........ ok
t/VogelFloret.t ................. ok
t/WythoffArray.t ................ ok
t/ZOrderCurve.t ................. ok
All tests successful.
Files=103, Tests=34671, 15 wallclock secs ( 1.99 usr  0.19 sys + 13.10 cusr  0.75 csys = 16.03 CPU)
Result: PASS

------------------------------
PREREQUISITES
------------------------------

Prerequisite modules loaded:

requires:

    Module              Need  Have    
    ------------------- ----- --------
    constant            1.02  1.27    
    constant::defer     5     6       
    List::Util          0     1.41    
    Math::Libm          0     1.00    
    perl                5.004 5.016003

build_requires:

    Module              Need  Have    
    ------------------- ----- --------
    ExtUtils::MakeMaker 0     7.04    
    Test                0     1.26    

configure_requires:

    Module              Need  Have    
    ------------------- ----- --------
    ExtUtils::MakeMaker 0     7.04    


------------------------------
ENVIRONMENT AND OTHER CONTEXT
------------------------------

Environment variables:

    AUTOMATED_TESTING = 1
    LANG = en_US.UTF-8
    PATH = /usr/local/sbin:/usr/local/bin:/usr/sbin:/usr/bin:/root/bin
    PERL5LIB = /root/.cpan/build/constant-defer-6-WwO_sE/blib/arch:/root/.cpan/build/constant-defer-6-WwO_sE/blib/lib:/root/.cpan/build/Math-Libm-1.00-eO5VX3/blib/arch:/root/.cpan/build/Math-Libm-1.00-eO5VX3/blib/lib
    PERL5OPT = 
    PERL5_CPANPLUS_IS_RUNNING = 26255
    PERL5_CPAN_IS_RUNNING = 26255
    PERL5_CPAN_IS_RUNNING_IN_RECURSION = 9227,26255
    PERL_CR_SMOKER_CURRENT = Math-PlanePath-118
    PERL_EXTUTILS_AUTOINSTALL = --defaultdeps
    PERL_MM_USE_DEFAULT = 1
    SHELL = /bin/bash
    TERM = linux

Perl special variables (and OS-specific diagnostics, for MSWin32):

    $^X = /usr/bin/perl
    $UID/$EUID = 0 / 0
    $GID = 0 0
    $EGID = 0 0

Perl module toolchain versions installed:

    Module              Have    
    ------------------- --------
    CPAN                2.10    
    CPAN::Meta          2.150001
    Cwd                 3.47    
    ExtUtils::CBuilder  0.280220
    ExtUtils::Command   1.20    
    ExtUtils::Install   2.04    
    ExtUtils::MakeMaker 7.04    
    ExtUtils::Manifest  1.70    
    ExtUtils::ParseXS   3.24    
    File::Spec          3.47    
    JSON                2.61    
    JSON::PP            2.27300 
    Module::Build       0.4211  
    Module::Signature   0.73    
    Parse::CPAN::Meta   1.4414  
    Test::Harness       3.35    
    Test::More          1.001014
    YAML                1.14    
    YAML::Syck          n/a     
    version             0.9912  


--

Summary of my perl5 (revision 5 version 16 subversion 3) configuration:
   
  Platform:
    osname=linux, osvers=2.6.32-220.17.1.el6.x86_64, archname=x86_64-linux-thread-multi
    uname='linux worker1.bsys.centos.org 2.6.32-220.17.1.el6.x86_64 #1 smp wed may 16 00:01:37 bst 2012 x86_64 x86_64 x86_64 gnulinux '
    config_args='-des -Doptimize=-O2 -g -pipe -Wall -Wp,-D_FORTIFY_SOURCE=2 -fexceptions -fstack-protector-strong --param=ssp-buffer-size=4 -grecord-gcc-switches   -m64 -mtune=generic -Dccdlflags=-Wl,--enable-new-dtags -Dlddlflags=-shared -O2 -g -pipe -Wall -Wp,-D_FORTIFY_SOURCE=2 -fexceptions -fstack-protector-strong --param=ssp-buffer-size=4 -grecord-gcc-switches   -m64 -mtune=generic -Wl,-z,relro  -DDEBUGGING=-g -Dversion=5.16.3 -Dmyhostname=localhost -Dperladmin=root@localhost -Dcc=gcc -Dcf_by=Red Hat, Inc. -Dprefix=/usr -Dvendorprefix=/usr -Dsiteprefix=/usr/local -Dsitelib=/usr/local/share/perl5 -Dsitearch=/usr/local/lib64/perl5 -Dprivlib=/usr/share/perl5 -Dvendorlib=/usr/share/perl5/vendor_perl -Darchlib=/usr/lib64/perl5 -Dvendorarch=/usr/lib64/perl5/vendor_perl -Darchname=x86_64-linux-thread-multi -Dlibpth=/usr/local/lib64 /lib64 /usr/lib64 -Duseshrplib -Dusethreads -Duseithreads -Dusedtrace=/usr/bin/dtrace -Duselargefiles -Dd_semctl_semun -Di_db -Ui_ndbm -Di_gdbm -Di_shadow -Di_syslog -Dman3ext=3pm -Duseperlio -Dinstallusrbinperl=n -Ubincompat5005 -Uversiononly -Dpager=/usr/bin/less -isr -Dd_gethostent_r_proto -Ud_endhostent_r_proto -Ud_sethostent_r_proto -Ud_endprotoent_r_proto -Ud_setprotoent_r_proto -Ud_endservent_r_proto -Ud_setservent_r_proto -Dscriptdir=/usr/bin -Dusesitecustomize'
    hint=recommended, useposix=true, d_sigaction=define
    useithreads=define, usemultiplicity=define
    useperlio=define, d_sfio=undef, uselargefiles=define, usesocks=undef
    use64bitint=define, use64bitall=define, uselongdouble=undef
    usemymalloc=n, bincompat5005=undef
  Compiler:
    cc='gcc', ccflags ='-D_REENTRANT -D_GNU_SOURCE -fno-strict-aliasing -pipe -fstack-protector -I/usr/local/include -D_LARGEFILE_SOURCE -D_FILE_OFFSET_BITS=64',
    optimize='-O2 -g -pipe -Wall -Wp,-D_FORTIFY_SOURCE=2 -fexceptions -fstack-protector-strong --param=ssp-buffer-size=4 -grecord-gcc-switches -m64 -mtune=generic',
    cppflags='-D_REENTRANT -D_GNU_SOURCE -fno-strict-aliasing -pipe -fstack-protector -I/usr/local/include'
    ccversion='', gccversion='4.8.3 20140911 (Red Hat 4.8.3-9)', gccosandvers=''
    intsize=4, longsize=8, ptrsize=8, doublesize=8, byteorder=12345678
    d_longlong=define, longlongsize=8, d_longdbl=define, longdblsize=16
    ivtype='long', ivsize=8, nvtype='double', nvsize=8, Off_t='off_t', lseeksize=8
    alignbytes=8, prototype=define
  Linker and Libraries:
    ld='gcc', ldflags =' -fstack-protector'
    libpth=/usr/local/lib64 /lib64 /usr/lib64
    libs=-lresolv -lnsl -lgdbm -ldb -ldl -lm -lcrypt -lutil -lpthread -lc -lgdbm_compat
    perllibs=-lresolv -lnsl -ldl -lm -lcrypt -lutil -lpthread -lc
    libc=, so=so, useshrplib=true, libperl=libperl.so
    gnulibc_version='2.17'
  Dynamic Linking:
    dlsrc=dl_dlopen.xs, dlext=so, d_dlsymun=undef, ccdlflags='-Wl,--enable-new-dtags -Wl,-rpath,/usr/lib64/perl5/CORE'
    cccdlflags='-fPIC', lddlflags='-shared -O2 -g -pipe -Wall -Wp,-D_FORTIFY_SOURCE=2 -fexceptions -fstack-protector-strong --param=ssp-buffer-size=4 -grecord-gcc-switches -m64 -mtune=generic -Wl,-z,relro '


Characteristics of this binary (from libperl): 
  Compile-time options: HAS_TIMES MULTIPLICITY PERLIO_LAYERS
                        PERL_DONT_CREATE_GVSV PERL_IMPLICIT_CONTEXT
                        PERL_MALLOC_WRAP PERL_PRESERVE_IVUV USE_64_BIT_ALL
                        USE_64_BIT_INT USE_ITHREADS USE_LARGE_FILES
                        USE_LOCALE USE_LOCALE_COLLATE USE_LOCALE_CTYPE
                        USE_LOCALE_NUMERIC USE_PERLIO USE_PERL_ATOF
                        USE_REENTRANT_API USE_SITECUSTOMIZE
  Locally applied patches:
	Fedora Patch1: Removes date check, Fedora/RHEL specific
	Fedora Patch3: support for libdir64
	Fedora Patch4: use libresolv instead of libbind
	Fedora Patch5: USE_MM_LD_RUN_PATH
	Fedora Patch6: Skip hostname tests, due to builders not being network capable
	Fedora Patch7: Dont run one io test due to random builder failures
	Fedora Patch9: Fix find2perl to translate ? glob properly (RT#113054)
	Fedora Patch10: Fix broken atof (RT#109318)
	Fedora Patch13: Clear $@ before "do" I/O error (RT#113730)
	Fedora Patch14: Do not truncate syscall() return value to 32 bits (RT#113980)
	Fedora Patch15: Override the Pod::Simple::parse_file (CPANRT#77530)
	Fedora Patch16: Do not leak with attribute on my variable (RT#114764)
	Fedora Patch17: Allow operator after numeric keyword argument (RT#105924)
	Fedora Patch18: Extend stack in File::Glob::glob, (RT#114984)
	Fedora Patch19: Do not crash when vivifying $|
	Fedora Patch20: Fix misparsing of maketext strings (CVE-2012-6329)
	Fedora Patch21: Add NAME headings to CPAN modules (CPANRT#73396)
	Fedora Patch22: Fix leaking tied hashes (RT#107000) [1]
	Fedora Patch23: Fix leaking tied hashes (RT#107000) [2]
	Fedora Patch24: Fix leaking tied hashes (RT#107000) [3]
	Fedora Patch25: Fix dead lock in PerlIO after fork from thread (RT#106212)
	Fedora Patch26: Make regexp safe in a signal handler (RT#114878)
	Fedora Patch27: Update h2ph(1) documentation (RT#117647)
	Fedora Patch28: Update pod2html(1) documentation (RT#117623)
	Fedora Patch29: Document Math::BigInt::CalcEmu requires Math::BigInt (CPAN RT#85015)
	RHEL Patch30: Use stronger algorithm needed for FIPS in t/op/crypt.t (RT#121591)
	RHEL Patch31: Make *DBM_File desctructors thread-safe (RT#61912)
	RHEL Patch32: Use stronger algorithm needed for FIPS in t/op/taint.t (RT#123338)
  Built under linux
  Compiled at Mar  6 2015 05:05:52
  %ENV:
    PERL5LIB="/root/.cpan/build/constant-defer-6-WwO_sE/blib/arch:/root/.cpan/build/constant-defer-6-WwO_sE/blib/lib:/root/.cpan/build/Math-Libm-1.00-eO5VX3/blib/arch:/root/.cpan/build/Math-Libm-1.00-eO5VX3/blib/lib"
    PERL5OPT=""
    PERL5_CPANPLUS_IS_RUNNING="26255"
    PERL5_CPAN_IS_RUNNING="26255"
    PERL5_CPAN_IS_RUNNING_IN_RECURSION="9227,26255"
    PERL_CR_SMOKER_CURRENT="Math-PlanePath-118"
    PERL_EXTUTILS_AUTOINSTALL="--defaultdeps"
    PERL_MM_USE_DEFAULT="1"
  @INC:
    /root/.cpan/build/constant-defer-6-WwO_sE/blib/arch
    /root/.cpan/build/constant-defer-6-WwO_sE/blib/lib
    /root/.cpan/build/Math-Libm-1.00-eO5VX3/blib/arch
    /root/.cpan/build/Math-Libm-1.00-eO5VX3/blib/lib
    /usr/local/lib64/perl5
    /usr/local/share/perl5
    /usr/lib64/perl5/vendor_perl
    /usr/share/perl5/vendor_perl
    /usr/lib64/perl5
    /usr/share/perl5
    .