Report for Cikl-0.03

Back
From: metabase:user:31d414ea-2aae-11df-837a-5e0a49663a4f
Subject: PASS Cikl-0.03 v5.18.1 GNU/Linux
Date: 2014-03-04T16:59:28Z

This distribution has been tested as part of the CPAN Testers
project, supporting the Perl programming language.  See
http://wiki.cpantesters.org/ for more information or email
questions to cpan-testers-discuss@perl.org


--
Dear Michael Ryan,

This is a computer-generated report for Cikl-0.03
on perl 5.18.1, created by CPAN-Reporter-1.2010.

Thank you for uploading your work to CPAN.  Congratulations!
All tests were successful.

Sections of this report:

    * Tester comments
    * Program output
    * Prerequisites
    * Environment and other context

------------------------------
TESTER COMMENTS
------------------------------

Additional comments from tester:

this report is from an automated smoke testing program
and was not reviewed by a human for accuracy

------------------------------
PROGRAM OUTPUT
------------------------------

Output from './Build test':

t/Cikl.t ........................... ok
t/Cikl/DataTypes/Asn.t ............. ok
t/Cikl/DataTypes/Integer.t ......... ok
t/Cikl/DataTypes/LowerCaseStr.t .... ok
t/Cikl/DataTypes/Url.t ............. ok
t/Cikl/Models/Address/asn.t ........ ok
t/Cikl/Models/Address/email.t ...... ok
t/Cikl/Models/Address/fqdn.t ....... ok
t/Cikl/Models/Address/ipv4.t ....... ok
t/Cikl/Models/Address/ipv4_cidr.t .. ok
t/Cikl/Models/Address/url.t ........ ok
t/Cikl/Models/Event.t .............. ok
t/Cikl/Util/TimeHelpers.t .......... ok
All tests successful.
Files=13, Tests=141,  4 wallclock secs ( 0.07 usr  0.06 sys +  1.52 cusr  0.25 csys =  1.90 CPU)
Result: PASS

------------------------------
PREREQUISITES
------------------------------

Prerequisite modules loaded:

requires:

    Module                      Need     Have      
    --------------------------- -------- ----------
    AnyEvent                    7.05     7.07      
    AnyEvent::RabbitMQ          1.15     1.15      
    Config::Simple              4.58     4.58      
    Coro                        6.31     6.37      
    Cwd                         3.40     3.40      
    DateTime                    0.70     1.07      
    DateTime::Format::DateParse 0.05     0.05      
    DateTime::Format::Strptime  1.54     1.54      
    Digest::MD5                 2.51     2.53      
    Digest::SHA                 5.70     5.84_01   
    Encode                      2.44     2.49      
    File::Spec                  3.40     3.40      
    File::Type                  0.22     0.22      
    Getopt::Long                0        2.39      
    IO::Uncompress::Unzip       2.02     2.060     
    JSON::XS                    2.34     3.01      
    List::MoreUtils             0.33     0.33      
    Log::Dispatch               2.32     2.41      
    LWP::Protocol::https        6.03     6.04      
    LWP::UserAgent              6.02     6.05      
    LWPx::ParanoidAgent         1.09     1.10      
    Mail::RFC822::Address       0.3      0.3       
    MIME::Base64                3.13     3.13      
    MIME::Lite                  3.027    3.030     
    Module::Pluggable           3.9      5.1       
    Mouse                       v2.0.0   2.1.0     
  ! Net::RabbitFoot             1.03     n/a       
    Net::SSLeay                 1.43     1.55      
    perl                        5.014    5.018001  
    Regexp::Common              2.122    2013031301
    Regexp::Common::net::CIDR   0.02     0.02      
    Storable                    2.27     2.41      
    Text::CSV_XS                1.00     1.04      
    Text::Table                 1.127    1.129     
    Time::HiRes                 1.972101 1.9725    
    Try::Tiny                   0.11     0.19      
    UUID::Tiny                  1.04     1.04      
    XML::LibXML                 1.89     2.0110    

build_requires:

    Module                      Need     Have      
    --------------------------- -------- ----------
    ExtUtils::CBuilder          0        0.280210  
    Test::Class                 0.41     0.41      
    Test::Exception             0.32     0.32      

configure_requires:

    Module                      Need     Have      
    --------------------------- -------- ----------
    CPAN::Meta                  0        2.133380  
    CPAN::Meta::Prereqs         0        2.133380  
    Module::Build               0.38     0.4205    


------------------------------
ENVIRONMENT AND OTHER CONTEXT
------------------------------

Environment variables:

    AUTOMATED_TESTING = 1
    PATH = /usr/local/bin:/usr/bin:/bin:/usr/games
    PERL = 5.18.1
    PERL5LIB = 
    PERL5OPT = 
    PERL5_CPANPLUS_IS_RUNNING = 9777
    PERL5_CPAN_IS_RUNNING = 9777
    PERLVER = 5.18.1
    PERL_INLINE_DIRECTORY = /home/david/.Inline-5.18.1
    PERL_MM_USE_DEFAULT = 1
    SHELL = /bin/bash
    TERM = screen

Perl special variables (and OS-specific diagnostics, for MSWin32):

    $^X = /home/david/cpantesting/perl-5.18.1/bin/perl
    $UID/$EUID = 1000 / 1000
    $GID = 1000 1000
    $EGID = 1000 1000

Perl module toolchain versions installed:

    Module              Have    
    ------------------- --------
    CPAN                2.00    
    CPAN::Meta          2.133380
    Cwd                 3.40    
    ExtUtils::CBuilder  0.280210
    ExtUtils::Command   1.17    
    ExtUtils::Install   1.59    
    ExtUtils::MakeMaker 6.66    
    ExtUtils::Manifest  1.63    
    ExtUtils::ParseXS   3.22    
    File::Spec          3.40    
    JSON                2.61    
    JSON::PP            2.27202 
    Module::Build       0.4205  
    Module::Signature   n/a     
    Parse::CPAN::Meta   1.4404  
    Test::Harness       3.30    
    Test::More          1.001002
    YAML                0.90    
    YAML::Syck          n/a     
    version             0.9902  


--

Summary of my perl5 (revision 5 version 18 subversion 1) configuration:
   
  Platform:
    osname=linux, osvers=3.2.0-4-amd64, archname=x86_64-linux-thread-multi
    uname='linux pigsty.barnyard.co.uk 3.2.0-4-amd64 #1 smp debian 3.2.35-2 x86_64 gnulinux '
    config_args='-de -Dprefix=/home/david/cpantesting/perl-5.18.1 -Dusethreads -Duse64bitall'
    hint=recommended, useposix=true, d_sigaction=define
    useithreads=define, usemultiplicity=define
    useperlio=define, d_sfio=undef, uselargefiles=define, usesocks=undef
    use64bitint=define, use64bitall=define, uselongdouble=undef
    usemymalloc=n, bincompat5005=undef
  Compiler:
    cc='cc', ccflags ='-D_REENTRANT -D_GNU_SOURCE -fno-strict-aliasing -pipe -fstack-protector -I/usr/local/include -D_LARGEFILE_SOURCE -D_FILE_OFFSET_BITS=64',
    optimize='-O2',
    cppflags='-D_REENTRANT -D_GNU_SOURCE -fno-strict-aliasing -pipe -fstack-protector -I/usr/local/include'
    ccversion='', gccversion='4.1.2 20061115 (prerelease) (Debian 4.1.1-21)', gccosandvers=''
    intsize=4, longsize=8, ptrsize=8, doublesize=8, byteorder=12345678
    d_longlong=define, longlongsize=8, d_longdbl=define, longdblsize=16
    ivtype='long', ivsize=8, nvtype='double', nvsize=8, Off_t='off_t', lseeksize=8
    alignbytes=8, prototype=define
  Linker and Libraries:
    ld='cc', ldflags =' -fstack-protector -L/usr/local/lib'
    libpth=/usr/local/lib /lib /usr/lib /lib64 /usr/lib64
    libs=-lnsl -lgdbm -ldb -ldl -lm -lcrypt -lutil -lpthread -lc -lgdbm_compat
    perllibs=-lnsl -ldl -lm -lcrypt -lutil -lpthread -lc
    libc=/lib/libc-2.3.6.so, so=so, useshrplib=false, libperl=libperl.a
    gnulibc_version='2.3.6'
  Dynamic Linking:
    dlsrc=dl_dlopen.xs, dlext=so, d_dlsymun=undef, ccdlflags='-Wl,-E'
    cccdlflags='-fPIC', lddlflags='-shared -O2 -L/usr/local/lib -fstack-protector'


Characteristics of this binary (from libperl): 
  Compile-time options: HAS_TIMES MULTIPLICITY PERLIO_LAYERS
                        PERL_DONT_CREATE_GVSV
                        PERL_HASH_FUNC_ONE_AT_A_TIME_HARD
                        PERL_IMPLICIT_CONTEXT PERL_MALLOC_WRAP
                        PERL_PRESERVE_IVUV PERL_SAWAMPERSAND USE_64_BIT_ALL
                        USE_64_BIT_INT USE_ITHREADS USE_LARGE_FILES
                        USE_LOCALE USE_LOCALE_COLLATE USE_LOCALE_CTYPE
                        USE_LOCALE_NUMERIC USE_PERLIO USE_PERL_ATOF
                        USE_REENTRANT_API
  Built under linux
  Compiled at Oct 22 2013 12:26:27
  %ENV:
    PERL="5.18.1"
    PERL5LIB=""
    PERL5OPT=""
    PERL5_CPANPLUS_IS_RUNNING="9777"
    PERL5_CPAN_IS_RUNNING="9777"
    PERLVER="5.18.1"
    PERL_INLINE_DIRECTORY="/home/david/.Inline-5.18.1"
    PERL_MM_USE_DEFAULT="1"
  @INC:
    /home/david/cpantesting/perl-5.18.1/lib/site_perl/5.18.1/x86_64-linux-thread-multi
    /home/david/cpantesting/perl-5.18.1/lib/site_perl/5.18.1
    /home/david/cpantesting/perl-5.18.1/lib/5.18.1/x86_64-linux-thread-multi
    /home/david/cpantesting/perl-5.18.1/lib/5.18.1
    .