Const v0.002 Perl 5 v5.13.0 x86_64-linux-thread-multi-ld

Status
Pass
From
Andreas J. K├Ânig (ANDK)
Dist
Const v0.002
Platform
Perl 5 v5.13.0 x86_64-linux-thread-multi-ld
Date
2010-07-10T00:44:50
ID
58d9f98c-8bbc-11df-96bb-8d4f01ce9048
This distribution has been tested as part of the CPAN Testers
project, supporting the Perl programming language.  See
http://wiki.cpantesters.org/ for more information or email
questions to cpan-testers-discuss@perl.org


--
Dear Leon Timmermans,

This is a computer-generated report for Const-0.002
on perl 5.13.0, created by CPAN-Reporter-1.1711.

Thank you for uploading your work to CPAN.  Congratulations!
All tests were successful.

Sections of this report:

    * Tester comments
    * Program output
    * Prerequisites
    * Environment and other context

------------------------------
TESTER COMMENTS
------------------------------

Additional comments from tester:

this report is from an automated smoke testing program
and was not reviewed by a human for accuracy

------------------------------
PROGRAM OUTPUT
------------------------------

Output from './Build test':

# Testing Const 0.002, Perl 5.013000, /home/src/perl/repoperls/installed-perls/perl/v5.13.0-175-g007c123/bin/perl
t/00-load.t ....... ok
t/10-basics.t ..... ok
t/pod-coverage.t .. ok
t/pod.t ........... ok
All tests successful.
Files=4, Tests=17,  0 wallclock secs ( 0.04 usr  0.01 sys +  0.15 cusr  0.01 csys =  0.21 CPU)
Result: PASS

------------------------------
PREREQUISITES
------------------------------

Prerequisite modules loaded:

requires:

    Module          Need  Have    
    --------------- ----- --------
    Exporter        5.57  5.64_01 
    perl            5.008 5.013000

build_requires:

    Module          Need  Have    
    --------------- ----- --------
    Module::Build   0     0.36_10 
    Test::Exception 0     0.29    
    Test::More      0     0.95_02 

configure_requires:

    Module          Need  Have    
    --------------- ----- --------
    Module::Build   0     0.36_10 


------------------------------
ENVIRONMENT AND OTHER CONTEXT
------------------------------

Environment variables:

    AUTOMATED_TESTING = 1
    LANG = en_US.UTF-8
    PATH = /home/sand/bin:/usr/local/bin:/usr/bin:/bin:/usr/bin/X11:/usr/games:/usr/local/perl/bin:/usr/X11/bin:/sbin:/usr/sbin
    PERL5LIB = 
    PERL5OPT = 
    PERL5_CPANPLUS_IS_RUNNING = 22683
    PERL5_CPAN_IS_RUNNING = 22683
    PERL_MM_USE_DEFAULT = 1
    SHELL = /usr/bin/zsh
    TERM = screen

Perl special variables (and OS-specific diagnostics, for MSWin32):

    $^X = /home/src/perl/repoperls/installed-perls/perl/v5.13.0-175-g007c123/bin/perl
    $UID/$EUID = 1001 / 1001
    $GID = 1001 1001
    $EGID = 1001 1001

Perl module toolchain versions installed:

    Module              Have   
    ------------------- -------
    CPAN                1.94_56
    Cwd                 3.31   
    ExtUtils::CBuilder  0.2703 
    ExtUtils::Command   1.16   
    ExtUtils::Install   1.55   
    ExtUtils::MakeMaker 6.5601 
    ExtUtils::Manifest  1.58   
    ExtUtils::ParseXS   2.2206 
    File::Spec          3.31   
    Module::Build       0.36_10
    Module::Signature   0.64   
    Test::Harness       3.21   
    Test::More          0.95_02
    YAML                0.71   
    YAML::Syck          1.07_01
    version             0.82   


--

Summary of my perl5 (revision 5 version 13 subversion 0) configuration:
  Commit id: 007c123e562d5bde1d934fb84b696ea4329536e6
  Platform:
    osname=linux, osvers=2.6.32-2-amd64, archname=x86_64-linux-thread-multi-ld
    uname='linux k81 2.6.32-2-amd64 #1 smp fri feb 12 00:01:47 utc 2010 x86_64 gnulinux '
    config_args='-Dprefix=/home/src/perl/repoperls/installed-perls/perl/v5.13.0-175-g007c123 -Dinstallusrbinperl=n -Uversiononly -Dusedevel -Duseithreads -Duselongdouble -des -Ui_db'
    hint=recommended, useposix=true, d_sigaction=define
    useithreads=define, usemultiplicity=define
    useperlio=define, d_sfio=undef, uselargefiles=define, usesocks=undef
    use64bitint=define, use64bitall=define, uselongdouble=define
    usemymalloc=n, bincompat5005=undef
  Compiler:
    cc='cc', ccflags ='-D_REENTRANT -D_GNU_SOURCE -fno-strict-aliasing -pipe -fstack-protector -I/usr/local/include -D_LARGEFILE_SOURCE -D_FILE_OFFSET_BITS=64',
    optimize='-O2',
    cppflags='-D_REENTRANT -D_GNU_SOURCE -fno-strict-aliasing -pipe -fstack-protector -I/usr/local/include'
    ccversion='', gccversion='4.4.3', gccosandvers=''
    intsize=4, longsize=8, ptrsize=8, doublesize=8, byteorder=12345678
    d_longlong=define, longlongsize=8, d_longdbl=define, longdblsize=16
    ivtype='long', ivsize=8, nvtype='long double', nvsize=16, Off_t='off_t', lseeksize=8
    alignbytes=16, prototype=define
  Linker and Libraries:
    ld='cc', ldflags =' -fstack-protector -L/usr/local/lib'
    libpth=/usr/local/lib /lib /usr/lib /lib64 /usr/lib64
    libs=-lnsl -lgdbm -ldb -ldl -lm -lcrypt -lutil -lpthread -lc -lgdbm_compat
    perllibs=-lnsl -ldl -lm -lcrypt -lutil -lpthread -lc
    libc=/lib/libc-2.10.2.so, so=so, useshrplib=false, libperl=libperl.a
    gnulibc_version='2.10.2'
  Dynamic Linking:
    dlsrc=dl_dlopen.xs, dlext=so, d_dlsymun=undef, ccdlflags='-Wl,-E'
    cccdlflags='-fPIC', lddlflags='-shared -O2 -L/usr/local/lib -fstack-protector'


Characteristics of this binary (from libperl): 
  Compile-time options: MULTIPLICITY PERL_DONT_CREATE_GVSV
                        PERL_IMPLICIT_CONTEXT PERL_MALLOC_WRAP PERL_USE_DEVEL
                        USE_64_BIT_ALL USE_64_BIT_INT USE_ITHREADS
                        USE_LARGE_FILES USE_LONG_DOUBLE USE_PERLIO
                        USE_PERL_ATOF USE_REENTRANT_API
  Built under linux
  Compiled at May  6 2010 07:23:59
  %ENV:
    PERL5LIB=""
    PERL5OPT=""
    PERL5_CPANPLUS_IS_RUNNING="22683"
    PERL5_CPAN_IS_RUNNING="22683"
    PERL_MM_USE_DEFAULT="1"
  @INC:
    /home/src/perl/repoperls/installed-perls/perl/v5.13.0-175-g007c123/lib/site_perl/5.13.0/x86_64-linux-thread-multi-ld
    /home/src/perl/repoperls/installed-perls/perl/v5.13.0-175-g007c123/lib/site_perl/5.13.0
    /home/src/perl/repoperls/installed-perls/perl/v5.13.0-175-g007c123/lib/5.13.0/x86_64-linux-thread-multi-ld
    /home/src/perl/repoperls/installed-perls/perl/v5.13.0-175-g007c123/lib/5.13.0
    .