HTML-Shakan v2.10 Perl 5 v5.26.2 x86_64-linux
- Status
- Pass
- From
- Slaven Rezić
- Dist
-
HTML-Shakan v2.10
- Platform
- Perl 5 v5.26.2 x86_64-linux
- Date
- 2024-10-27 17:53:17
- ID
- 58a9bfd6-948c-11ef-9100-d3236e8775ea
This distribution has been tested as part of the CPAN Testers
project, supporting the Perl programming language. See
http://wiki.cpantesters.org/ for more information or email
questions to cpan-testers-discuss@perl.org
--
Dear Masayuki Matsuki,
This is a computer-generated report for HTML-Shakan-2.10
on perl 5.26.2, created by CPAN-Reporter-1.2019.
Thank you for uploading your work to CPAN. Congratulations!
All tests were successful.
Sections of this report:
* Tester comments
* Program output
* Prerequisites
* Environment and other context
------------------------------
TESTER COMMENTS
------------------------------
Additional comments from tester:
none provided
------------------------------
PROGRAM OUTPUT
------------------------------
Output from './Build test':
t/00_compile.t ............................. ok
t/010_core/001_render.t .................... ok
# FVL: 0.41
t/010_core/002_validator.t ................. ok
t/010_core/003_widgets.t ................... ok
t/010_core/004_filter.t .................... ok
t/010_core/005_bind_filter.t ............... skipped: Test requires module 'Lingua::JA::Regular::Unicode' but it's not found
t/010_core/006_fillin_form.t ............... ok
t/010_core/007_fillin_date.t ............... ok
t/010_core/008_declare.t ................... ok
t/010_core/009_validator_message.t ......... ok
t/010_core/010_submitted.t ................. ok
t/010_core/011_custom_validation_form.t .... ok
t/010_core/012_custom_validation_field.t ... ok
t/010_core/013_render_field.t .............. ok
t/010_core/014_multi_value.t ............... ok
t/020_inflator/001_datetime.t .............. ok
t/020_inflator/002_dt_join.t ............... ok
# FVL: 0.41
t/030_field/001_file.t ..................... ok
# FVL: 0.41
t/030_field/002_image.t .................... ok
t/030_field/003_duplication.t .............. ok
t/040_model/001_datamodel.t ................ skipped: Test requires module 'Data::Model' but it's not found
t/040_model/002_skinny.t ................... skipped: Test requires module 'DBIx::Skinny' but it's not found
t/040_model/003_teng.t ..................... skipped: Test requires module 'Teng' but it's not found
t/999_regression/001_destructive_widget.t .. ok
t/upload_submitted.t ....................... ok
All tests successful.
Files=25, Tests=96, 4 wallclock secs ( 0.05 usr 0.04 sys + 2.87 cusr 0.82 csys = 3.78 CPU)
Result: PASS
------------------------------
PREREQUISITES
------------------------------
Prerequisite modules loaded:
requires:
Module Need Have
------------------- -------- --------
Email::Valid::Loose 0.05 0.05
FormValidator::Lite 0.24 0.41
Hash::MultiValue 0 0.16
HTML::Escape 0 1.11
List::MoreUtils 0.22 0.430
List::Util 1.32 1.64
Mouse 0.9 v2.5.10
parent 0 0.242
perl 5.008001 5.026002
Scalar::Util 0 1.64
build_requires:
Module Need Have
------------------- -------- --------
CGI 0 4.65
Test::More 0.98 1.302204
Test::Requires 0.06 0.11
configure_requires:
Module Need Have
------------------- -------- --------
Module::Build 0 0.4234
Module::Build::Tiny 0.035 0.047
------------------------------
ENVIRONMENT AND OTHER CONTEXT
------------------------------
Environment variables:
LANG = en_AU.UTF-8
PATH = /usr/local/bin:/usr/bin:/bin:/usr/local/sbin:/usr/sbin:/sbin:/home/cpansand/bin/linux-gnu:/home/cpansand/bin/sh:/home/cpansand/bin:/usr/games:/home/cpansand/devel:/home/eserte/src/srezic-misc/scripts
PERL5LIB = /home/cpansand/.cpan/build/2024102717/FormValidator-Lite-0.41-0/blib/arch:/home/cpansand/.cpan/build/2024102717/FormValidator-Lite-0.41-0/blib/lib:/home/cpansand/.cpan/build/2024102717/Email-Valid-Loose-0.05-0/blib/arch:/home/cpansand/.cpan/build/2024102717/Email-Valid-Loose-0.05-0/blib/lib:/home/cpansand/.cpan/build/2024102717/Exporter-AutoClean-0.01-2/blib/arch:/home/cpansand/.cpan/build/2024102717/Exporter-AutoClean-0.01-2/blib/lib
PERL5OPT =
PERL5_CPANPLUS_IS_RUNNING = 3168789
PERL5_CPAN_IS_RUNNING = 3168789
PERL5_CPAN_IS_RUNNING_IN_RECURSION = 3168771,3168789
PERLDOC = -MPod::Perldoc::ToTextOverstrike
PERL_BATCH = yes
PERL_CANARY_STABILITY_NOPROMPT = 1
PERL_CPAN_REPORTER_CONFIG = /var/tmp/cpansmoker-1023/2024102717/cpanreporter_001_config.ini
PERL_EXTUTILS_AUTOINSTALL = --defaultdeps
PERL_USE_UNSAFE_INC = 1
SHELL = /usr/bin/zsh
TERM = screen
TMPDIR = /var/tmp/cpansmoker-1023/2024102717
Perl special variables (and OS-specific diagnostics, for MSWin32):
$^X = /opt/perl-5.26.2/bin/perl
$UID/$EUID = 1023 / 1023
$GID = 1023 1023
$EGID = 1023 1023
Perl module toolchain versions installed:
Module Have
------------------- --------
CPAN 2.18
CPAN::Meta 2.150010
Cwd 3.75
ExtUtils::CBuilder 0.280236
ExtUtils::Command 7.70
ExtUtils::Install 2.06
ExtUtils::MakeMaker 7.70
ExtUtils::Manifest 1.75
ExtUtils::ParseXS 3.51
File::Spec 3.75
JSON 4.10
JSON::PP 4.16
Module::Build 0.4234
Module::Signature 0.88
Parse::CPAN::Meta 2.150010
Test2 1.302204
Test::Harness 3.50
Test::More 1.302204
YAML 1.31
YAML::Syck 1.34
version 0.9930
--
Summary of my perl5 (revision 5 version 26 subversion 2) configuration:
Platform:
osname=linux
osvers=6.6.8-100.fc38.x86_64
archname=x86_64-linux
uname='linux fedora39-2gb-hil 6.6.8-100.fc38.x86_64 #1 smp preempt_dynamic thu dec 21 04:01:45 utc 2023 x86_64 gnulinux '
config_args='-ds -e -Dprefix=/opt/perl-5.26.2 -Dcf_email=srezic@cpan.org'
hint=recommended
useposix=true
d_sigaction=define
useithreads=undef
usemultiplicity=undef
use64bitint=define
use64bitall=define
uselongdouble=undef
usemymalloc=n
default_inc_excludes_dot=define
bincompat5005=undef
Compiler:
cc='cc'
ccflags ='-fwrapv -fno-strict-aliasing -pipe -fstack-protector-strong -I/usr/local/include -D_LARGEFILE_SOURCE -D_FILE_OFFSET_BITS=64 -D_FORTIFY_SOURCE=2'
optimize='-O2'
cppflags='-fwrapv -fno-strict-aliasing -pipe -fstack-protector-strong -I/usr/local/include'
ccversion=''
gccversion='13.2.1 20231205 (Red Hat 13.2.1-6)'
gccosandvers=''
intsize=4
longsize=8
ptrsize=8
doublesize=8
byteorder=12345678
doublekind=3
d_longlong=define
longlongsize=8
d_longdbl=define
longdblsize=16
longdblkind=3
ivtype='long'
ivsize=8
nvtype='double'
nvsize=8
Off_t='off_t'
lseeksize=8
alignbytes=8
prototype=define
Linker and Libraries:
ld='cc'
ldflags =' -fstack-protector-strong -L/usr/local/lib'
libpth=/usr/local/lib /usr/lib /lib/../lib64 /usr/lib/../lib64 /lib /lib64 /usr/lib64 /usr/local/lib64
libs=-lpthread -ldb -ldl -lm -lcrypt -lutil -lc
perllibs=-lpthread -ldl -lm -lcrypt -lutil -lc
libc=/lib/../lib64/libc.so.6
so=so
useshrplib=false
libperl=libperl.a
gnulibc_version='2.38'
Dynamic Linking:
dlsrc=dl_dlopen.xs
dlext=so
d_dlsymun=undef
ccdlflags='-Wl,-E'
cccdlflags='-fPIC'
lddlflags='-shared -O2 -L/usr/local/lib -fstack-protector-strong'
Characteristics of this binary (from libperl):
Compile-time options:
HAS_TIMES
PERLIO_LAYERS
PERL_COPY_ON_WRITE
PERL_DONT_CREATE_GVSV
PERL_MALLOC_WRAP
PERL_OP_PARENT
PERL_PRESERVE_IVUV
USE_64_BIT_ALL
USE_64_BIT_INT
USE_LARGE_FILES
USE_LOCALE
USE_LOCALE_COLLATE
USE_LOCALE_CTYPE
USE_LOCALE_NUMERIC
USE_LOCALE_TIME
USE_PERLIO
USE_PERL_ATOF
Locally applied patches:
Devel::PatchPerl 2.08
Built under linux
Compiled at Dec 26 2023 16:26:17
%ENV:
PERL5LIB="/home/cpansand/.cpan/build/2024102717/FormValidator-Lite-0.41-0/blib/arch:/home/cpansand/.cpan/build/2024102717/FormValidator-Lite-0.41-0/blib/lib:/home/cpansand/.cpan/build/2024102717/Email-Valid-Loose-0.05-0/blib/arch:/home/cpansand/.cpan/build/2024102717/Email-Valid-Loose-0.05-0/blib/lib:/home/cpansand/.cpan/build/2024102717/Exporter-AutoClean-0.01-2/blib/arch:/home/cpansand/.cpan/build/2024102717/Exporter-AutoClean-0.01-2/blib/lib"
PERL5OPT=""
PERL5_CPANPLUS_IS_RUNNING="3168789"
PERL5_CPAN_IS_RUNNING="3168789"
PERL5_CPAN_IS_RUNNING_IN_RECURSION="3168771,3168789"
PERLDOC="-MPod::Perldoc::ToTextOverstrike"
PERL_BATCH="yes"
PERL_CANARY_STABILITY_NOPROMPT="1"
PERL_CPAN_REPORTER_CONFIG="/var/tmp/cpansmoker-1023/2024102717/cpanreporter_001_config.ini"
PERL_EXTUTILS_AUTOINSTALL="--defaultdeps"
PERL_USE_UNSAFE_INC="1"
@INC:
/home/cpansand/.cpan/build/2024102717/FormValidator-Lite-0.41-0/blib/arch
/home/cpansand/.cpan/build/2024102717/FormValidator-Lite-0.41-0/blib/lib
/home/cpansand/.cpan/build/2024102717/Email-Valid-Loose-0.05-0/blib/arch
/home/cpansand/.cpan/build/2024102717/Email-Valid-Loose-0.05-0/blib/lib
/home/cpansand/.cpan/build/2024102717/Exporter-AutoClean-0.01-2/blib/arch
/home/cpansand/.cpan/build/2024102717/Exporter-AutoClean-0.01-2/blib/lib
/opt/perl-5.26.2/lib/site_perl/5.26.2/x86_64-linux
/opt/perl-5.26.2/lib/site_perl/5.26.2
/opt/perl-5.26.2/lib/5.26.2/x86_64-linux
/opt/perl-5.26.2/lib/5.26.2
.