Test-Moose-More v0.050 Perl 5 v5.12.5 x86_64-linux-thread-multi

Status
Pass
From
Nigel Horne
Dist
Test-Moose-More v0.050
Platform
Perl 5 v5.12.5 x86_64-linux-thread-multi
Date
2017-09-21 04:42:59
ID
57f6f9a8-9e87-11e7-8929-daabf0ac1f1e
This distribution has been tested as part of the CPAN Testers
project, supporting the Perl programming language.  See
http://wiki.cpantesters.org/ for more information or email
questions to cpan-testers-discuss@perl.org


--
Dear Chris Weyl,

This is a computer-generated report for Test-Moose-More-0.050
on perl 5.12.5, created by CPAN-Reporter-1.2018.

Thank you for uploading your work to CPAN.  Congratulations!
All tests were successful.

Sections of this report:

    * Tester comments
    * Program output
    * Prerequisites
    * Environment and other context

------------------------------
TESTER COMMENTS
------------------------------

Additional comments from tester:

this report is from an automated smoke testing program
and was not reviewed by a human for accuracy

------------------------------
PROGRAM OUTPUT
------------------------------

Output from '/usr/bin/make test':

PERL_DL_NONLAZY=1 "/home/njh/perl5/perlbrew/perls/perl-5.12.5/bin/perl" "-MExtUtils::Command::MM" "-MTest::Harness" "-e" "undef *Test::Harness::Switches; test_harness(0, 'blib/lib', 'blib/arch')" t/*.t t/attribute_options_ok/*.t t/is_class_ok/*.t t/validate_attribute/*.t t/validate_class/*.t t/validate_role/*.t t/validate_thing/*.t t/wrapped/*.t
# 
# Versions for all modules listed in MYMETA.json (including optional ones):
# 
# === Configure Requires ===
# 
#     Module              Want Have
#     ------------------- ---- ----
#     ExtUtils::MakeMaker  any 7.22
# 
# === Build Requires ===
# 
#     Module              Want Have
#     ------------------- ---- ----
#     ExtUtils::MakeMaker  any 7.22
# 
# === Test Requires ===
# 
#     Module                  Want     Have
#     ---------------------- ----- --------
#     ExtUtils::MakeMaker      any     7.22
#     File::Spec               any     3.62
#     IO::Handle               any     1.28
#     IPC::Open3               any     1.05
#     List::Util              1.45     1.45
#     Moose                    any   2.1804
#     Moose::Meta::Attribute   any   2.1804
#     Moose::Role              any   2.1804
#     Moose::Util::MetaRole    any   2.1804
#     TAP::SimpleOutput      0.009    0.009
#     Test::Builder::Tester    any 1.302035
#     Test::CheckDeps        0.010    0.010
#     Test::More              0.94 1.302035
#     namespace::autoclean     any     0.28
# 
# === Test Recommends ===
# 
#     Module         Want     Have
#     ---------- -------- --------
#     CPAN::Meta 2.120900 2.150005
# 
# === Runtime Requires ===
# 
#     Module                       Want     Have
#     ---------------------------- ---- --------
#     Carp                          any     1.38
#     Data::OptList                 any    0.110
#     List::MoreUtils               any    0.415
#     List::Util                   1.45     1.45
#     Moose::Util                   any   2.1804
#     Moose::Util::TypeConstraints  any   2.1804
#     Scalar::Util                  any     1.45
#     Sub::Exporter::Progressive    any 0.001011
#     Syntax::Keyword::Junction     any 0.003008
#     Test::Builder                 any 1.302035
#     Test::Moose                   any   2.1804
#     Test::More                   0.94 1.302035
#     strict                        any     1.04
#     warnings                      any     1.09
# 
t/00-check-deps.t ...................................... ok
t/00-report-prereqs.t .................................. ok
t/00-compile.t ......................................... ok
t/attribute_options_ok/basic.t ......................... ok
t/definition_context.t ................................. ok
t/attribute_options_ok/subtest-wrapper.t ............... ok
t/check_sugar.t ........................................ ok
t/does_not_metaroles_ok.t .............................. ok
t/does_metaroles_ok.t .................................. ok
t/does_not_ok.t ........................................ ok
t/does_ok.t ............................................ ok
t/has_attribute_ok.t ................................... ok
t/is_anon_ok.t ......................................... ok
t/is_class_ok/basic.t .................................. ok
t/is_class_ok/moose-meta-attribute-should-be-moosey.t .. ok
t/is_immutable_ok.t .................................... ok
t/is_not_anon_ok.t ..................................... ok
t/meta_ok.t ............................................ ok
t/is_role_ok.t ......................................... ok
t/method_from_pkg_ok.t ................................. ok
t/method_is_accessor_ok.t .............................. ok
t/method_is_not_accessor_ok.t .......................... ok
t/method_not_from_pkg_ok.t ............................. ok
t/no_meta_ok.t ......................................... ok
t/requires_method_ok.t ................................. ok
t/method_ok.t .......................................... ok
t/pristine_ok.t ........................................ ok
t/subtest-1.t .......................................... ok
t/validate_attribute/basic.t ........................... ok
t/validate_attribute/coerce.t .......................... ok
t/validate_attribute/in_roles.t ........................ ok
t/validate_attribute/lazy.t ............................ ok
t/validate_attribute/required.t ........................ ok
t/validate_class/metaroles.t ........................... ok
t/validate_class/methods.t ............................. ok
t/validate_class/metaclasses.t ......................... ok
t/validate_role/basic.t ................................ ok
t/validate_class/basic.t ............................... ok
t/validate_role/compose.t .............................. ok
t/validate_role/metaclasses.t .......................... ok
t/validate_role/metaroles.t ............................ ok
t/validate_thing/metaclasses.t ......................... ok
t/validate_thing/methods.t ............................. ok
t/validate_thing/sugar.t ............................... ok
t/wrapped/in_roles.t ................................... ok
All tests successful.

Test Summary Report
-------------------
t/00-check-deps.t                                    (Wstat: 0 Tests: 32 Failed: 0)
  TODO passed:   32
Files=45, Tests=235,  1 wallclock secs ( 0.13 usr  0.03 sys +  6.83 cusr  0.83 csys =  7.82 CPU)
Result: PASS

------------------------------
PREREQUISITES
------------------------------

Prerequisite modules loaded:

requires:

    Module                       Need  Have    
    ---------------------------- ----- --------
    Carp                         0     1.38    
    Data::OptList                0     0.110   
    List::MoreUtils              0     0.415   
    List::Util                   1.45  1.45    
    Moose::Util                  0     2.1804  
    Moose::Util::TypeConstraints 0     2.1804  
    perl                         5.006 5.012005
    Scalar::Util                 0     1.45    
    strict                       0     1.04    
    Sub::Exporter::Progressive   0     0.001011
    Syntax::Keyword::Junction    0     0.003008
    Test::Builder                0     1.302035
    Test::Moose                  0     2.1804  
    Test::More                   0.94  1.302035
    warnings                     0     1.09    

build_requires:

    Module                       Need  Have    
    ---------------------------- ----- --------
    ExtUtils::MakeMaker          0     7.22    
    File::Spec                   0     3.62    
    IO::Handle                   0     1.28    
    IPC::Open3                   0     1.05    
    List::Util                   1.45  1.45    
  ! Moose                        0     broken  
  ! Moose::Meta::Attribute       0     broken  
  ! Moose::Role                  0     broken  
    Moose::Util::MetaRole        0     2.1804  
    namespace::autoclean         0     0.28    
    TAP::SimpleOutput            0.009 0.009   
    Test::Builder::Tester        0     1.302035
    Test::CheckDeps              0.010 0.010   
    Test::More                   0.94  1.302035

configure_requires:

    Module                       Need  Have    
    ---------------------------- ----- --------
    ExtUtils::MakeMaker          0     7.22    
    perl                         5.006 5.012005


------------------------------
ENVIRONMENT AND OTHER CONTEXT
------------------------------

Environment variables:

    AUTOMATED_TESTING = 1
    HARNESS_OPTIONS = j10
    LANG = en_GB.UTF-8
    PATH = /home/njh/perl5/perlbrew/bin:/home/njh/perl5/perlbrew/perls/perl-5.12.5/bin:/home/njh/perl5/perlbrew/bin:/usr/bin:/bin
    PERL5LIB = /tmp/build/TAP-SimpleOutput-0.009-9/blib/arch:/tmp/build/TAP-SimpleOutput-0.009-9/blib/lib:/tmp/build/Perl-Version-1.013-9/blib/arch:/tmp/build/Perl-Version-1.013-9/blib/lib:/tmp/build/File-Slurp-Tiny-0.004-22/blib/arch:/tmp/build/File-Slurp-Tiny-0.004-22/blib/lib:/tmp/build/Syntax-Keyword-Junction-0.003008-9/blib/arch:/tmp/build/Syntax-Keyword-Junction-0.003008-9/blib/lib:/tmp/build/syntax-0.004-9/blib/arch:/tmp/build/syntax-0.004-9/blib/lib
    PERL5OPT = 
    PERL5_CPANPLUS_IS_RUNNING = 26182
    PERL5_CPAN_IS_RUNNING = 26182
    PERLBREW_BASHRC_VERSION = 0.80
    PERLBREW_HOME = /home/njh/.perlbrew
    PERLBREW_LIB = 
    PERLBREW_MANPATH = /home/njh/perl5/perlbrew/perls/perl-5.12.5/man
    PERLBREW_PATH = /home/njh/perl5/perlbrew/bin:/home/njh/perl5/perlbrew/perls/perl-5.12.5/bin
    PERLBREW_PERL = perl-5.12.5
    PERLBREW_ROOT = /home/njh/perl5/perlbrew
    PERLBREW_VERSION = 0.80
    PERL_LOCAL_LIB_ROOT = 
    SHELL = /bin/sh

Perl special variables (and OS-specific diagnostics, for MSWin32):

    $^X = /home/njh/perl5/perlbrew/perls/perl-5.12.5/bin/perl
    $UID/$EUID = 1000 / 1000
    $GID = 1000 4 24 25 29 30 44 46 107 112 118 1000
    $EGID = 1000 4 24 25 29 30 44 46 107 112 118 1000

Perl module toolchain versions installed:

    Module              Have    
    ------------------- --------
    CPAN                2.16    
    CPAN::Meta          2.150005
    Cwd                 3.62    
    ExtUtils::CBuilder  0.280224
    ExtUtils::Command   7.22    
    ExtUtils::Install   2.04    
    ExtUtils::MakeMaker 7.22    
    ExtUtils::Manifest  1.70    
    ExtUtils::ParseXS   3.30    
    File::Spec          3.62    
    JSON                2.90    
    JSON::PP            2.27400 
    Module::Build       0.4218  
    Module::Signature   n/a     
    Parse::CPAN::Meta   1.4422  
    Test::Harness       3.36    
    Test::More          1.302035
    YAML                1.23    
    YAML::Syck          1.30    
    version             0.9917  


--

Summary of my perl5 (revision 5 version 12 subversion 5) configuration:
   
  Platform:
    osname=linux, osvers=3.16-2-amd64, archname=x86_64-linux-thread-multi
    uname='linux cyberpower2 3.16-2-amd64 #1 smp debian 3.16.3-2 (2014-09-20) x86_64 gnulinux '
    config_args='-de -Dprefix=/home/njh/perl5/perlbrew/perls/perl-5.12.5 -Duseithreads -Dusemultiplicity -Dusedevel -Accflags=-O2 -W -Wformat=2 -Wswitch -Wshadow -Wwrite-strings -Wuninitialized -Wall -pipe -mtune=native -march=native -fomit-frame-pointer -msse2 -msse -mmmx -mfpmath=sse -pedantic -D_FORTIFY_SOURCE=2 -Wpointer-arith -Wstrict-prototypes -fstack-protector -Wstack-protector -Wextra -Wbad-function-cast -Wcast-align -Wcast-qual -Wdisabled-optimization -Wendif-labels -Wfloat-equal -Wformat-nonliteral -Winline -Wmissing-declarations -Wmissing-prototypes -Wnested-externs -Wpointer-arith -Wundef -Wformat-security -ftree-vectorize -fdiagnostics-color=auto -Aeval:scriptdir=/home/njh/perl5/perlbrew/perls/perl-5.12.5/bin'
    hint=recommended, useposix=true, d_sigaction=define
    useithreads=define, usemultiplicity=define
    useperlio=define, d_sfio=undef, uselargefiles=define, usesocks=undef
    use64bitint=define, use64bitall=define, uselongdouble=undef
    usemymalloc=n, bincompat5005=undef
  Compiler:
    cc='cc', ccflags ='-D_REENTRANT -D_GNU_SOURCE -O2 -W -Wformat=2 -Wswitch -Wshadow -Wwrite-strings -Wuninitialized -Wall -pipe -mtune=native -march=native -fomit-frame-pointer -msse2 -msse -mmmx -mfpmath=sse -pedantic -D_FORTIFY_SOURCE=2 -Wpointer-arith -Wstrict-prototypes -fstack-protector -Wstack-protector -Wextra -Wbad-function-cast -Wcast-align -Wcast-qual -Wdisabled-optimization -Wendif-labels -Wfloat-equal -Wformat-nonliteral -Winline -Wmissing-declarations -Wmissing-prototypes -Wnested-externs -Wpointer-arith -Wundef -Wformat-security -ftree-vectorize -fdiagnostics-color=auto -fno-strict-aliasing -I/usr/local/include -D_LARGEFILE_SOURCE -D_FILE_OFFSET_BITS=64',
    optimize='-O2',
    cppflags='-D_REENTRANT -D_GNU_SOURCE -O2 -W -Wformat=2 -Wswitch -Wshadow -Wwrite-strings -Wuninitialized -Wall -pipe -mtune=native -march=native -fomit-frame-pointer -msse2 -msse -mmmx -mfpmath=sse -pedantic -D_FORTIFY_SOURCE=2 -Wpointer-arith -Wstrict-prototypes -fstack-protector -Wstack-protector -Wextra -Wbad-function-cast -Wcast-align -Wcast-qual -Wdisabled-optimization -Wendif-labels -Wfloat-equal -Wformat-nonliteral -Winline -Wmissing-declarations -Wmissing-prototypes -Wnested-externs -Wpointer-arith -Wundef -Wformat-security -ftree-vectorize -fdiagnostics-color=auto -fno-strict-aliasing -I/usr/local/include'
    ccversion='', gccversion='4.9.1', gccosandvers=''
    intsize=4, longsize=8, ptrsize=8, doublesize=8, byteorder=12345678
    d_longlong=define, longlongsize=8, d_longdbl=define, longdblsize=16
    ivtype='long', ivsize=8, nvtype='double', nvsize=8, Off_t='off_t', lseeksize=8
    alignbytes=8, prototype=define
  Linker and Libraries:
    ld='cc', ldflags =' -fstack-protector -L/usr/local/lib'
    libpth=/usr/local/lib /lib/x86_64-linux-gnu /lib/../lib /usr/lib/x86_64-linux-gnu /usr/lib/../lib /lib /usr/lib
    libs=-lnsl -lgdbm -ldb -ldl -lm -lcrypt -lutil -lpthread -lc -lgdbm_compat
    perllibs=-lnsl -ldl -lm -lcrypt -lutil -lpthread -lc
    libc=libc-2.19.so, so=so, useshrplib=false, libperl=libperl.a
    gnulibc_version='2.19'
  Dynamic Linking:
    dlsrc=dl_dlopen.xs, dlext=so, d_dlsymun=undef, ccdlflags='-Wl,-E'
    cccdlflags='-fPIC', lddlflags='-shared -O2 -L/usr/local/lib -fstack-protector'


Characteristics of this binary (from libperl): 
  Compile-time options: MULTIPLICITY PERL_DONT_CREATE_GVSV
                        PERL_IMPLICIT_CONTEXT PERL_MALLOC_WRAP PERL_USE_DEVEL
                        USE_64_BIT_ALL USE_64_BIT_INT USE_ITHREADS
                        USE_LARGE_FILES USE_PERLIO USE_PERL_ATOF
                        USE_REENTRANT_API
  Built under linux
  Compiled at Oct 15 2014 10:26:39
  %ENV:
    PERL5LIB="/tmp/build/TAP-SimpleOutput-0.009-9/blib/arch:/tmp/build/TAP-SimpleOutput-0.009-9/blib/lib:/tmp/build/Perl-Version-1.013-9/blib/arch:/tmp/build/Perl-Version-1.013-9/blib/lib:/tmp/build/File-Slurp-Tiny-0.004-22/blib/arch:/tmp/build/File-Slurp-Tiny-0.004-22/blib/lib:/tmp/build/Syntax-Keyword-Junction-0.003008-9/blib/arch:/tmp/build/Syntax-Keyword-Junction-0.003008-9/blib/lib:/tmp/build/syntax-0.004-9/blib/arch:/tmp/build/syntax-0.004-9/blib/lib"
    PERL5OPT=""
    PERL5_CPANPLUS_IS_RUNNING="26182"
    PERL5_CPAN_IS_RUNNING="26182"
    PERLBREW_BASHRC_VERSION="0.80"
    PERLBREW_HOME="/home/njh/.perlbrew"
    PERLBREW_LIB=""
    PERLBREW_MANPATH="/home/njh/perl5/perlbrew/perls/perl-5.12.5/man"
    PERLBREW_PATH="/home/njh/perl5/perlbrew/bin:/home/njh/perl5/perlbrew/perls/perl-5.12.5/bin"
    PERLBREW_PERL="perl-5.12.5"
    PERLBREW_ROOT="/home/njh/perl5/perlbrew"
    PERLBREW_VERSION="0.80"
    PERL_LOCAL_LIB_ROOT=""
  @INC:
    /tmp/build/TAP-SimpleOutput-0.009-9/blib/arch
    /tmp/build/TAP-SimpleOutput-0.009-9/blib/lib
    /tmp/build/Perl-Version-1.013-9/blib/arch
    /tmp/build/Perl-Version-1.013-9/blib/lib
    /tmp/build/File-Slurp-Tiny-0.004-22/blib/arch
    /tmp/build/File-Slurp-Tiny-0.004-22/blib/lib
    /tmp/build/Syntax-Keyword-Junction-0.003008-9/blib/arch
    /tmp/build/Syntax-Keyword-Junction-0.003008-9/blib/lib
    /tmp/build/syntax-0.004-9/blib/arch
    /tmp/build/syntax-0.004-9/blib/lib
    /home/njh/perl5/perlbrew/perls/perl-5.12.5/lib/site_perl/5.12.5/x86_64-linux-thread-multi
    /home/njh/perl5/perlbrew/perls/perl-5.12.5/lib/site_perl/5.12.5
    /home/njh/perl5/perlbrew/perls/perl-5.12.5/lib/5.12.5/x86_64-linux-thread-multi
    /home/njh/perl5/perlbrew/perls/perl-5.12.5/lib/5.12.5
    .