Report for Proc-Daemon-0.23

Back
From: metabase:user:0d96120c-29e2-11e5-b049-ede3035d37de
Subject: PASS Proc-Daemon-0.23 v5.25.6 GNU/Linux
Date: 2016-10-29T22:09:21Z

This distribution has been tested as part of the CPAN Testers
project, supporting the Perl programming language.  See
http://wiki.cpantesters.org/ for more information or email
questions to cpan-testers-discuss@perl.org


--
Dear Pavel Denisov,

This is a computer-generated report for Proc-Daemon-0.23
on perl 5.25.6, created by CPAN-Reporter-1.2018.

Thank you for uploading your work to CPAN.  Congratulations!
All tests were successful.

Sections of this report:

    * Tester comments
    * Program output
    * Prerequisites
    * Environment and other context

------------------------------
TESTER COMMENTS
------------------------------

Additional comments from tester:

CPU            : Intel(R) Xeon(R) CPU E5-1650 v3 @ 3.50GHz
MEMORY         : 62.79 GB
ARCH           : amd64
OS             : Ubuntu 16.04
KERNEL         : Linux 4.4.0-22-generic
VIRTUALIZATION : No Virtualization

------------------------------
PROGRAM OUTPUT
------------------------------

Output from '/usr/bin/make test':

PERL_DL_NONLAZY=1 "/data/home/jmaslak/perl5/perlbrew/perls/perl-5.25.6/bin/perl5.25.6" "-MExtUtils::Command::MM" "-MTest::Harness" "-e" "undef *Test::Harness::Switches; test_harness(0, 'blib/lib', 'blib/arch')" t/*.t
t/01_loadmodule.t .. ok
# Proc::ProcessTable is installed and did find the right PID for 'perl /data/home/jmaslak/.cpan/build/Proc-Daemon-0.23-0/t/kid.pl': 32518
t/02_testmodule.t .. ok
# Proc::ProcessTable is installed and did find the right PID for 'perl /data/home/jmaslak/.cpan/build/Proc-Daemon-0.23-0/t/kid.pl': 32550
t/03_taintmode.t ... ok
All tests successful.
Files=3, Tests=39, 11 wallclock secs ( 0.02 usr  0.00 sys +  0.25 cusr  0.11 csys =  0.38 CPU)
Result: PASS

------------------------------
PREREQUISITES
------------------------------

Prerequisite modules loaded:

requires:

    Module              Need Have
    ------------------- ---- ----
    POSIX               0    1.73

build_requires:

    Module              Need Have
    ------------------- ---- ----
    Proc::ProcessTable  0    0.53

configure_requires:

    Module              Need Have
    ------------------- ---- ----
    ExtUtils::MakeMaker 6.30 7.24


------------------------------
ENVIRONMENT AND OTHER CONTEXT
------------------------------

Environment variables:

    LANG = en_US.UTF-8
    LD_LIBRARY_PATH = :/usr/local/cuda-7.0/lib64:/usr/local/cuda-7.0/lib64
    NONINTERACTIVE_TESTING = 1
    PATH = /home/jmaslak/perl5/perlbrew/bin:/home/jmaslak/perl5/perlbrew/perls/perl-5.25.6/bin:/home/jmaslak/bin:~/bin:/home/jmaslak/.rakudobrew/bin:/home/jmaslak/bin:~/bin:/home/jmaslak/.rakudobrew/bin:/usr/local/sbin:/usr/local/bin:/usr/sbin:/usr/bin:/sbin:/bin:/usr/games:/usr/local/games:/usr/local/cuda-7.0/bin:/usr/sbin:/usr/local/cuda-7.0/bin:/usr/sbin
    PERL5LIB = 
    PERL5OPT = 
    PERL5_CPANPLUS_IS_RUNNING = 10552
    PERL5_CPAN_IS_RUNNING = 10552
    PERLBREW_BASHRC_VERSION = 0.74
    PERLBREW_HOME = /home/jmaslak/.perlbrew
    PERLBREW_MANPATH = /home/jmaslak/perl5/perlbrew/perls/perl-5.25.6/man
    PERLBREW_PATH = /home/jmaslak/perl5/perlbrew/bin:/home/jmaslak/perl5/perlbrew/perls/perl-5.25.6/bin
    PERLBREW_PERL = perl-5.25.6
    PERLBREW_ROOT = /home/jmaslak/perl5/perlbrew
    PERLBREW_VERSION = 0.74
    PERL_MM_USE_DEFAULT = 1
    SHELL = -bash
    TERM = screen-256color

Perl special variables (and OS-specific diagnostics, for MSWin32):

    $^X = /data/home/jmaslak/perl5/perlbrew/perls/perl-5.25.6/bin/perl5.25.6
    $UID/$EUID = 1000 / 1000
    $GID = 1000 4 24 27 30 46 111 117 118 146 1000 5000 5001 5002 5003
    $EGID = 1000 4 24 27 30 46 111 117 118 146 1000 5000 5001 5002 5003

Perl module toolchain versions installed:

    Module              Have      
    ------------------- ----------
    CPAN                2.14_01   
    CPAN::Meta          2.150010  
    Cwd                 3.65      
    ExtUtils::CBuilder  0.280225  
    ExtUtils::Command   7.24      
    ExtUtils::Install   2.04      
    ExtUtils::MakeMaker 7.24      
    ExtUtils::Manifest  1.70      
    ExtUtils::ParseXS   3.33      
    File::Spec          3.65      
    JSON                2.90      
    JSON::PP            2.27400_01
    Module::Build       0.4220    
    Module::Signature   0.81      
    Parse::CPAN::Meta   2.150010  
    Test::Harness       3.36_01   
    Test::More          1.302059  
    YAML                n/a       
    YAML::Syck          n/a       
    version             0.9917    


--

Summary of my perl5 (revision 5 version 25 subversion 6) configuration:
   
  Platform:
    osname=linux
    osvers=4.4.0-22-generic
    archname=x86_64-linux
    uname='linux red 4.4.0-22-generic #40-ubuntu smp thu may 12 22:03:46 utc 2016 x86_64 x86_64 x86_64 gnulinux '
    config_args='-de -Dprefix=/home/jmaslak/perl5/perlbrew/perls/perl-5.25.6 -Dusedevel -Aeval:scriptdir=/home/jmaslak/perl5/perlbrew/perls/perl-5.25.6/bin'
    hint=recommended
    useposix=true
    d_sigaction=define
    useithreads=undef
    usemultiplicity=undef
    use64bitint=define
    use64bitall=define
    uselongdouble=undef
    usemymalloc=n
    bincompat5005=undef
  Compiler:
    cc='cc'
    ccflags ='-fwrapv -fno-strict-aliasing -pipe -fstack-protector-strong -I/usr/local/include -D_LARGEFILE_SOURCE -D_FILE_OFFSET_BITS=64'
    optimize='-O2'
    cppflags='-fwrapv -fno-strict-aliasing -pipe -fstack-protector-strong -I/usr/local/include'
    ccversion=''
    gccversion='5.4.0 20160609'
    gccosandvers=''
    intsize=4
    longsize=8
    ptrsize=8
    doublesize=8
    byteorder=12345678
    doublekind=3
    d_longlong=define
    longlongsize=8
    d_longdbl=define
    longdblsize=16
    longdblkind=3
    ivtype='long'
    ivsize=8
    nvtype='double'
    nvsize=8
    Off_t='off_t'
    lseeksize=8
    alignbytes=8
    prototype=define
  Linker and Libraries:
    ld='cc'
    ldflags =' -fstack-protector-strong -L/usr/local/lib'
    libpth=/usr/local/lib /usr/lib/gcc/x86_64-linux-gnu/5/include-fixed /usr/include/x86_64-linux-gnu /usr/lib /lib/x86_64-linux-gnu /lib/../lib /usr/lib/x86_64-linux-gnu /usr/lib/../lib /lib
    libs=-lpthread -lnsl -ldb -ldl -lm -lcrypt -lutil -lc
    perllibs=-lpthread -lnsl -ldl -lm -lcrypt -lutil -lc
    libc=libc-2.23.so
    so=so
    useshrplib=false
    libperl=libperl.a
    gnulibc_version='2.23'
  Dynamic Linking:
    dlsrc=dl_dlopen.xs
    dlext=so
    d_dlsymun=undef
    ccdlflags='-Wl,-E'
    cccdlflags='-fPIC'
    lddlflags='-shared -O2 -L/usr/local/lib -fstack-protector-strong'


Characteristics of this binary (from libperl): 
  Compile-time options:
    HAS_TIMES
    PERLIO_LAYERS
    PERL_COPY_ON_WRITE
    PERL_DONT_CREATE_GVSV
    PERL_HASH_FUNC_ONE_AT_A_TIME_HARD
    PERL_MALLOC_WRAP
    PERL_OP_PARENT
    PERL_PRESERVE_IVUV
    PERL_USE_DEVEL
    USE_64_BIT_ALL
    USE_64_BIT_INT
    USE_LARGE_FILES
    USE_LOCALE
    USE_LOCALE_COLLATE
    USE_LOCALE_CTYPE
    USE_LOCALE_NUMERIC
    USE_LOCALE_TIME
    USE_PERLIO
    USE_PERL_ATOF
  Locally applied patches:
    Devel::PatchPerl 1.38
  Built under linux
  Compiled at Oct 29 2016 14:51:39
  %ENV:
    PERL5LIB=""
    PERL5OPT=""
    PERL5_CPANPLUS_IS_RUNNING="10552"
    PERL5_CPAN_IS_RUNNING="10552"
    PERLBREW_BASHRC_VERSION="0.74"
    PERLBREW_HOME="/home/jmaslak/.perlbrew"
    PERLBREW_MANPATH="/home/jmaslak/perl5/perlbrew/perls/perl-5.25.6/man"
    PERLBREW_PATH="/home/jmaslak/perl5/perlbrew/bin:/home/jmaslak/perl5/perlbrew/perls/perl-5.25.6/bin"
    PERLBREW_PERL="perl-5.25.6"
    PERLBREW_ROOT="/home/jmaslak/perl5/perlbrew"
    PERLBREW_VERSION="0.74"
    PERL_MM_USE_DEFAULT="1"
  @INC:
    /home/jmaslak/perl5/perlbrew/perls/perl-5.25.6/lib/site_perl/5.25.6/x86_64-linux
    /home/jmaslak/perl5/perlbrew/perls/perl-5.25.6/lib/site_perl/5.25.6
    /home/jmaslak/perl5/perlbrew/perls/perl-5.25.6/lib/5.25.6/x86_64-linux
    /home/jmaslak/perl5/perlbrew/perls/perl-5.25.6/lib/5.25.6
    .