Astro-Constants v0.13 Perl 5 v5.18.3 i386-freebsd-thread-multi
- Status
- Pass
- From
- Nigel Horne
- Dist
-
Astro-Constants v0.13
- Platform
- Perl 5 v5.18.3 i386-freebsd-thread-multi
- Date
- 2018-05-08 01:22:57
- ID
- 5731f76c-525e-11e8-9da6-f703c768dc7a
This distribution has been tested as part of the CPAN Testers
project, supporting the Perl programming language. See
http://wiki.cpantesters.org/ for more information or email
questions to cpan-testers-discuss@perl.org
--
Dear Boyd Duffee,
This is a computer-generated report for Astro-Constants-0.13
on perl 5.18.3, created by CPAN-Reporter-1.2018.
Thank you for uploading your work to CPAN. Congratulations!
All tests were successful.
Sections of this report:
* Tester comments
* Program output
* Prerequisites
* Environment and other context
------------------------------
TESTER COMMENTS
------------------------------
Additional comments from tester:
this report is from an automated smoke testing program
and was not reviewed by a human for accuracy
------------------------------
PROGRAM OUTPUT
------------------------------
Output from '/usr/bin/make test':
PERL_DL_NONLAZY=1 "/usr/home/njh/perl5/perlbrew/perls/perl-5.18.3/bin/perl" "-MExtUtils::Command::MM" "-MTest::Harness" "-e" "undef *Test::Harness::Switches; test_harness(0, 'blib/lib', 'blib/arch')" t/*.t
t/alternates.t ......... ok
t/basic.t .............. ok
# Testing values from CODATA 2014
t/codata_2014.t ........ ok
t/conversion.t ......... ok
t/cosmology.t .......... ok
t/derived_constants.t .. ok
t/electromagnetic.t .... ok
t/functions.t .......... ok
t/fundamental.t ........ ok
# Testing values from IAU 2009/2012 System of Astronomical Constants
t/iau_2009.t ........... ok
t/mathematical.t ....... ok
use of Astro::Constants::CGS is deprecated and will be removed from the package in version 0.15 at /usr/home/njh/.cpan/build/Astro-Constants-0.13-0/blib/lib/Astro/Constants/CGS.pm line 9.
write new code to use Astro::Constants::MKS instead at /usr/home/njh/.cpan/build/Astro-Constants-0.13-0/blib/lib/Astro/Constants/CGS.pm line 10.
use of Astro::Constants::CGS is deprecated and will be removed from the package in version 0.15 at /usr/home/njh/.cpan/build/Astro-Constants-0.13-0/blib/lib/Astro/Constants/CGS.pm line 12.
write new code to use Astro::Constants::MKS instead at /usr/home/njh/.cpan/build/Astro-Constants-0.13-0/blib/lib/Astro/Constants/CGS.pm line 13.
t/mks_to_cgs.t ......... ok
# MASS_HYDROGEN is from IUPAC 2013
t/nuclear.t ............ ok
t/planetary.t .......... ok
t/pod.t ................ ok
t/short.t .............. ok
t/short_individual.t ... ok
t/validate_xml.t ....... skipped: XML::LibXML 2.0100 required for validating PhysicalConstants against the schema
t/zz_cosmology.t ....... ok
All tests successful.
Test Summary Report
-------------------
t/codata_2014.t (Wstat: 0 Tests: 4 Failed: 0)
TODO passed: 4
t/iau_2009.t (Wstat: 0 Tests: 10 Failed: 0)
TODO passed: 10
Files=19, Tests=113, 17 wallclock secs ( 1.23 usr 0.38 sys + 12.97 cusr 2.23 csys = 16.81 CPU)
Result: PASS
------------------------------
PREREQUISITES
------------------------------
Prerequisite modules loaded:
requires:
Module Need Have
------------------- ----- --------
perl 5.006 5.018003
build_requires:
Module Need Have
------------------- ----- --------
ExtUtils::MakeMaker 0 7.04
Test::More 0 1.001014
Test::Number::Delta 0 1.06
configure_requires:
Module Need Have
------------------- ----- --------
ExtUtils::MakeMaker 0 7.04
------------------------------
ENVIRONMENT AND OTHER CONTEXT
------------------------------
Environment variables:
AUTOMATED_TESTING = 1
PATH = /home/njh/perl5/perlbrew/bin:/home/njh/perl5/perlbrew/perls/perl-5.18.3/bin:src/njh/smoker/bin:/usr/local/bin:/bin:/usr/bin
PERL5LIB = /home/njh/.cpan/build/Test-Number-Delta-1.06-0/blib/arch:/home/njh/.cpan/build/Test-Number-Delta-1.06-0/blib/lib
PERL5OPT =
PERL5_CPANPLUS_IS_RUNNING = 60454
PERL5_CPAN_IS_RUNNING = 60454
PERLBREW_BASHRC_VERSION = 0.80
PERLBREW_HOME = /home/njh/.perlbrew
PERLBREW_MANPATH = /home/njh/perl5/perlbrew/perls/perl-5.18.3/man
PERLBREW_PATH = /home/njh/perl5/perlbrew/bin:/home/njh/perl5/perlbrew/perls/perl-5.18.3/bin
PERLBREW_PERL = perl-5.18.3
PERLBREW_ROOT = /home/njh/perl5/perlbrew
PERLBREW_VERSION = 0.80
SHELL = /bin/sh
TMPDIR = /tmp/testwrapper.60444
Perl special variables (and OS-specific diagnostics, for MSWin32):
$^X = /usr/home/njh/perl5/perlbrew/perls/perl-5.18.3/bin/perl
$UID/$EUID = 1000 / 1000
$GID = 1000 1000 0
$EGID = 1000 1000 0
Perl module toolchain versions installed:
Module Have
------------------- --------
CPAN 2.16
CPAN::Meta 2.150005
Cwd 3.47
ExtUtils::CBuilder 0.280220
ExtUtils::Command 1.17
ExtUtils::Install 1.59
ExtUtils::MakeMaker 7.04
ExtUtils::Manifest 1.65
ExtUtils::ParseXS 3.24
File::Spec 3.47
JSON 2.90
JSON::PP 2.27400
Module::Build 0.4210
Module::Signature n/a
Parse::CPAN::Meta 1.4422
Test::Harness 3.33
Test::More 1.001014
YAML 1.23
YAML::Syck 1.30
version 0.9902
--
Summary of my perl5 (revision 5 version 18 subversion 3) configuration:
Platform:
osname=freebsd, osvers=9.1-release, archname=i386-freebsd-thread-multi
uname='freebsd amber 9.1-release freebsd 9.1-release #0 r243826: tue dec 4 06:55:39 utc 2012 root@obrian.cse.buffalo.edu:usrobjusrsrcsysgeneric i386 '
config_args='-de -Dprefix=/home/njh/perl5/perlbrew/perls/perl-5.18.3 -Duseithreads -Dusemultiplicity -Dusedevel -Accflags=-O2 -W -Wformat=2 -Wswitch -Wshadow -Wwrite-strings -Wuninitialized -Wall -pipe -mtune=native -march=native -fomit-frame-pointer -msse2 -msse -mmmx -mfpmath=sse -pedantic -D_FORTIFY_SOURCE=2 -Wpointer-arith -Wstrict-prototypes -fstack-protector -Wstack-protector -Wextra -Wbad-function-cast -Wcast-align -Wcast-qual -Wdisabled-optimization -Wendif-labels -Wfloat-equal -Wformat-nonliteral -Winline -Wmissing-declarations -Wmissing-prototypes -Wnested-externs -Wpointer-arith -Wundef -Wformat-security -ftree-vectorize -Aeval:scriptdir=/home/njh/perl5/perlbrew/perls/perl-5.18.3/bin'
hint=recommended, useposix=true, d_sigaction=define
useithreads=define, usemultiplicity=define
useperlio=define, d_sfio=undef, uselargefiles=define, usesocks=undef
use64bitint=undef, use64bitall=undef, uselongdouble=undef
usemymalloc=n, bincompat5005=undef
Compiler:
cc='cc', ccflags ='-DHAS_FPSETMASK -DHAS_FLOATINGPOINT_H -O2 -W -Wformat=2 -Wswitch -Wshadow -Wwrite-strings -Wuninitialized -Wall -pipe -mtune=native -march=native -fomit-frame-pointer -msse2 -msse -mmmx -mfpmath=sse -pedantic -D_FORTIFY_SOURCE=2 -Wpointer-arith -Wstrict-prototypes -fstack-protector -Wstack-protector -Wextra -Wbad-function-cast -Wcast-align -Wcast-qual -Wdisabled-optimization -Wendif-labels -Wfloat-equal -Wformat-nonliteral -Winline -Wmissing-declarations -Wmissing-prototypes -Wnested-externs -Wpointer-arith -Wundef -Wformat-security -ftree-vectorize -fno-strict-aliasing -I/usr/local/include',
optimize='-O',
cppflags='-DHAS_FPSETMASK -DHAS_FLOATINGPOINT_H -O2 -W -Wformat=2 -Wswitch -Wshadow -Wwrite-strings -Wuninitialized -Wall -pipe -mtune=native -march=native -fomit-frame-pointer -msse2 -msse -mmmx -mfpmath=sse -pedantic -D_FORTIFY_SOURCE=2 -Wpointer-arith -Wstrict-prototypes -fstack-protector -Wstack-protector -Wextra -Wbad-function-cast -Wcast-align -Wcast-qual -Wdisabled-optimization -Wendif-labels -Wfloat-equal -Wformat-nonliteral -Winline -Wmissing-declarations -Wmissing-prototypes -Wnested-externs -Wpointer-arith -Wundef -Wformat-security -ftree-vectorize -fno-strict-aliasing -I/usr/local/include'
ccversion='', gccversion='4.2.1 20070831 patched [FreeBSD]', gccosandvers=''
intsize=4, longsize=4, ptrsize=4, doublesize=8, byteorder=1234
d_longlong=define, longlongsize=8, d_longdbl=define, longdblsize=12
ivtype='long', ivsize=4, nvtype='double', nvsize=8, Off_t='off_t', lseeksize=8
alignbytes=4, prototype=define
Linker and Libraries:
ld='cc', ldflags ='-pthread -Wl,-E -fstack-protector -L/usr/local/lib'
libpth=/usr/lib /usr/local/lib
libs=-lm -lcrypt
perllibs=-lm -lcrypt
libc=, so=so, useshrplib=false, libperl=libperl.a
gnulibc_version=''
Dynamic Linking:
dlsrc=dl_dlopen.xs, dlext=so, d_dlsymun=undef, ccdlflags=' '
cccdlflags='-DPIC -fPIC', lddlflags='-shared -L/usr/local/lib -fstack-protector'
Characteristics of this binary (from libperl):
Compile-time options: HAS_TIMES MULTIPLICITY PERLIO_LAYERS
PERL_DONT_CREATE_GVSV
PERL_HASH_FUNC_ONE_AT_A_TIME_HARD
PERL_IMPLICIT_CONTEXT PERL_MALLOC_WRAP
PERL_PRESERVE_IVUV PERL_SAWAMPERSAND PERL_USE_DEVEL
USE_ITHREADS USE_LARGE_FILES USE_LOCALE
USE_LOCALE_COLLATE USE_LOCALE_CTYPE
USE_LOCALE_NUMERIC USE_PERLIO USE_PERL_ATOF
USE_REENTRANT_API
Built under freebsd
Compiled at Oct 2 2014 18:23:46
%ENV:
PERL5LIB="/home/njh/.cpan/build/Test-Number-Delta-1.06-0/blib/arch:/home/njh/.cpan/build/Test-Number-Delta-1.06-0/blib/lib"
PERL5OPT=""
PERL5_CPANPLUS_IS_RUNNING="60454"
PERL5_CPAN_IS_RUNNING="60454"
PERLBREW_BASHRC_VERSION="0.80"
PERLBREW_HOME="/home/njh/.perlbrew"
PERLBREW_MANPATH="/home/njh/perl5/perlbrew/perls/perl-5.18.3/man"
PERLBREW_PATH="/home/njh/perl5/perlbrew/bin:/home/njh/perl5/perlbrew/perls/perl-5.18.3/bin"
PERLBREW_PERL="perl-5.18.3"
PERLBREW_ROOT="/home/njh/perl5/perlbrew"
PERLBREW_VERSION="0.80"
@INC:
/home/njh/.cpan/build/Test-Number-Delta-1.06-0/blib/arch
/home/njh/.cpan/build/Test-Number-Delta-1.06-0/blib/lib
/home/njh/perl5/perlbrew/perls/perl-5.18.3/lib/site_perl/5.18.3/i386-freebsd-thread-multi
/home/njh/perl5/perlbrew/perls/perl-5.18.3/lib/site_perl/5.18.3
/home/njh/perl5/perlbrew/perls/perl-5.18.3/lib/5.18.3/i386-freebsd-thread-multi
/home/njh/perl5/perlbrew/perls/perl-5.18.3/lib/5.18.3
.