Back
From: metabase:user:30ae4450-2aae-11df-837a-5e0a49663a4f
Subject: PASS SQL-Maker-1.15 v5.20.0 RC1
Date: 2014-05-25T15:57:16Z
This distribution has been tested as part of the CPAN Testers
project, supporting the Perl programming language. See
http://wiki.cpantesters.org/ for more information or email
questions to cpan-testers-discuss@perl.org
--
Dear Tokuhiro Matsuno,
This is a computer-generated report for SQL-Maker-1.15
on perl 5.20.0, created by CPAN-Reporter-1.2011.
Thank you for uploading your work to CPAN. Congratulations!
All tests were successful.
Sections of this report:
* Tester comments
* Program output
* Prerequisites
* Environment and other context
------------------------------
TESTER COMMENTS
------------------------------
Additional comments from tester:
this report is from an automated smoke testing program
and was not reviewed by a human for accuracy
------------------------------
PROGRAM OUTPUT
------------------------------
Output from 'C:\Strawberry200rc1\perl\bin\perl.exe ./Build test':
t\00_compile.t .......................................... ok
t\01_delete.t ........................................... ok
t\01_insert.t ........................................... ok
t\01_select.t ........................................... ok
t\01_simple.t ........................................... ok
t\01_update.t ........................................... ok
t\01_util.t ............................................. ok
t\02_where.t ............................................ ok
t\09_new_line.t ......................................... ok
t\10_subquery.t ......................................... ok
t\11_set.t .............................................. ok
t\12_insert_empty.t ..................................... ok
t\condition\01_where.t .................................. ok
t\condition\02_make_term.t .............................. ok
t\condition\03_add_raw.t ................................ ok
t\condition\04_compose_empty.t .......................... ok
t\condition\05_empty_values.t ........................... ok
t\plugins\insert_multi\01_insert_multi.t ................ ok
t\plugins\insert_on_duplicate\01_insert_on_duplicate.t .. ok
t\select\01_statement.t ................................. ok
t\select\02_pod_select.t ................................ ok
t\select\oracle\01_oracle.t ............................. ok
t\sql_type\01_sql_type.t ................................ ok
t\sql_type\02_synopsis.t ................................ ok
All tests successful.
Files=24, Tests=94, 4 wallclock secs ( 0.08 usr + 0.12 sys = 0.20 CPU)
Result: PASS
------------------------------
PREREQUISITES
------------------------------
Prerequisite modules loaded:
requires:
Module Need Have
--------------------- -------- --------
Class::Accessor::Lite 0.05 0.06
DBI 0 1.631
Module::Load 0 0.32
parent 0 0.228
perl 5.008001 5.020000
Scalar::Util 0 1.38
build_requires:
Module Need Have
--------------------- -------- --------
ExtUtils::CBuilder 0 0.280216
Test::More 0.98 1.001003
Test::Requires 0 0.07
Tie::IxHash 0 1.23
configure_requires:
Module Need Have
--------------------- -------- --------
CPAN::Meta 0 2.141170
CPAN::Meta::Prereqs 0 2.141170
Module::Build 0.38 0.4205
------------------------------
ENVIRONMENT AND OTHER CONTEXT
------------------------------
Environment variables:
AUTOMATED_TESTING = 1
COMSPEC = C:\WINDOWS\system32\cmd.exe
NUMBER_OF_PROCESSORS = 1
PATH = C:\Program Files\Far Manager\;C:\WINDOWS\system32;C:\WINDOWS;C:\WINDOWS\System32\Wbem;C:\Strawberry200rc1\c\bin;C:\Strawberry200rc1\perl\site\bin;C:\Strawberry200rc1\perl\bin
PERL5LIB = C:\STRAWB~1\cpan\build\DBIx-Sunny-0.21-4sxzH2/blib/arch;C:\STRAWB~1\cpan\build\DBIx-Sunny-0.21-4sxzH2/blib/lib;C:\STRAWB~1\cpan\build\DBIx-TransactionManager-1.12-5B5KeF/blib/arch;C:\STRAWB~1\cpan\build\DBIx-TransactionManager-1.12-5B5KeF/blib/lib;C:\STRAWB~1\cpan\build\Data-Validator-1.04-HMXfG2/blib/arch;C:\STRAWB~1\cpan\build\Data-Validator-1.04-HMXfG2/blib/lib
PERL5OPT =
PERL5_CPANPLUS_IS_RUNNING = 2028
PERL5_CPAN_IS_RUNNING = 2028
PERL5_CPAN_IS_RUNNING_IN_RECURSION = 1008,2028
PERL_CR_SMOKER_CURRENT = Otogiri-0.10
PERL_EXTUTILS_AUTOINSTALL = --defaultdeps
PERL_HASH_SEED = 0x11111111
PERL_MM_USE_DEFAULT = 1
PROCESSOR_IDENTIFIER = x86 Family 16 Model 5 Stepping 3, AuthenticAMD
TEMP = C:\DOCUME~1\c\LOCALS~1\Temp
Perl special variables (and OS-specific diagnostics, for MSWin32):
$^X = C:\Strawberry200rc1\perl\bin\perl.exe
$UID/$EUID = 0 / 0
$GID = 0
$EGID = 0
Win32::GetOSName = WinXP/.Net
Win32::GetOSVersion = Service Pack 3, 5, 1, 2600, 2, 3, 0, 256, 1
Win32::FsType = NTFS
Win32::IsAdminUser = 1
Perl module toolchain versions installed:
Module Have
------------------- --------
CPAN 2.05
CPAN::Meta 2.141170
Cwd 3.47
ExtUtils::CBuilder 0.280216
ExtUtils::Command 1.18
ExtUtils::Install 1.67
ExtUtils::MakeMaker 6.98
ExtUtils::Manifest 1.63
ExtUtils::ParseXS 3.24
File::Spec 3.47
JSON 2.90
JSON::PP 2.27203
Module::Build 0.4205
Module::Signature n/a
Parse::CPAN::Meta 1.4414
Test::Harness 3.30
Test::More 1.001003
YAML 0.90
YAML::Syck 1.27
version 0.9908
--
Summary of my perl5 (revision 5 version 20 subversion 0) configuration:
Platform:
osname=MSWin32, osvers=6.2, archname=MSWin32-x86-multi-thread-64int
uname='Win32 strawberry-perl 5.20.0.1-beta1 #1 Wed May 21 15:56:15 2014 i386'
config_args='undef'
hint=recommended, useposix=true, d_sigaction=undef
useithreads=define, usemultiplicity=define
use64bitint=define, use64bitall=undef, uselongdouble=undef
usemymalloc=n, bincompat5005=undef
Compiler:
cc='gcc', ccflags =' -s -O2 -DWIN32 -DPERL_TEXTMODE_SCRIPTS -DPERL_IMPLICIT_CONTEXT -DPERL_IMPLICIT_SYS -DUSE_PERLIO -fwrapv -fno-strict-aliasing -mms-bitfields',
optimize='-s -O2',
cppflags='-DWIN32'
ccversion='', gccversion='4.8.2', gccosandvers=''
intsize=4, longsize=4, ptrsize=4, doublesize=8, byteorder=12345678
d_longlong=define, longlongsize=8, d_longdbl=define, longdblsize=12
ivtype='long long', ivsize=8, nvtype='double', nvsize=8, Off_t='long long', lseeksize=8
alignbytes=8, prototype=define
Linker and Libraries:
ld='g++', ldflags ='-s -L"C:\STRAWB~1\perl\lib\CORE" -L"C:\STRAWB~1\c\lib"'
libpth=C:\STRAWB~1\c\lib C:\STRAWB~1\c\i686-w64-mingw32\lib C:\STRAWB~1\c\lib\gcc\i686-w64-mingw32\4.8.2
libs=-lmoldname -lkernel32 -luser32 -lgdi32 -lwinspool -lcomdlg32 -ladvapi32 -lshell32 -lole32 -loleaut32 -lnetapi32 -luuid -lws2_32 -lmpr -lwinmm -lversion -lodbc32 -lodbccp32 -lcomctl32
perllibs=-lmoldname -lkernel32 -luser32 -lgdi32 -lwinspool -lcomdlg32 -ladvapi32 -lshell32 -lole32 -loleaut32 -lnetapi32 -luuid -lws2_32 -lmpr -lwinmm -lversion -lodbc32 -lodbccp32 -lcomctl32
libc=, so=dll, useshrplib=true, libperl=libperl520.a
gnulibc_version=''
Dynamic Linking:
dlsrc=dl_win32.xs, dlext=xs.dll, d_dlsymun=undef, ccdlflags=' '
cccdlflags=' ', lddlflags='-mdll -s -L"C:\STRAWB~1\perl\lib\CORE" -L"C:\STRAWB~1\c\lib"'
Characteristics of this binary (from libperl):
Compile-time options: HAS_TIMES HAVE_INTERP_INTERN MULTIPLICITY
PERLIO_LAYERS PERL_DONT_CREATE_GVSV
PERL_HASH_FUNC_ONE_AT_A_TIME_HARD
PERL_IMPLICIT_CONTEXT PERL_IMPLICIT_SYS
PERL_MALLOC_WRAP PERL_NEW_COPY_ON_WRITE
PERL_PRESERVE_IVUV USE_64_BIT_INT USE_ITHREADS
USE_LARGE_FILES USE_LOCALE USE_LOCALE_COLLATE
USE_LOCALE_CTYPE USE_LOCALE_NUMERIC USE_PERLIO
USE_PERL_ATOF
Locally applied patches:
RC1
Built under MSWin32
Compiled at May 21 2014 16:00:07
%ENV:
PERL5LIB="C:\STRAWB~1\cpan\build\DBIx-Sunny-0.21-4sxzH2/blib/arch;C:\STRAWB~1\cpan\build\DBIx-Sunny-0.21-4sxzH2/blib/lib;C:\STRAWB~1\cpan\build\DBIx-TransactionManager-1.12-5B5KeF/blib/arch;C:\STRAWB~1\cpan\build\DBIx-TransactionManager-1.12-5B5KeF/blib/lib;C:\STRAWB~1\cpan\build\Data-Validator-1.04-HMXfG2/blib/arch;C:\STRAWB~1\cpan\build\Data-Validator-1.04-HMXfG2/blib/lib"
PERL5_CPANPLUS_IS_RUNNING="2028"
PERL5_CPAN_IS_RUNNING="2028"
PERL5_CPAN_IS_RUNNING_IN_RECURSION="1008,2028"
PERL_CR_SMOKER_CURRENT="Otogiri-0.10"
PERL_EXTUTILS_AUTOINSTALL="--defaultdeps"
PERL_HASH_SEED="0x11111111"
PERL_MM_USE_DEFAULT="1"
@INC:
C:\STRAWB~1\cpan\build\DBIx-Sunny-0.21-4sxzH2/blib/arch
C:\STRAWB~1\cpan\build\DBIx-Sunny-0.21-4sxzH2/blib/lib
C:\STRAWB~1\cpan\build\DBIx-TransactionManager-1.12-5B5KeF/blib/arch
C:\STRAWB~1\cpan\build\DBIx-TransactionManager-1.12-5B5KeF/blib/lib
C:\STRAWB~1\cpan\build\Data-Validator-1.04-HMXfG2/blib/arch
C:\STRAWB~1\cpan\build\Data-Validator-1.04-HMXfG2/blib/lib
C:/Strawberry200rc1/perl/site/lib
C:/Strawberry200rc1/perl/vendor/lib
C:/Strawberry200rc1/perl/lib
.