Back
From: metabase:user:917c2b6a-77f3-11e5-af78-c9d573d1e3cf
Subject: PASS Win32-Mock-0.05 v5.22.0 Mac OS X
Date: 2015-11-30T08:28:30Z
This distribution has been tested as part of the CPAN Testers
project, supporting the Perl programming language. See
http://wiki.cpantesters.org/ for more information or email
questions to cpan-testers-discuss@perl.org
--
Dear Sebastien Aperghis-Tramoni,
This is a computer-generated report for Win32-Mock-0.05
on perl 5.22.0, created by CPAN-Reporter-1.2015.
Thank you for uploading your work to CPAN. Congratulations!
All tests were successful.
Sections of this report:
* Tester comments
* Program output
* Prerequisites
* Environment and other context
------------------------------
TESTER COMMENTS
------------------------------
Additional comments from tester:
this report is from an automated smoke testing program
and was not reviewed by a human for accuracy
------------------------------
PROGRAM OUTPUT
------------------------------
Output from './Build test':
Undefined value assigned to typeglob at /Users/petr/.cpan/build/Devel-FakeOSName-0.01-rKt6QR/blib/lib/Devel/FakeOSName.pm line 21.
# Testing Win32::Mock 0.05, Perl 5.022000, /Users/petr/perl5/perlbrew/perls/perl-5.22.0/bin/perl
t/00-load.t .............................. ok
t/pod-coverage.t ......................... skipped: *** disabled for now ***
t/pod.t .................................. skipped: *** disabled for now ***
Undefined value assigned to typeglob at /Users/petr/.cpan/build/Devel-FakeOSName-0.01-rKt6QR/blib/lib/Devel/FakeOSName.pm line 21.
t/core/Win32/CopyFile.t .................. ok
Undefined value assigned to typeglob at /Users/petr/.cpan/build/Devel-FakeOSName-0.01-rKt6QR/blib/lib/Devel/FakeOSName.pm line 21.
Subroutine STORE redefined at /Users/petr/perl5/perlbrew/perls/perl-5.22.0/lib/5.22.0/darwin-2level/Config_heavy.pl line 1380.
t/core/Win32/CreateFile.t ................ ok
Undefined value assigned to typeglob at /Users/petr/.cpan/build/Devel-FakeOSName-0.01-rKt6QR/blib/lib/Devel/FakeOSName.pm line 21.
Subroutine STORE redefined at /Users/petr/perl5/perlbrew/perls/perl-5.22.0/lib/5.22.0/darwin-2level/Config_heavy.pl line 1380.
t/core/Win32/ExpandEnvironmentStrings.t .. ok
Undefined value assigned to typeglob at /Users/petr/.cpan/build/Devel-FakeOSName-0.01-rKt6QR/blib/lib/Devel/FakeOSName.pm line 21.
Subroutine STORE redefined at /Users/petr/perl5/perlbrew/perls/perl-5.22.0/lib/5.22.0/darwin-2level/Config_heavy.pl line 1380.
t/core/Win32/GetCurrentThreadId.t ........ skipped: Test requires fork emulation
Undefined value assigned to typeglob at /Users/petr/.cpan/build/Devel-FakeOSName-0.01-rKt6QR/blib/lib/Devel/FakeOSName.pm line 21.
Subroutine STORE redefined at /Users/petr/perl5/perlbrew/perls/perl-5.22.0/lib/5.22.0/darwin-2level/Config_heavy.pl line 1380.
t/core/Win32/GetFileVersion.t ............ ok
Undefined value assigned to typeglob at /Users/petr/.cpan/build/Devel-FakeOSName-0.01-rKt6QR/blib/lib/Devel/FakeOSName.pm line 21.
Subroutine STORE redefined at /Users/petr/perl5/perlbrew/perls/perl-5.22.0/lib/5.22.0/darwin-2level/Config_heavy.pl line 1380.
t/core/Win32/GetFolderPath.t ............. ok
t/core/Win32/GetFullPathName.t ........... skipped: because these tests are too hard to mock
t/core/Win32/GetLongPathName.t ........... skipped: because these tests are too hard to mock
Undefined value assigned to typeglob at /Users/petr/.cpan/build/Devel-FakeOSName-0.01-rKt6QR/blib/lib/Devel/FakeOSName.pm line 21.
Subroutine STORE redefined at /Users/petr/perl5/perlbrew/perls/perl-5.22.0/lib/5.22.0/darwin-2level/Config_heavy.pl line 1380.
t/core/Win32/GetOSVersion.t .............. ok
t/core/Win32/GetShortPathName.t .......... skipped: because these tests are too hard to mock
Undefined value assigned to typeglob at /Users/petr/.cpan/build/Devel-FakeOSName-0.01-rKt6QR/blib/lib/Devel/FakeOSName.pm line 21.
Subroutine STORE redefined at /Users/petr/perl5/perlbrew/perls/perl-5.22.0/lib/5.22.0/darwin-2level/Config_heavy.pl line 1380.
t/core/Win32/GuidGen.t ................... ok
Undefined value assigned to typeglob at /Users/petr/.cpan/build/Devel-FakeOSName-0.01-rKt6QR/blib/lib/Devel/FakeOSName.pm line 21.
t/core/Win32/Names.t ..................... ok
Undefined value assigned to typeglob at /Users/petr/.cpan/build/Devel-FakeOSName-0.01-rKt6QR/blib/lib/Devel/FakeOSName.pm line 21.
Subroutine STORE redefined at /Users/petr/perl5/perlbrew/perls/perl-5.22.0/lib/5.22.0/darwin-2level/Config_heavy.pl line 1380.
t/core/Win32/Unicode.t ................... skipped: Filesystem doesn't support Unicode
Undefined value assigned to typeglob at /Users/petr/.cpan/build/Devel-FakeOSName-0.01-rKt6QR/blib/lib/Devel/FakeOSName.pm line 21.
t/core/Win32CORE/win32core.t ............. ok
t/libwin32/APINet/test.t ................. skipped: *** NOT IMPLEMENTED
t/libwin32/Clipboard/test.t .............. skipped: *** NOT IMPLEMENTED
t/libwin32/EventLog/eventlog.t ........... skipped: *** NOT IMPLEMENTED
Undefined value assigned to typeglob at /Users/petr/.cpan/build/Devel-FakeOSName-0.01-rKt6QR/blib/lib/Devel/FakeOSName.pm line 21.
t/libwin32/File/file.t ................... ok
t/libwin32/NetAdmin/netadmin.t ........... skipped: *** NOT IMPLEMENTED
t/libwin32/NetResource/netresource.t ..... skipped: *** NOT IMPLEMENTED
t/libwin32/OLE/1_nls.t ................... skipped: *** NOT IMPLEMENTED
t/libwin32/OLE/2_variant.t ............... skipped: *** NOT IMPLEMENTED
t/libwin32/OLE/3_ole.t ................... skipped: *** NOT IMPLEMENTED
t/libwin32/OLE/4_compat.t ................ skipped: *** NOT IMPLEMENTED
t/libwin32/OLE/5_unicode.t ............... skipped: *** NOT IMPLEMENTED
t/libwin32/OLE/6_event.t ................. skipped: *** NOT IMPLEMENTED
t/libwin32/OLE/7_overload.t .............. skipped: *** NOT IMPLEMENTED
t/libwin32/Registry/registry.t ........... skipped: *** NOT IMPLEMENTED
Undefined value assigned to typeglob at /Users/petr/.cpan/build/Devel-FakeOSName-0.01-rKt6QR/blib/lib/Devel/FakeOSName.pm line 21.
dummy|dummy
ServiceSpecificExitCode 0
WaitHint 0
Win32ExitCode 0
ControlsAccepted 2
CheckPoint 0
ServiceType 16
CurrentState 7
t/libwin32/Service/service.t ............. ok
All tests successful.
Files=32, Tests=59, 2 wallclock secs ( 0.10 usr 0.09 sys + 0.66 cusr 0.26 csys = 1.11 CPU)
Result: PASS
------------------------------
PREREQUISITES
------------------------------
Prerequisite modules loaded:
requires:
Module Need Have
----------------- ---- --------
constant 1.12 1.33
Devel::FakeOSName 0 0.01
ExtUtils::Command 0 1.20
File::Basename 0 2.85
File::Spec 0.7 3.56
build_requires:
Module Need Have
----------------- ---- --------
Test::More 0 1.001014
opt_requires:
Module Need Have
----------------- ---- --------
Data::GUID 0 0.048
File::HomeDir 0 1.00
------------------------------
ENVIRONMENT AND OTHER CONTEXT
------------------------------
Environment variables:
AUTOMATED_TESTING = 1
LANG = cs_CZ.UTF-8
PATH = /Users/petr/perl5/perlbrew/bin:/Users/petr/perl5/perlbrew/perls/perl-5.22.0/bin:/usr/local/bin:/usr/bin:/bin:/usr/sbin:/sbin
PERL5LIB = /Users/petr/.cpan/build/Devel-FakeOSName-0.01-rKt6QR/blib/arch:/Users/petr/.cpan/build/Devel-FakeOSName-0.01-rKt6QR/blib/lib
PERL5OPT =
PERL5_CPANPLUS_IS_RUNNING = 66744
PERL5_CPAN_IS_RUNNING = 66744
PERL5_CPAN_IS_RUNNING_IN_RECURSION = 374,66744
PERLBREW_BASHRC_VERSION = 0.74
PERLBREW_HOME = /Users/petr/.perlbrew
PERLBREW_MANPATH = /Users/petr/perl5/perlbrew/perls/perl-5.22.0/man
PERLBREW_PATH = /Users/petr/perl5/perlbrew/bin:/Users/petr/perl5/perlbrew/perls/perl-5.22.0/bin
PERLBREW_PERL = perl-5.22.0
PERLBREW_ROOT = /Users/petr/perl5/perlbrew
PERLBREW_VERSION = 0.74
PERL_CR_SMOKER_CURRENT = Win32-Mock-0.05
PERL_EXTUTILS_AUTOINSTALL = --defaultdeps
PERL_MM_USE_DEFAULT = 1
SHELL = /bin/bash
TERM = xterm-256color
TMPDIR = /var/folders/x5/mbl5nhls3z779qkgqvdxmbqc0000gn/T/
Perl special variables (and OS-specific diagnostics, for MSWin32):
$^X = /Users/petr/perl5/perlbrew/perls/perl-5.22.0/bin/perl
$UID/$EUID = 501 / 501
$GID = 20 20 701 12 61 79 80 81 98 33 100 204 395 398 399
$EGID = 20 20 701 12 61 79 80 81 98 33 100 204 395 398 399
Perl module toolchain versions installed:
Module Have
------------------- --------
CPAN 2.11
CPAN::Meta 2.150001
Cwd 3.56
ExtUtils::CBuilder 0.280221
ExtUtils::Command 1.20
ExtUtils::Install 2.04
ExtUtils::MakeMaker 7.04_01
ExtUtils::Manifest 1.70
ExtUtils::ParseXS 3.28
File::Spec 3.56
JSON 2.90
JSON::PP 2.27300
Module::Build 0.4214
Module::Signature n/a
Parse::CPAN::Meta 1.4414
Test::Harness 3.35
Test::More 1.001014
YAML 1.15
YAML::Syck 1.29
version 0.9909
--
Summary of my perl5 (revision 5 version 22 subversion 0) configuration:
Platform:
osname=darwin, osvers=15.0.0, archname=darwin-2level
uname='darwin petrs-macbook-pro.local 15.0.0 darwin kernel version 15.0.0: sat sep 19 15:53:46 pdt 2015; root:xnu-3247.10.11~1release_x86_64 x86_64 '
config_args='-de -Dprefix=/Users/petr/perl5/perlbrew/perls/perl-5.22.0 -Aeval:scriptdir=/Users/petr/perl5/perlbrew/perls/perl-5.22.0/bin'
hint=recommended, useposix=true, d_sigaction=define
useithreads=undef, usemultiplicity=undef
use64bitint=define, use64bitall=define, uselongdouble=undef
usemymalloc=n, bincompat5005=undef
Compiler:
cc='cc', ccflags ='-fno-common -DPERL_DARWIN -fno-strict-aliasing -pipe -fstack-protector-strong',
optimize='-O3',
cppflags='-fno-common -DPERL_DARWIN -fno-strict-aliasing -pipe -fstack-protector-strong'
ccversion='', gccversion='4.2.1 Compatible Apple LLVM 7.0.0 (clang-700.1.76)', gccosandvers=''
intsize=4, longsize=8, ptrsize=8, doublesize=8, byteorder=12345678, doublekind=3
d_longlong=define, longlongsize=8, d_longdbl=define, longdblsize=16, longdblkind=3
ivtype='long', ivsize=8, nvtype='double', nvsize=8, Off_t='off_t', lseeksize=8
alignbytes=8, prototype=define
Linker and Libraries:
ld='env MACOSX_DEPLOYMENT_TARGET=10.3 cc', ldflags =' -fstack-protector-strong'
libpth=/Library/Developer/CommandLineTools/usr/bin/../lib/clang/7.0.0/lib /Library/Developer/CommandLineTools/usr/lib /usr/lib
libs=-lpthread -ldbm -ldl -lm -lutil -lc
perllibs=-lpthread -ldl -lm -lutil -lc
libc=, so=dylib, useshrplib=false, libperl=libperl.a
gnulibc_version=''
Dynamic Linking:
dlsrc=dl_dlopen.xs, dlext=bundle, d_dlsymun=undef, ccdlflags=' '
cccdlflags=' ', lddlflags=' -bundle -undefined dynamic_lookup -fstack-protector-strong'
Characteristics of this binary (from libperl):
Compile-time options: HAS_TIMES PERLIO_LAYERS PERL_DONT_CREATE_GVSV
PERL_HASH_FUNC_ONE_AT_A_TIME_HARD PERL_MALLOC_WRAP
PERL_NEW_COPY_ON_WRITE PERL_PRESERVE_IVUV
USE_64_BIT_ALL USE_64_BIT_INT USE_LARGE_FILES
USE_LOCALE USE_LOCALE_COLLATE USE_LOCALE_CTYPE
USE_LOCALE_NUMERIC USE_LOCALE_TIME USE_PERLIO
USE_PERL_ATOF
Locally applied patches:
Devel::PatchPerl 1.38
Built under darwin
Compiled at Nov 26 2015 13:23:50
%ENV:
PERL5LIB="/Users/petr/.cpan/build/Devel-FakeOSName-0.01-rKt6QR/blib/arch:/Users/petr/.cpan/build/Devel-FakeOSName-0.01-rKt6QR/blib/lib"
PERL5OPT=""
PERL5_CPANPLUS_IS_RUNNING="66744"
PERL5_CPAN_IS_RUNNING="66744"
PERL5_CPAN_IS_RUNNING_IN_RECURSION="374,66744"
PERLBREW_BASHRC_VERSION="0.74"
PERLBREW_HOME="/Users/petr/.perlbrew"
PERLBREW_MANPATH="/Users/petr/perl5/perlbrew/perls/perl-5.22.0/man"
PERLBREW_PATH="/Users/petr/perl5/perlbrew/bin:/Users/petr/perl5/perlbrew/perls/perl-5.22.0/bin"
PERLBREW_PERL="perl-5.22.0"
PERLBREW_ROOT="/Users/petr/perl5/perlbrew"
PERLBREW_VERSION="0.74"
PERL_CR_SMOKER_CURRENT="Win32-Mock-0.05"
PERL_EXTUTILS_AUTOINSTALL="--defaultdeps"
PERL_MM_USE_DEFAULT="1"
@INC:
/Users/petr/.cpan/build/Devel-FakeOSName-0.01-rKt6QR/blib/arch
/Users/petr/.cpan/build/Devel-FakeOSName-0.01-rKt6QR/blib/lib
/Users/petr/perl5/perlbrew/perls/perl-5.22.0/lib/site_perl/5.22.0/darwin-2level
/Users/petr/perl5/perlbrew/perls/perl-5.22.0/lib/site_perl/5.22.0
/Users/petr/perl5/perlbrew/perls/perl-5.22.0/lib/5.22.0/darwin-2level
/Users/petr/perl5/perlbrew/perls/perl-5.22.0/lib/5.22.0
.