Report for Dist-Zilla-Plugin-CheckExtraTests-0.020

Back
From: metabase:user:30ae4450-2aae-11df-837a-5e0a49663a4f
Subject: PASS Dist-Zilla-Plugin-CheckExtraTests-0.020 v5.18.1 GNU/Linux
Date: 2014-03-24T19:41:47Z

This distribution has been tested as part of the CPAN Testers
project, supporting the Perl programming language.  See
http://wiki.cpantesters.org/ for more information or email
questions to cpan-testers-discuss@perl.org


--
Dear David Golden,

This is a computer-generated report for Dist-Zilla-Plugin-CheckExtraTests-0.020
on perl 5.18.1, created by CPAN-Reporter-1.2010.

Thank you for uploading your work to CPAN.  Congratulations!
All tests were successful.

Sections of this report:

    * Tester comments
    * Program output
    * Prerequisites
    * Environment and other context

------------------------------
TESTER COMMENTS
------------------------------

Additional comments from tester:

this report is from an automated smoke testing program
and was not reviewed by a human for accuracy

------------------------------
PROGRAM OUTPUT
------------------------------

Output from '/usr/bin/make test':

PERL_DL_NONLAZY=1 /home/c/perl5/perlbrew/perls/18.1i/bin/perl "-MExtUtils::Command::MM" "-MTest::Harness" "-e" "undef *Test::Harness::Switches; test_harness(0, 'blib/lib', 'blib/arch')" t/*.t
# 
# Versions for all modules listed in MYMETA.json (including optional ones):
#    Version Module                          
#   -------- --------------------------------
#       3.30 App::Prove                      
#       1.90 Archive::Tar                    
#   2.133380 CPAN::Meta                      
#      2.122 CPAN::Meta::Requirements        
#       0.23 Capture::Tiny                   
#      5.011 Dist::Zilla                     
#      5.011 Dist::Zilla::App                
#      5.011 Dist::Zilla::App::Tester        
#      5.011 Dist::Zilla::Role::BeforeRelease
#      5.011 Dist::Zilla::Role::TestRunner   
#      5.011 Dist::Zilla::Tester             
#       6.86 ExtUtils::MakeMaker             
#       3.40 File::Spec::Functions           
#      1.005 File::pushd                     
#       1.35 List::Util                      
#     2.1201 Moose                           
#       0.15 Moose::Autobox                  
#       1.07 Params::Util                    
#      1.006 Path::Iterator::Rule            
#      0.052 Path::Tiny                      
#      0.987 Sub::Exporter                   
#   1.001002 Test::More                      
#       0.07 Test::Requires                  
#       0.18 Try::Tiny                       
#       0.63 lib                             
#       0.15 namespace::autoclean            
#       1.07 strict                          
#     0.9907 version                         
#       1.18 warnings                        
t/00-report-prereqs.t .. ok
t/checkxt.t ............ ok
t/runxt.t .............. ok
t/withblib.t ........... ok
All tests successful.
Files=4, Tests=16, 11 wallclock secs ( 0.04 usr  0.04 sys +  6.93 cusr  1.94 csys =  8.95 CPU)
Result: PASS

------------------------------
PREREQUISITES
------------------------------

Prerequisite modules loaded:

requires:

    Module                           Need Have    
    -------------------------------- ---- --------
    App::Prove                       3.00 3.30    
    Archive::Tar                     0    1.90    
    Dist::Zilla                      4.3  5.011   
    Dist::Zilla::App                 0    5.011   
    Dist::Zilla::Role::BeforeRelease 0    5.011   
    Dist::Zilla::Role::TestRunner    0    5.011   
    File::pushd                      0    1.005   
    Moose                            2    2.1201  
    Moose::Autobox                   0    0.15    
    namespace::autoclean             0.09 0.15    
    Path::Iterator::Rule             0    1.006   
    Path::Tiny                       0    0.052   
    strict                           0    1.07    
    warnings                         0    1.18    

build_requires:

    Module                           Need Have    
    -------------------------------- ---- --------
    Capture::Tiny                    0    0.23    
    Dist::Zilla::App::Tester         0    5.011   
    Dist::Zilla::Tester              0    5.011   
    ExtUtils::MakeMaker              0    6.86    
    File::Spec::Functions            0    3.40    
    lib                              0    0.63    
    List::Util                       0    1.35    
    Params::Util                     0    1.07    
    Sub::Exporter                    0    0.987   
    Test::More                       0.88 1.001002
    Test::Requires                   0    0.07    
    Try::Tiny                        0    0.18    
    version                          0    0.9907  

configure_requires:

    Module                           Need Have    
    -------------------------------- ---- --------
    ExtUtils::MakeMaker              6.17 6.86    


------------------------------
ENVIRONMENT AND OTHER CONTEXT
------------------------------

Environment variables:

    AUTOMATED_TESTING = 1
    LANG = ru_RU.utf8
    PATH = /home/c/perl5/perlbrew/bin:/home/c/perl5/perlbrew/perls/18.1i/bin:/usr/local/bin:/usr/bin:/bin:/usr/local/games:/usr/games
    PERL5LIB = /home/c/.cpan/build/Dist-Zilla-Plugin-VerifyPhases-0.002-FVz1wa/blib/arch:/home/c/.cpan/build/Dist-Zilla-Plugin-VerifyPhases-0.002-FVz1wa/blib/lib:/home/c/.cpan/build/Dist-Zilla-Plugin-MakeMaker-Fallback-0.009-N2ik3C/blib/arch:/home/c/.cpan/build/Dist-Zilla-Plugin-MakeMaker-Fallback-0.009-N2ik3C/blib/lib:/home/c/.cpan/build/Dist-Zilla-Plugin-GenerateFile-ShareDir-0.005-HX13rQ/blib/arch:/home/c/.cpan/build/Dist-Zilla-Plugin-GenerateFile-ShareDir-0.005-HX13rQ/blib/lib:/home/c/.cpan/build/MooseX-SlurpyConstructor-1.2-_lvS0R/blib/arch:/home/c/.cpan/build/MooseX-SlurpyConstructor-1.2-_lvS0R/blib/lib:/home/c/.cpan/build/Dist-Zilla-PluginBundle-Git-CheckFor-0.009-Fd5u_v/blib/arch:/home/c/.cpan/build/Dist-Zilla-PluginBundle-Git-CheckFor-0.009-Fd5u_v/blib/lib:/home/c/.cpan/build/Dist-Zilla-Plugin-Git-2.020-oREQlD/blib/arch:/home/c/.cpan/build/Dist-Zilla-Plugin-Git-2.020-oREQlD/blib/lib:/home/c/.cpan/build/MooseX-AttributeShortcuts-0.022-ElSKNY/blib/arch:/home/c/.cpan/build/MooseX-AttributeShortcuts-0.022-ElSKNY/blib/lib:/home/c/.cpan/build/Test-Moose-More-0.023-nKNe8b/blib/arch:/home/c/.cpan/build/Test-Moose-More-0.023-nKNe8b/blib/lib:/home/c/.cpan/build/Dist-Zilla-Plugin-CheckSelfDependency-0.007-4tO6UB/blib/arch:/home/c/.cpan/build/Dist-Zilla-Plugin-CheckSelfDependency-0.007-4tO6UB/blib/lib:/home/c/.cpan/build/Module-Build-Tiny-0.035-J3dPxl/blib/arch:/home/c/.cpan/build/Module-Build-Tiny-0.035-J3dPxl/blib/lib
    PERL5OPT = 
    PERL5_CPANPLUS_IS_RUNNING = 24484
    PERL5_CPAN_IS_RUNNING = 24484
    PERL5_CPAN_IS_RUNNING_IN_RECURSION = 15241,24484
    PERLBREW_MANPATH = /home/c/perl5/perlbrew/perls/18.1i/man
    PERLBREW_PATH = /home/c/perl5/perlbrew/bin:/home/c/perl5/perlbrew/perls/18.1i/bin
    PERLBREW_PERL = 18.1i
    PERLBREW_ROOT = /home/c/perl5/perlbrew
    PERLBREW_SKIP_INIT = 1
    PERLBREW_VERSION = 0.67
    PERL_CR_SMOKER_CURRENT = Dist-Zilla-PluginBundle-Author-ETHER-0.055
    PERL_EXTUTILS_AUTOINSTALL = --defaultdeps
    PERL_MM_USE_DEFAULT = 1
    SHELL = /bin/bash
    TERM = xterm

Perl special variables (and OS-specific diagnostics, for MSWin32):

    $^X = /home/c/perl5/perlbrew/perls/18.1i/bin/perl
    $UID/$EUID = 1000 / 1000
    $GID = 1000 24 25 29 30 44 46 103 105 108 110 1000
    $EGID = 1000 24 25 29 30 44 46 103 105 108 110 1000

Perl module toolchain versions installed:

    Module              Have    
    ------------------- --------
    CPAN                2.00    
    CPAN::Meta          2.133380
    Cwd                 3.40    
    ExtUtils::CBuilder  0.280210
    ExtUtils::Command   1.17    
    ExtUtils::Install   1.59    
    ExtUtils::MakeMaker 6.86    
    ExtUtils::Manifest  1.63    
    ExtUtils::ParseXS   3.22    
    File::Spec          3.40    
    JSON                2.90    
    JSON::PP            2.27203 
    Module::Build       0.4204  
    Module::Signature   n/a     
    Parse::CPAN::Meta   1.4405  
    Test::Harness       3.30    
    Test::More          1.001002
    YAML                0.88    
    YAML::Syck          1.27    
    version             0.9907  


--

Summary of my perl5 (revision 5 version 18 subversion 1) configuration:
   
  Platform:
    osname=linux, osvers=3.2.0-4-486, archname=i686-linux-thread-multi
    uname='linux deb7 3.2.0-4-486 #1 debian 3.2.51-1 i686 gnulinux '
    config_args='-de -Dprefix=/home/c/perl5/perlbrew/perls/18.1i -Dusethreads -Aeval:scriptdir=/home/c/perl5/perlbrew/perls/18.1i/bin'
    hint=recommended, useposix=true, d_sigaction=define
    useithreads=define, usemultiplicity=define
    useperlio=define, d_sfio=undef, uselargefiles=define, usesocks=undef
    use64bitint=undef, use64bitall=undef, uselongdouble=undef
    usemymalloc=n, bincompat5005=undef
  Compiler:
    cc='cc', ccflags ='-D_REENTRANT -D_GNU_SOURCE -fno-strict-aliasing -pipe -fstack-protector -I/usr/local/include -D_LARGEFILE_SOURCE -D_FILE_OFFSET_BITS=64',
    optimize='-O2',
    cppflags='-D_REENTRANT -D_GNU_SOURCE -fno-strict-aliasing -pipe -fstack-protector -I/usr/local/include'
    ccversion='', gccversion='4.7.2', gccosandvers=''
    intsize=4, longsize=4, ptrsize=4, doublesize=8, byteorder=1234
    d_longlong=define, longlongsize=8, d_longdbl=define, longdblsize=12
    ivtype='long', ivsize=4, nvtype='double', nvsize=8, Off_t='off_t', lseeksize=8
    alignbytes=4, prototype=define
  Linker and Libraries:
    ld='cc', ldflags =' -fstack-protector -L/usr/local/lib'
    libpth=/usr/local/lib /lib/i386-linux-gnu /lib/../lib /usr/lib/i386-linux-gnu /usr/lib/../lib /lib /usr/lib
    libs=-lnsl -lgdbm -ldb -ldl -lm -lcrypt -lutil -lpthread -lc -lgdbm_compat
    perllibs=-lnsl -ldl -lm -lcrypt -lutil -lpthread -lc
    libc=, so=so, useshrplib=false, libperl=libperl.a
    gnulibc_version='2.13'
  Dynamic Linking:
    dlsrc=dl_dlopen.xs, dlext=so, d_dlsymun=undef, ccdlflags='-Wl,-E'
    cccdlflags='-fPIC', lddlflags='-shared -O2 -L/usr/local/lib -fstack-protector'


Characteristics of this binary (from libperl): 
  Compile-time options: HAS_TIMES MULTIPLICITY PERLIO_LAYERS
                        PERL_DONT_CREATE_GVSV
                        PERL_HASH_FUNC_ONE_AT_A_TIME_HARD
                        PERL_IMPLICIT_CONTEXT PERL_MALLOC_WRAP
                        PERL_PRESERVE_IVUV PERL_SAWAMPERSAND USE_ITHREADS
                        USE_LARGE_FILES USE_LOCALE USE_LOCALE_COLLATE
                        USE_LOCALE_CTYPE USE_LOCALE_NUMERIC USE_PERLIO
                        USE_PERL_ATOF USE_REENTRANT_API
  Built under linux
  Compiled at Jan 14 2014 14:37:40
  %ENV:
    PERL5LIB="/home/c/.cpan/build/Dist-Zilla-Plugin-VerifyPhases-0.002-FVz1wa/blib/arch:/home/c/.cpan/build/Dist-Zilla-Plugin-VerifyPhases-0.002-FVz1wa/blib/lib:/home/c/.cpan/build/Dist-Zilla-Plugin-MakeMaker-Fallback-0.009-N2ik3C/blib/arch:/home/c/.cpan/build/Dist-Zilla-Plugin-MakeMaker-Fallback-0.009-N2ik3C/blib/lib:/home/c/.cpan/build/Dist-Zilla-Plugin-GenerateFile-ShareDir-0.005-HX13rQ/blib/arch:/home/c/.cpan/build/Dist-Zilla-Plugin-GenerateFile-ShareDir-0.005-HX13rQ/blib/lib:/home/c/.cpan/build/MooseX-SlurpyConstructor-1.2-_lvS0R/blib/arch:/home/c/.cpan/build/MooseX-SlurpyConstructor-1.2-_lvS0R/blib/lib:/home/c/.cpan/build/Dist-Zilla-PluginBundle-Git-CheckFor-0.009-Fd5u_v/blib/arch:/home/c/.cpan/build/Dist-Zilla-PluginBundle-Git-CheckFor-0.009-Fd5u_v/blib/lib:/home/c/.cpan/build/Dist-Zilla-Plugin-Git-2.020-oREQlD/blib/arch:/home/c/.cpan/build/Dist-Zilla-Plugin-Git-2.020-oREQlD/blib/lib:/home/c/.cpan/build/MooseX-AttributeShortcuts-0.022-ElSKNY/blib/arch:/home/c/.cpan/build/MooseX-AttributeShortcuts-0.022-ElSKNY/blib/lib:/home/c/.cpan/build/Test-Moose-More-0.023-nKNe8b/blib/arch:/home/c/.cpan/build/Test-Moose-More-0.023-nKNe8b/blib/lib:/home/c/.cpan/build/Dist-Zilla-Plugin-CheckSelfDependency-0.007-4tO6UB/blib/arch:/home/c/.cpan/build/Dist-Zilla-Plugin-CheckSelfDependency-0.007-4tO6UB/blib/lib:/home/c/.cpan/build/Module-Build-Tiny-0.035-J3dPxl/blib/arch:/home/c/.cpan/build/Module-Build-Tiny-0.035-J3dPxl/blib/lib"
    PERL5OPT=""
    PERL5_CPANPLUS_IS_RUNNING="24484"
    PERL5_CPAN_IS_RUNNING="24484"
    PERL5_CPAN_IS_RUNNING_IN_RECURSION="15241,24484"
    PERLBREW_MANPATH="/home/c/perl5/perlbrew/perls/18.1i/man"
    PERLBREW_PATH="/home/c/perl5/perlbrew/bin:/home/c/perl5/perlbrew/perls/18.1i/bin"
    PERLBREW_PERL="18.1i"
    PERLBREW_ROOT="/home/c/perl5/perlbrew"
    PERLBREW_SKIP_INIT="1"
    PERLBREW_VERSION="0.67"
    PERL_CR_SMOKER_CURRENT="Dist-Zilla-PluginBundle-Author-ETHER-0.055"
    PERL_EXTUTILS_AUTOINSTALL="--defaultdeps"
    PERL_MM_USE_DEFAULT="1"
  @INC:
    /home/c/.cpan/build/Dist-Zilla-Plugin-VerifyPhases-0.002-FVz1wa/blib/arch
    /home/c/.cpan/build/Dist-Zilla-Plugin-VerifyPhases-0.002-FVz1wa/blib/lib
    /home/c/.cpan/build/Dist-Zilla-Plugin-MakeMaker-Fallback-0.009-N2ik3C/blib/arch
    /home/c/.cpan/build/Dist-Zilla-Plugin-MakeMaker-Fallback-0.009-N2ik3C/blib/lib
    /home/c/.cpan/build/Dist-Zilla-Plugin-GenerateFile-ShareDir-0.005-HX13rQ/blib/arch
    /home/c/.cpan/build/Dist-Zilla-Plugin-GenerateFile-ShareDir-0.005-HX13rQ/blib/lib
    /home/c/.cpan/build/MooseX-SlurpyConstructor-1.2-_lvS0R/blib/arch
    /home/c/.cpan/build/MooseX-SlurpyConstructor-1.2-_lvS0R/blib/lib
    /home/c/.cpan/build/Dist-Zilla-PluginBundle-Git-CheckFor-0.009-Fd5u_v/blib/arch
    /home/c/.cpan/build/Dist-Zilla-PluginBundle-Git-CheckFor-0.009-Fd5u_v/blib/lib
    /home/c/.cpan/build/Dist-Zilla-Plugin-Git-2.020-oREQlD/blib/arch
    /home/c/.cpan/build/Dist-Zilla-Plugin-Git-2.020-oREQlD/blib/lib
    /home/c/.cpan/build/MooseX-AttributeShortcuts-0.022-ElSKNY/blib/arch
    /home/c/.cpan/build/MooseX-AttributeShortcuts-0.022-ElSKNY/blib/lib
    /home/c/.cpan/build/Test-Moose-More-0.023-nKNe8b/blib/arch
    /home/c/.cpan/build/Test-Moose-More-0.023-nKNe8b/blib/lib
    /home/c/.cpan/build/Dist-Zilla-Plugin-CheckSelfDependency-0.007-4tO6UB/blib/arch
    /home/c/.cpan/build/Dist-Zilla-Plugin-CheckSelfDependency-0.007-4tO6UB/blib/lib
    /home/c/.cpan/build/Module-Build-Tiny-0.035-J3dPxl/blib/arch
    /home/c/.cpan/build/Module-Build-Tiny-0.035-J3dPxl/blib/lib
    /home/c/perl5/perlbrew/perls/18.1i/lib/site_perl/5.18.1/i686-linux-thread-multi
    /home/c/perl5/perlbrew/perls/18.1i/lib/site_perl/5.18.1
    /home/c/perl5/perlbrew/perls/18.1i/lib/5.18.1/i686-linux-thread-multi
    /home/c/perl5/perlbrew/perls/18.1i/lib/5.18.1
    .