Plack v1.0051 Perl 5 v5.41.2 darwin-2level

Status
Pass
From
John SJ Anderson
Dist
Plack v1.0051
Platform
Perl 5 v5.41.2 darwin-2level
Date
2024-07-21 18:09:12
ID
55a8be2e-478c-11ef-9972-cc9c52ba30a4
This distribution has been tested as part of the CPAN Testers
project, supporting the Perl programming language.  See
http://wiki.cpantesters.org/ for more information or email
questions to cpan-testers-discuss@perl.org


--
Dear MIYAGAWA,

This is a computer-generated report for Plack-1.0051
on perl 5.41.2, created by App::cpanminus::reporter 0.21 (1.7047).

Thank you for uploading your work to CPAN.  Congratulations!
All tests were successful.

Sections of this report:

    * Tester comments
    * Program output
    * Prerequisites
    * Environment and other context

------------------------------
TESTER COMMENTS
------------------------------

Additional comments from tester:

none provided

------------------------------
PROGRAM OUTPUT
------------------------------

Output from '':

Building and testing Plack-1.0051
cp share/baybridge.jpg blib/lib/auto/share/dist/Plack/baybridge.jpg
cp share/face.jpg blib/lib/auto/share/dist/Plack/face.jpg
cp lib/Plack/Middleware/RearrangeHeaders.pm blib/lib/Plack/Middleware/RearrangeHeaders.pm
cp lib/Plack/Middleware/Head.pm blib/lib/Plack/Middleware/Head.pm
cp lib/Plack/Middleware/LogDispatch.pm blib/lib/Plack/Middleware/LogDispatch.pm
cp lib/Plack/Middleware/ErrorDocument.pm blib/lib/Plack/Middleware/ErrorDocument.pm
cp lib/Plack/Middleware/ContentMD5.pm blib/lib/Plack/Middleware/ContentMD5.pm
cp lib/Plack/Middleware/Lint.pm blib/lib/Plack/Middleware/Lint.pm
cp lib/Plack/Util/Accessor.pm blib/lib/Plack/Util/Accessor.pm
cp lib/Plack/Middleware/SimpleLogger.pm blib/lib/Plack/Middleware/SimpleLogger.pm
cp lib/Plack/Middleware/HTTPExceptions.pm blib/lib/Plack/Middleware/HTTPExceptions.pm
cp lib/Plack/Request/Upload.pm blib/lib/Plack/Request/Upload.pm
cp lib/Plack/Middleware/StackTrace.pm blib/lib/Plack/Middleware/StackTrace.pm
cp lib/Plack/Handler/Standalone.pm blib/lib/Plack/Handler/Standalone.pm
cp lib/Plack/Middleware/IIS6ScriptNameFix.pm blib/lib/Plack/Middleware/IIS6ScriptNameFix.pm
cp lib/Plack/Handler/FCGI.pm blib/lib/Plack/Handler/FCGI.pm
cp lib/Plack/App/WrapCGI.pm blib/lib/Plack/App/WrapCGI.pm
cp lib/Plack/Test.pm blib/lib/Plack/Test.pm
cp lib/Plack/Loader/Restarter.pm blib/lib/Plack/Loader/Restarter.pm
cp lib/HTTP/Server/PSGI.pm blib/lib/HTTP/Server/PSGI.pm
cp lib/Plack/Runner.pm blib/lib/Plack/Runner.pm
cp lib/Plack/Handler.pm blib/lib/Plack/Handler.pm
cp lib/Plack/Response.pm blib/lib/Plack/Response.pm
cp lib/Plack/App/CGIBin.pm blib/lib/Plack/App/CGIBin.pm
cp lib/Plack/Middleware/ConditionalGET.pm blib/lib/Plack/Middleware/ConditionalGET.pm
cp lib/Plack/App/Cascade.pm blib/lib/Plack/App/Cascade.pm
cp lib/Plack/App/PSGIBin.pm blib/lib/Plack/App/PSGIBin.pm
cp lib/Plack/Middleware/SimpleContentFilter.pm blib/lib/Plack/Middleware/SimpleContentFilter.pm
cp lib/Plack/Middleware/NullLogger.pm blib/lib/Plack/Middleware/NullLogger.pm
cp lib/HTTP/Message/PSGI.pm blib/lib/HTTP/Message/PSGI.pm
cp lib/Plack/Loader.pm blib/lib/Plack/Loader.pm
cp lib/Plack/MIME.pm blib/lib/Plack/MIME.pm
cp lib/Plack/Test/Suite.pm blib/lib/Plack/Test/Suite.pm
cp lib/Plack/Middleware/Runtime.pm blib/lib/Plack/Middleware/Runtime.pm
cp lib/Plack/App/File.pm blib/lib/Plack/App/File.pm
cp lib/Plack/Handler/CGI.pm blib/lib/Plack/Handler/CGI.pm
cp lib/Plack/Middleware/XFramework.pm blib/lib/Plack/Middleware/XFramework.pm
cp lib/Plack/Loader/Delayed.pm blib/lib/Plack/Loader/Delayed.pm
cp lib/Plack/Middleware/Static.pm blib/lib/Plack/Middleware/Static.pm
cp lib/Plack/Middleware/LighttpdScriptNameFix.pm blib/lib/Plack/Middleware/LighttpdScriptNameFix.pm
cp lib/Plack/Loader/Shotgun.pm blib/lib/Plack/Loader/Shotgun.pm
cp lib/Plack/Middleware/XSendfile.pm blib/lib/Plack/Middleware/XSendfile.pm
cp lib/Plack/Test/Server.pm blib/lib/Plack/Test/Server.pm
cp lib/Plack/Middleware/Log4perl.pm blib/lib/Plack/Middleware/Log4perl.pm
cp lib/Plack/Middleware.pm blib/lib/Plack/Middleware.pm
cp lib/Plack/TempBuffer.pm blib/lib/Plack/TempBuffer.pm
cp lib/Plack/Middleware/Refresh.pm blib/lib/Plack/Middleware/Refresh.pm
cp lib/Plack/HTTPParser.pm blib/lib/Plack/HTTPParser.pm
cp lib/Plack/Middleware/AccessLog/Timed.pm blib/lib/Plack/Middleware/AccessLog/Timed.pm
cp lib/Plack/Middleware/JSONP.pm blib/lib/Plack/Middleware/JSONP.pm
cp lib/Plack/Request.pm blib/lib/Plack/Request.pm
cp lib/Plack/Test/MockHTTP.pm blib/lib/Plack/Test/MockHTTP.pm
cp lib/Plack/Util.pm blib/lib/Plack/Util.pm
cp lib/Plack.pm blib/lib/Plack.pm
cp lib/Plack/Middleware/Recursive.pm blib/lib/Plack/Middleware/Recursive.pm
cp lib/Plack/HTTPParser/PP.pm blib/lib/Plack/HTTPParser/PP.pm
cp lib/Plack/Middleware/Auth/Basic.pm blib/lib/Plack/Middleware/Auth/Basic.pm
cp lib/Plack/Middleware/BufferedStreaming.pm blib/lib/Plack/Middleware/BufferedStreaming.pm
cp lib/Plack/Component.pm blib/lib/Plack/Component.pm
cp lib/Plack/Middleware/ContentLength.pm blib/lib/Plack/Middleware/ContentLength.pm
cp lib/Plack/Handler/Apache2.pm blib/lib/Plack/Handler/Apache2.pm
cp lib/Plack/App/URLMap.pm blib/lib/Plack/App/URLMap.pm
cp lib/Plack/App/Directory.pm blib/lib/Plack/App/Directory.pm
cp lib/Plack/Middleware/IIS7KeepAliveFix.pm blib/lib/Plack/Middleware/IIS7KeepAliveFix.pm
cp lib/Plack/Middleware/Conditional.pm blib/lib/Plack/Middleware/Conditional.pm
cp lib/Plack/Middleware/Chunked.pm blib/lib/Plack/Middleware/Chunked.pm
cp lib/Plack/Middleware/AccessLog.pm blib/lib/Plack/Middleware/AccessLog.pm
cp lib/Plack/Handler/HTTP/Server/PSGI.pm blib/lib/Plack/Handler/HTTP/Server/PSGI.pm
cp lib/Plack/Builder.pm blib/lib/Plack/Builder.pm
cp lib/Plack/Handler/Apache1.pm blib/lib/Plack/Handler/Apache1.pm
cp lib/Plack/Handler/Apache2/Registry.pm blib/lib/Plack/Handler/Apache2/Registry.pm
cp lib/Plack/LWPish.pm blib/lib/Plack/LWPish.pm
cp script/plackup blib/script/plackup
"/opt/plenv/versions/5.41.2/bin/perl5.41.2" -MExtUtils::MY -e 'MY->fixin(shift)' -- blib/script/plackup
Skip blib/lib/auto/share/dist/Plack/face.jpg (unchanged)
Skip blib/lib/auto/share/dist/Plack/baybridge.jpg (unchanged)
PERL_DL_NONLAZY=1 "/opt/plenv/versions/5.41.2/bin/perl5.41.2" "-MExtUtils::Command::MM" "-MTest::Harness" "-e" "undef *Test::Harness::Switches; test_harness(0, 'blib/lib', 'blib/arch')" t/*.t t/HTTP-Message-PSGI/*.t t/HTTP-Server-PSGI/*.t t/Plack-Builder/*.t t/Plack-HTTPParser-PP/*.t t/Plack-Handler/*.t t/Plack-Loader/*.t t/Plack-MIME/*.t t/Plack-Middleware/*.t t/Plack-Middleware/cascade/*.t t/Plack-Middleware/recursive/*.t t/Plack-Middleware/stacktrace/*.t t/Plack-Request/*.t t/Plack-Response/*.t t/Plack-Runner/*.t t/Plack-TempBuffer/*.t t/Plack-Test/*.t t/Plack-Util/*.t
t/author-pod-syntax.t ................................ skipped: these tests are for testing by the author
t/HTTP-Message-PSGI/content_length.t ................. ok
t/HTTP-Message-PSGI/empty_delayed_writer.t ........... ok
t/HTTP-Message-PSGI/empty_streamed_response.t ........ ok
t/HTTP-Message-PSGI/host.t ........................... ok
t/HTTP-Message-PSGI/path_info.t ...................... ok
t/HTTP-Message-PSGI/unknown_response.t ............... ok
t/HTTP-Message-PSGI/utf8_req.t ....................... ok
t/HTTP-Server-PSGI/harakiri.t ........................ ok
t/HTTP-Server-PSGI/listen.t .......................... ok
t/HTTP-Server-PSGI/post.t ............................ ok
t/Plack-Builder/builder.t ............................ ok
t/Plack-Builder/mount.t .............................. ok
t/Plack-Builder/oo_interface.t ....................... ok
t/Plack-Handler/apache1.t ............................ skipped: TEST_APACHE1 is not set
t/Plack-Handler/apache2-registry.t ................... skipped: TEST_APACHE2 is not set
t/Plack-Handler/apache2.t ............................ skipped: TEST_APACHE2 is not set
t/Plack-Handler/cgi.t ................................ skipped: Test requires module 'HTTP::Request::AsCGI' but it's not found
t/Plack-Handler/fcgi.t ............................... skipped: Test requires module 'FCGI' but it's not found
t/Plack-Handler/fcgi_cleanup.t ....................... skipped: Test requires module 'FCGI' but it's not found
t/Plack-Handler/output_encoding.t .................... ok
t/Plack-Handler/standalone.t ......................... ok
t/Plack-HTTPParser-PP/simple.t ....................... ok
t/Plack-Loader/auto.t ................................ ok
t/Plack-Loader/auto_fallback.t ....................... ok
t/Plack-Loader/delayed.t ............................. ok
t/Plack-Loader/restarter.t ........................... skipped: author test only
t/Plack-Loader/restarter_valid.t ..................... ok
t/Plack-Loader/shotgun.t ............................. ok
t/Plack-Middleware/access_log.t ...................... ok
t/Plack-Middleware/access_log_timed.t ................ ok
t/Plack-Middleware/access_log_value_zero.t ........... ok
t/Plack-Middleware/auth_basic.t ...................... ok
t/Plack-Middleware/auth_basic_env.t .................. ok
t/Plack-Middleware/auth_basic_simple.t ............... skipped: Test requires module 'Authen::Simple::Passwd' but it's not found
t/Plack-Middleware/bufferedstreaming.t ............... ok
t/Plack-Middleware/cascade/basic.t ................... ok
t/Plack-Middleware/cascade/streaming.t ............... ok
t/Plack-Middleware/cgibin.t .......................... skipped: Test requires module 'CGI::Compile' but it's not found
t/Plack-Middleware/cgibin_exec.t ..................... skipped: Test requires module 'CGI::Emulate::PSGI' but it's not found
t/Plack-Middleware/chunked.t ......................... skipped: Test requires module 'IO::Handle::Util' but it's not found
t/Plack-Middleware/component-leak.t .................. ok
t/Plack-Middleware/component.t ....................... skipped: Test requires module 'IO::Handle::Util' but it's not found
t/Plack-Middleware/conditional.t ..................... ok
t/Plack-Middleware/conditional_new.t ................. ok
t/Plack-Middleware/conditionalget.t .................. ok
t/Plack-Middleware/conditionalget_writer.t ........... ok
t/Plack-Middleware/content_length.t .................. ok
t/Plack-Middleware/directory.t ....................... ok
t/Plack-Middleware/error_document.t .................. ok
t/Plack-Middleware/error_document_streaming_app.t .... ok
t/Plack-Middleware/file.t ............................ ok
t/Plack-Middleware/head.t ............................ ok
t/Plack-Middleware/head_streaming.t .................. ok
t/Plack-Middleware/httpexceptions.t .................. ok
t/Plack-Middleware/httpexceptions_streaming.t ........ ok
t/Plack-Middleware/iis6_script_name_fix.t ............ ok
t/Plack-Middleware/iis7_keep_alive_fix.t ............. ok
t/Plack-Middleware/jsonp.t ........................... ok
t/Plack-Middleware/lint.t ............................ ok
t/Plack-Middleware/lint_env.t ........................ ok
t/Plack-Middleware/lint_utf8_false_alarm.t ........... ok
t/Plack-Middleware/lint_wrong_header_info.t .......... ok
t/Plack-Middleware/log4perl-category.t ............... skipped: Test requires module 'Log::Log4perl' but it's not found
t/Plack-Middleware/log4perl.t ........................ skipped: Test requires module 'Log::Log4perl' but it's not found
t/Plack-Middleware/log_dispatch.t .................... ok
t/Plack-Middleware/order.t ........................... ok
t/Plack-Middleware/prefix.t .......................... ok
t/Plack-Middleware/psgibin.t ......................... ok
t/Plack-Middleware/rearrange_headers.t ............... ok
t/Plack-Middleware/recursive/base.t .................. ok
t/Plack-Middleware/recursive/streaming.t ............. ok
t/Plack-Middleware/recursive/throw.t ................. ok
t/Plack-Middleware/recursive/throw_streaming.t ....... ok
t/Plack-Middleware/refresh-init.t .................... skipped: Test requires module 'Module::Refresh' but it's not found
t/Plack-Middleware/runtime.t ......................... ok
t/Plack-Middleware/simple_content_filter.t ........... ok
t/Plack-Middleware/simple_logger.t ................... ok
t/Plack-Middleware/stacktrace/basic.t ................ ok
t/Plack-Middleware/stacktrace/force.t ................ ok
t/Plack-Middleware/stacktrace/multiple_exceptions.t .. ok
t/Plack-Middleware/stacktrace/sigdie.t ............... ok
t/Plack-Middleware/stacktrace/streaming.t ............ ok
t/Plack-Middleware/stacktrace/utf8.t ................. ok
t/Plack-Middleware/static.t .......................... ok
t/Plack-Middleware/static_env.t ...................... ok
t/Plack-Middleware/urlmap.t .......................... ok
t/Plack-Middleware/urlmap_builder.t .................. ok
t/Plack-Middleware/urlmap_env.t ...................... ok
t/Plack-Middleware/urlmap_ports.t .................... ok
t/Plack-Middleware/wrapcgi.t ......................... skipped: Test requires module 'CGI::Emulate::PSGI' but it's not found
t/Plack-Middleware/wrapcgi_exec.t .................... skipped: Test requires module 'CGI::Emulate::PSGI' but it's not found
t/Plack-Middleware/xframework.t ...................... ok
t/Plack-Middleware/xsendfile.t ....................... ok
t/Plack-MIME/add_type.t .............................. ok
t/Plack-MIME/basic.t ................................. ok
t/Plack-MIME/fallback.t .............................. ok
t/Plack-Request/base.t ............................... ok
t/Plack-Request/body-unbuffered.t .................... ok
t/Plack-Request/body.t ............................... ok
t/Plack-Request/content-on-get.t ..................... ok
t/Plack-Request/content.t ............................ ok
t/Plack-Request/cookie.t ............................. ok
t/Plack-Request/double_port.t ........................ ok
t/Plack-Request/headers.t ............................ ok
t/Plack-Request/hostname.t ........................... ok
t/Plack-Request/many_upload.t ........................ ok
t/Plack-Request/multi_read.t ......................... ok
t/Plack-Request/new.t ................................ ok
t/Plack-Request/parameters.t ......................... ok
t/Plack-Request/params.t ............................. ok
t/Plack-Request/path_info.t .......................... ok
t/Plack-Request/path_info_escaped.t .................. ok
t/Plack-Request/query_string.t ....................... ok
t/Plack-Request/readbody.t ........................... ok
t/Plack-Request/request_uri.t ........................ ok
t/Plack-Request/upload-basename.t .................... ok
t/Plack-Request/upload-large.t ....................... ok
t/Plack-Request/upload.t ............................. ok
t/Plack-Request/uri.t ................................ ok
t/Plack-Request/uri_utf8.t ........................... ok
t/Plack-Response/body.t .............................. ok
t/Plack-Response/compatible.t ........................ ok
t/Plack-Response/cookie.t ............................ ok
t/Plack-Response/headers.t ........................... ok
t/Plack-Response/new.t ............................... ok
t/Plack-Response/redirect.t .......................... ok
t/Plack-Response/response.t .......................... ok
t/Plack-Response/to_app.t ............................ ok
t/Plack-Runner/options.t ............................. ok
t/Plack-Runner/path.t ................................ skipped: release test only
t/Plack-TempBuffer/print.t ........................... ok
t/Plack-Test/2args.t ................................. ok
t/Plack-Test/cookie.t ................................ ok
t/Plack-Test/hello.t ................................. ok
t/Plack-Test/hello_server.t .......................... ok
t/Plack-Test/suite.t ................................. ok
t/Plack-Util/can.t ................................... ok
t/Plack-Util/foreach.t ............................... ok
t/Plack-Util/header_exists.t ......................... ok
t/Plack-Util/header_get.t ............................ ok
t/Plack-Util/header_push.t ........................... ok
t/Plack-Util/header_remove.t ......................... ok
t/Plack-Util/header_set.t ............................ ok
t/Plack-Util/headers_obj.t ........................... ok
t/Plack-Util/inline_object.t ......................... ok
t/Plack-Util/io_with_path.t .......................... ok
t/Plack-Util/is_real_fh.t ............................ ok
t/Plack-Util/load.t .................................. ok
t/Plack-Util/response_cb.t ........................... ok
All tests successful.
Files=150, Tests=1218, 20 wallclock secs ( 0.28 usr  0.25 sys + 10.74 cusr  2.27 csys = 13.54 CPU)
Result: PASS

------------------------------
PREREQUISITES
------------------------------

Prerequisite modules loaded:

runtime:

    Module                      Need     Have    
    --------------------------- -------- --------
    Apache::LogFormat::Compiler 0.33     0.36    
    Cookie::Baker               0.07     0.12    
    Devel::StackTrace           1.23     2.05    
    Devel::StackTrace::AsHTML   0.11     0.15    
    File::ShareDir              1.00     1.118   
    Filesys::Notify::Simple     0        0.14    
    Hash::MultiValue            0.05     0.16    
    HTTP::Entity::Parser        0.25     0.25    
    HTTP::Headers::Fast         0.18     0.22    
    HTTP::Message               5.814    6.46    
    HTTP::Tiny                  0.034    0.088   
    parent                      0        0.241   
    perl                        5.012000 5.041002
    Pod::Usage                  1.36     2.03    
    Stream::Buffered            0.02     0.03    
    Test::TCP                   2.15     2.22    
    Try::Tiny                   0        0.31    
    URI                         1.59     5.28    
    WWW::Form::UrlEncoded       0.23     0.26    

build:

    Module                      Need     Have    
    --------------------------- -------- --------
    ExtUtils::MakeMaker         0        7.70    

configure:

    Module                      Need     Have    
    --------------------------- -------- --------
    ExtUtils::MakeMaker         0        7.70    
    File::ShareDir::Install     0.06     0.14    


------------------------------
ENVIRONMENT AND OTHER CONTEXT
------------------------------

Environment variables:

    LANG = en_US.UTF-8
    LC_ALL = en_US.UTF-8
    LC_COLLATE = en_US.UTF-8
    LC_MESSAGES = en_US.UTF-8
    LC_MONETARY = en_US.UTF-8
    LC_NUMERIC = en_US.UTF-8
    PATH = /opt/plenv/versions/5.41.2/bin:/opt/plenv/libexec:/opt/plenv/plugins/Perl-Build/bin:/Users/genehack/bin:/opt/rbenv/shims:/opt/plenv/shims:/opt/plenv/bin:/opt/nextstrain:/opt/vim/bin:/opt/git/bin:/opt/local/bin:/usr/local/bin:/usr/local/sbin:/usr/bin:/bin:/usr/sbin:/sbin:/opt/rust/cargo/bin:/usr/local/opt/fzf/bin/
    PERL_CPANM_OPT = --skip-installed --prompt
    SHELL = /bin/zsh
    TERM = screen-256color
    TMPDIR = /var/folders/91/jjmr4sms7fz9s27f3_9glhb80000gn/T/

Perl special variables (and OS-specific diagnostics, for MSWin32):

    EGID = 20 20 12 61 79 80 81 98 701 33 100 204 250 395 398 399 400
    EUID = 501
    EXECUTABLE_NAME = /opt/plenv/versions/5.41.2/bin/perl5.41.2
    GID = 20 20 12 61 79 80 81 98 701 33 100 204 250 395 398 399 400
    UID = 501

Perl module toolchain versions installed:

    Module              Have    
    ------------------- --------
    CPAN                2.36    
    CPAN::Meta          2.150010
    Cwd                 3.92    
    ExtUtils::CBuilder  0.280240
    ExtUtils::Command   7.70    
    ExtUtils::Install   2.22    
    ExtUtils::MakeMaker 7.70    
    ExtUtils::Manifest  1.75    
    ExtUtils::ParseXS   3.52    
    File::Spec          3.92    
    JSON                4.10    
    JSON::PP            4.16    
    Module::Build       0.4234  
    Module::Signature   n/a     
    Parse::CPAN::Meta   2.150010
    Test::Harness       3.48    
    Test::More          1.302199
    YAML                1.31    
    YAML::Syck          n/a     
    version             0.9930  


--

Summary of my perl5 (revision 5 version 41 subversion 2) configuration:
   
  Platform:
    osname=darwin
    osvers=23.5.0
    archname=darwin-2level
    uname='darwin bigjob.home.genehack.org 23.5.0 darwin kernel version 23.5.0: wed may 1 20:09:52 pdt 2024; root:xnu-10063.121.3~5release_x86_64 x86_64 i386 macmini8,1 darwin '
    config_args='-Dprefix=/opt/plenv/versions/5.41.2 -de -Dversiononly -Dusedevel -A'eval:scriptdir=/opt/plenv/versions/5.41.2/bin''
    hint=recommended
    useposix=true
    d_sigaction=define
    useithreads=undef
    usemultiplicity=undef
    use64bitint=define
    use64bitall=define
    uselongdouble=undef
    usemymalloc=n
    default_inc_excludes_dot=define
  Compiler:
    cc='cc'
    ccflags ='-fno-common -DPERL_DARWIN -mmacosx-version-min=14.5 -DNO_THREAD_SAFE_QUERYLOCALE -DNO_POSIX_2008_LOCALE -fno-strict-aliasing -pipe -fstack-protector-strong -I/usr/local/include'
    optimize='-O3'
    cppflags='-fno-common -DPERL_DARWIN -mmacosx-version-min=14.5 -DNO_THREAD_SAFE_QUERYLOCALE -DNO_POSIX_2008_LOCALE -fno-strict-aliasing -pipe -fstack-protector-strong -I/usr/local/include'
    ccversion=''
    gccversion='Apple LLVM 15.0.0 (clang-1500.3.9.4)'
    gccosandvers=''
    intsize=4
    longsize=8
    ptrsize=8
    doublesize=8
    byteorder=12345678
    doublekind=3
    d_longlong=define
    longlongsize=8
    d_longdbl=define
    longdblsize=16
    longdblkind=3
    ivtype='long'
    ivsize=8
    nvtype='double'
    nvsize=8
    Off_t='off_t'
    lseeksize=8
    alignbytes=8
    prototype=define
  Linker and Libraries:
    ld='cc'
    ldflags =' -mmacosx-version-min=14.5 -fstack-protector-strong -L/usr/local/lib'
    libpth=/usr/local/lib /Applications/Xcode.app/Contents/Developer/Toolchains/XcodeDefault.xctoolchain/usr/lib/clang/15.0.0/lib /Applications/Xcode.app/Contents/Developer/Platforms/MacOSX.platform/Developer/SDKs/MacOSX.sdk/usr/lib /Applications/Xcode.app/Contents/Developer/Toolchains/XcodeDefault.xctoolchain/usr/lib /usr/lib
    libs= 
    perllibs=
    libc=
    so=dylib
    useshrplib=false
    libperl=libperl.a
    gnulibc_version=''
  Dynamic Linking:
    dlsrc=dl_dlopen.xs
    dlext=bundle
    d_dlsymun=undef
    ccdlflags=' '
    cccdlflags=' '
    lddlflags=' -mmacosx-version-min=14.5 -bundle -undefined dynamic_lookup -L/usr/local/lib -fstack-protector-strong'


Characteristics of this binary (from libperl): 
  Compile-time options:
    HAS_LONG_DOUBLE
    HAS_STRTOLD
    HAS_TIMES
    PERLIO_LAYERS
    PERL_COPY_ON_WRITE
    PERL_DONT_CREATE_GVSV
    PERL_HASH_FUNC_SIPHASH13
    PERL_HASH_USE_SBOX32
    PERL_MALLOC_WRAP
    PERL_OP_PARENT
    PERL_PRESERVE_IVUV
    PERL_USE_DEVEL
    PERL_USE_SAFE_PUTENV
    USE_64_BIT_ALL
    USE_64_BIT_INT
    USE_LARGE_FILES
    USE_LOCALE
    USE_LOCALE_COLLATE
    USE_LOCALE_CTYPE
    USE_LOCALE_NUMERIC
    USE_LOCALE_TIME
    USE_PERLIO
    USE_PERL_ATOF
  Built under darwin
  Compiled at Jul 21 2024 09:41:21
  %ENV:
    PERL_CPANM_OPT="--skip-installed --prompt"
  @INC:
    /opt/plenv/versions/5.41.2/lib/perl5/site_perl/5.41.2/darwin-2level
    /opt/plenv/versions/5.41.2/lib/perl5/site_perl/5.41.2
    /opt/plenv/versions/5.41.2/lib/perl5/5.41.2/darwin-2level
    /opt/plenv/versions/5.41.2/lib/perl5/5.41.2