Win32-Mock v0.05 Perl 5 v5.43.2 OpenBSD.amd64-openbsd

Status
Pass
From
Carlos Guevara
Dist
Win32-Mock v0.05
Platform
Perl 5 v5.43.2 OpenBSD.amd64-openbsd
Date
2025-08-09 10:05:10
ID
55a3fea2-7508-11f0-a90d-93383929a87a
This distribution has been tested as part of the CPAN Testers
project, supporting the Perl programming language.  See
http://wiki.cpantesters.org/ for more information or email
questions to cpan-testers-discuss@perl.org


--
Dear Sebastien Aperghis-Tramoni,

This is a computer-generated report for Win32-Mock-0.05
on perl 5.43.2, created by CPAN-Reporter-1.2020.

Thank you for uploading your work to CPAN.  Congratulations!
All tests were successful.

Sections of this report:

    * Tester comments
    * Program output
    * Prerequisites
    * Environment and other context

------------------------------
TESTER COMMENTS
------------------------------

Additional comments from tester:

this report is from an automated smoke testing program
and was not reviewed by a human for accuracy

------------------------------
PROGRAM OUTPUT
------------------------------

Output from './Build test':

Undefined value assigned to typeglob at /home/cpan/bin/perl/lib/site_perl/5.43.2/Devel/FakeOSName.pm line 21.
# Testing Win32::Mock 0.05, Perl 5.043002, /home/cpan/bin/perl/bin/perl5.43.2
t/00-load.t .............................. ok
t/pod-coverage.t ......................... skipped: *** disabled for now ***
t/pod.t .................................. skipped: *** disabled for now ***
Undefined value assigned to typeglob at /home/cpan/bin/perl/lib/site_perl/5.43.2/Devel/FakeOSName.pm line 21.
t/core/Win32/CopyFile.t .................. ok
Undefined value assigned to typeglob at /home/cpan/bin/perl/lib/site_perl/5.43.2/Devel/FakeOSName.pm line 21.
Subroutine STORE redefined at /home/cpan/bin/perl/lib/5.43.2/OpenBSD.amd64-openbsd/Config_heavy.pl line 1491.
t/core/Win32/CreateFile.t ................ ok
Undefined value assigned to typeglob at /home/cpan/bin/perl/lib/site_perl/5.43.2/Devel/FakeOSName.pm line 21.
Subroutine STORE redefined at /home/cpan/bin/perl/lib/5.43.2/OpenBSD.amd64-openbsd/Config_heavy.pl line 1491.
t/core/Win32/ExpandEnvironmentStrings.t .. ok
Undefined value assigned to typeglob at /home/cpan/bin/perl/lib/site_perl/5.43.2/Devel/FakeOSName.pm line 21.
Subroutine STORE redefined at /home/cpan/bin/perl/lib/5.43.2/OpenBSD.amd64-openbsd/Config_heavy.pl line 1491.
t/core/Win32/GetCurrentThreadId.t ........ skipped: Test requires fork emulation
Undefined value assigned to typeglob at /home/cpan/bin/perl/lib/site_perl/5.43.2/Devel/FakeOSName.pm line 21.
Subroutine STORE redefined at /home/cpan/bin/perl/lib/5.43.2/OpenBSD.amd64-openbsd/Config_heavy.pl line 1491.
t/core/Win32/GetFileVersion.t ............ ok
Undefined value assigned to typeglob at /home/cpan/bin/perl/lib/site_perl/5.43.2/Devel/FakeOSName.pm line 21.
Subroutine STORE redefined at /home/cpan/bin/perl/lib/5.43.2/OpenBSD.amd64-openbsd/Config_heavy.pl line 1491.
t/core/Win32/GetFolderPath.t ............. ok
t/core/Win32/GetFullPathName.t ........... skipped: because these tests are too hard to mock
t/core/Win32/GetLongPathName.t ........... skipped: because these tests are too hard to mock
Undefined value assigned to typeglob at /home/cpan/bin/perl/lib/site_perl/5.43.2/Devel/FakeOSName.pm line 21.
Subroutine STORE redefined at /home/cpan/bin/perl/lib/5.43.2/OpenBSD.amd64-openbsd/Config_heavy.pl line 1491.
t/core/Win32/GetOSVersion.t .............. ok
t/core/Win32/GetShortPathName.t .......... skipped: because these tests are too hard to mock
Undefined value assigned to typeglob at /home/cpan/bin/perl/lib/site_perl/5.43.2/Devel/FakeOSName.pm line 21.
Subroutine STORE redefined at /home/cpan/bin/perl/lib/5.43.2/OpenBSD.amd64-openbsd/Config_heavy.pl line 1491.
t/core/Win32/GuidGen.t ................... ok
Undefined value assigned to typeglob at /home/cpan/bin/perl/lib/site_perl/5.43.2/Devel/FakeOSName.pm line 21.
t/core/Win32/Names.t ..................... ok
Undefined value assigned to typeglob at /home/cpan/bin/perl/lib/site_perl/5.43.2/Devel/FakeOSName.pm line 21.
Subroutine STORE redefined at /home/cpan/bin/perl/lib/5.43.2/OpenBSD.amd64-openbsd/Config_heavy.pl line 1491.
t/core/Win32/Unicode.t ................... skipped: Filesystem doesn't support Unicode
Undefined value assigned to typeglob at /home/cpan/bin/perl/lib/site_perl/5.43.2/Devel/FakeOSName.pm line 21.
t/core/Win32CORE/win32core.t ............. ok
t/libwin32/APINet/test.t ................. skipped: *** NOT IMPLEMENTED
t/libwin32/Clipboard/test.t .............. skipped: *** NOT IMPLEMENTED
t/libwin32/EventLog/eventlog.t ........... skipped: *** NOT IMPLEMENTED
Undefined value assigned to typeglob at /home/cpan/bin/perl/lib/site_perl/5.43.2/Devel/FakeOSName.pm line 21.
t/libwin32/File/file.t ................... ok
t/libwin32/NetAdmin/netadmin.t ........... skipped: *** NOT IMPLEMENTED
t/libwin32/NetResource/netresource.t ..... skipped: *** NOT IMPLEMENTED
t/libwin32/OLE/1_nls.t ................... skipped: *** NOT IMPLEMENTED
t/libwin32/OLE/2_variant.t ............... skipped: *** NOT IMPLEMENTED
t/libwin32/OLE/3_ole.t ................... skipped: *** NOT IMPLEMENTED
t/libwin32/OLE/4_compat.t ................ skipped: *** NOT IMPLEMENTED
t/libwin32/OLE/5_unicode.t ............... skipped: *** NOT IMPLEMENTED
t/libwin32/OLE/6_event.t ................. skipped: *** NOT IMPLEMENTED
t/libwin32/OLE/7_overload.t .............. skipped: *** NOT IMPLEMENTED
t/libwin32/Registry/registry.t ........... skipped: *** NOT IMPLEMENTED
Undefined value assigned to typeglob at /home/cpan/bin/perl/lib/site_perl/5.43.2/Devel/FakeOSName.pm line 21.
dummy|dummy
	CurrentState		7
	CheckPoint		0
	WaitHint		0
	ServiceType		16
	ControlsAccepted		2
	ServiceSpecificExitCode		0
	Win32ExitCode		0
t/libwin32/Service/service.t ............. ok
All tests successful.
Files=32, Tests=59,  2 wallclock secs ( 0.05 usr  0.07 sys +  1.05 cusr  0.27 csys =  1.44 CPU)
Result: PASS

------------------------------
PREREQUISITES
------------------------------

Prerequisite modules loaded:

requires:

    Module            Need Have    
    ----------------- ---- --------
    constant          1.12 1.33    
    Devel::FakeOSName 0    0.01    
    ExtUtils::Command 0    7.76    
    File::Basename    0    2.86    
    File::Spec        0.7  3.94    

build_requires:

    Module            Need Have    
    ----------------- ---- --------
    Test::More        0    1.302214

opt_requires:

    Module            Need Have    
    ----------------- ---- --------
    Data::GUID        0    0.051   
    File::HomeDir     0    1.006   


------------------------------
ENVIRONMENT AND OTHER CONTEXT
------------------------------

Environment variables:

    AUTOMATED_TESTING = 1
    DATE_MANIP_TEST_DM5 = 1
    LC_ALL = C
    NONINTERACTIVE_TESTING = 1
    NO_NETWORK_TESTING = 1
    PATH = /home/cpan/bin/perl/bin:/home/cpan/bin:/home/cpan/bin:/bin:/sbin:/usr/bin:/usr/sbin:/usr/X11R6/bin:/usr/local/bin:/usr/local/sbin
    PERL5LIB = 
    PERL5OPT = 
    PERL5_CPANPLUS_IS_RUNNING = 87400
    PERL5_CPAN_IS_RUNNING = 87400
    PERL_MM_USE_DEFAULT = 1
    PERL_USE_UNSAFE_INC = 1
    SHELL = /usr/local/bin/bash
    TERM = screen
    TMPDIR = /home/cpan/tmp

Perl special variables (and OS-specific diagnostics, for MSWin32):

    $^X = /home/cpan/bin/perl/bin/perl5.43.2
    $UID/$EUID = 1001 / 1001
    $GID = 1001 1001
    $EGID = 1001 1001

Perl module toolchain versions installed:

    Module              Have    
    ------------------- --------
    CPAN                2.38    
    CPAN::Meta          2.150010
    Cwd                 3.94    
    ExtUtils::CBuilder  0.280242
    ExtUtils::Command   7.76    
    ExtUtils::Install   2.22    
    ExtUtils::MakeMaker 7.76    
    ExtUtils::Manifest  1.75    
    ExtUtils::ParseXS   3.59    
    File::Spec          3.94    
    JSON                4.10    
    JSON::PP            4.16    
    Module::Build       0.4234  
    Module::Signature   0.93    
    Parse::CPAN::Meta   2.150010
    Test2               1.302214
    Test::Harness       3.52    
    Test::More          1.302214
    YAML                1.31    
    YAML::Syck          1.34    
    version             0.9933  


--

Summary of my perl5 (revision 5 version 43 subversion 2) configuration:
  Commit id: cd791bd6a2d26d89527636c12e0a75837f7e9ba2
  Platform:
    osname=openbsd
    osvers=7.7
    archname=OpenBSD.amd64-openbsd
    uname='openbsd cjg-openbsd7 7.7 generic#2 amd64 '
    config_args='-des -Dprefix=/home/cpan/bin/perl -Dscriptdir=/home/cpan/bin/perl/bin -Dusedevel -Duse64bitall'
    hint=recommended
    useposix=true
    d_sigaction=define
    useithreads=undef
    usemultiplicity=undef
    use64bitint=define
    use64bitall=define
    uselongdouble=undef
    usemymalloc=n
    default_inc_excludes_dot=define
  Compiler:
    cc='cc'
    ccflags ='-DNO_LOCALE_NUMERIC -DNO_LOCALE_COLLATE -DNO_LOCALE_MONETARY -DNO_LOCALE_TIME -DNO_LOCALE_MESSAGES -DLIBC_HANDLES_MISMATCHED_CTYPE -fno-strict-aliasing -pipe -fstack-protector-strong -I/usr/local/include'
    optimize='-O2'
    cppflags='-DNO_LOCALE_NUMERIC -DNO_LOCALE_COLLATE -DNO_LOCALE_MONETARY -DNO_LOCALE_TIME -DNO_LOCALE_MESSAGES -DLIBC_HANDLES_MISMATCHED_CTYPE -fno-strict-aliasing -pipe -fstack-protector-strong -I/usr/local/include'
    ccversion=''
    gccversion='OpenBSD Clang 16.0.6'
    gccosandvers=''
    intsize=4
    longsize=8
    ptrsize=8
    doublesize=8
    byteorder=12345678
    doublekind=3
    d_longlong=define
    longlongsize=8
    d_longdbl=define
    longdblsize=16
    longdblkind=3
    ivtype='long'
    ivsize=8
    nvtype='double'
    nvsize=8
    Off_t='off_t'
    lseeksize=8
    alignbytes=8
    prototype=define
  Linker and Libraries:
    ld='cc'
    ldflags ='-Wl,-E  -fstack-protector-strong -L/usr/local/lib'
    libpth=/usr/lib/clang/16/lib /usr/lib /usr/local/lib
    libs=-lpthread -lm -lutil -lc
    perllibs=-lpthread -lm -lutil -lc
    libc=/usr/lib/libc.so.100.3
    so=so
    useshrplib=false
    libperl=libperl.a
    gnulibc_version=''
  Dynamic Linking:
    dlsrc=dl_dlopen.xs
    dlext=so
    d_dlsymun=undef
    ccdlflags=' '
    cccdlflags='-DPIC -fPIC '
    lddlflags='-shared -fPIC  -L/usr/local/lib -fstack-protector-strong'


Characteristics of this binary (from libperl): 
  Compile-time options:
    HAS_LONG_DOUBLE
    HAS_STRTOLD
    HAS_TIMES
    PERLIO_LAYERS
    PERL_COPY_ON_WRITE
    PERL_DONT_CREATE_GVSV
    PERL_HASH_FUNC_SIPHASH13
    PERL_HASH_USE_SBOX32
    PERL_MALLOC_WRAP
    PERL_OP_PARENT
    PERL_PRESERVE_IVUV
    PERL_USE_DEVEL
    PERL_USE_SAFE_PUTENV
    USE_64_BIT_ALL
    USE_64_BIT_INT
    USE_LARGE_FILES
    USE_LOCALE
    USE_LOCALE_CTYPE
    USE_PERLIO
    USE_PERL_ATOF
  Built under openbsd
  Compiled at Aug  7 2025 22:04:09
  %ENV:
    PERL5LIB=""
    PERL5OPT=""
    PERL5_CPANPLUS_IS_RUNNING="87400"
    PERL5_CPAN_IS_RUNNING="87400"
    PERL_MM_USE_DEFAULT="1"
    PERL_USE_UNSAFE_INC="1"
  @INC:
    /home/cpan/bin/perl/lib/site_perl/5.43.2/OpenBSD.amd64-openbsd
    /home/cpan/bin/perl/lib/site_perl/5.43.2
    /home/cpan/bin/perl/lib/5.43.2/OpenBSD.amd64-openbsd
    /home/cpan/bin/perl/lib/5.43.2
    .