Net-Amazon-S3 v0.991 Perl 5 v5.38.0 amd64-freebsd-ld
        
            - Status
 
            - Pass
 
            - From
 
            - Slaven Rezić
 
            - Dist
 
            - 
                Net-Amazon-S3 v0.991
            
 
            - Platform
 
            - Perl 5 v5.38.0 amd64-freebsd-ld
 
            - Date
 
            - 2023-11-03 07:55:19
 
            - ID
 
            - 556701aa-7a1e-11ee-b9fa-02446e8775ea
 
        
        This distribution has been tested as part of the CPAN Testers
project, supporting the Perl programming language.  See
http://wiki.cpantesters.org/ for more information or email
questions to cpan-testers-discuss@perl.org
--
Dear Branislav Zahradnik,
This is a computer-generated report for Net-Amazon-S3-0.991
on perl 5.38.0, created by CPAN-Reporter-1.2019.
Thank you for uploading your work to CPAN.  Congratulations!
All tests were successful.
Sections of this report:
    * Tester comments
    * Program output
    * Prerequisites
    * Environment and other context
------------------------------
TESTER COMMENTS
------------------------------
Additional comments from tester:
none provided
------------------------------
PROGRAM OUTPUT
------------------------------
Output from '/usr/bin/make test':
PERL_DL_NONLAZY=1 "/usr/perl5.38.0Dp/bin/perl" "-MExtUtils::Command::MM" "-MTest::Harness" "-e" "undef *Test::Harness::Switches; test_harness(0, 'blib/lib', 'blib/arch')" t/*.t
t/01api.t ................................ skipped: Testing this module for real costs money. Enable it by setting true value to env variable AMAZON_S3_EXPENSIVE_TESTS
t/02client.t ............................. skipped: Testing this module for real costs money.
t/03token.t .............................. skipped: Need these vars in ENV: AWS_ACCESS_KEY_ID, AWS_ACCESS_KEY_SECRET, AWS_ACCESS_TOKEN
t/acl-set.t .............................. ok
t/api-bucket-acl-get.t ................... ok
t/api-bucket-acl-set.t ................... ok
t/api-bucket-create.t .................... ok
t/api-bucket-delete.t .................... ok
t/api-bucket-objects-delete.t ............ ok
t/api-bucket-objects-list.t .............. ok
t/api-bucket-tags-add.t .................. ok
t/api-bucket-tags-delete.t ............... ok
t/api-build-bucket.t ..................... ok
t/api-construct.t ........................ ok
t/api-object-acl-get.t ................... ok
t/api-object-acl-set.t ................... ok
t/api-object-create.t .................... ok
t/api-object-delete.t .................... ok
t/api-object-fetch.t ..................... ok
t/api-object-head.t ...................... ok
t/api-object-tags-add.t .................. ok
t/api-object-tags-delete.t ............... ok
t/api-service-buckets-list.t ............. ok
t/author-eol.t ........................... skipped: these tests are for testing by the author
t/client-bucket-acl-get.t ................ ok
t/client-bucket-acl-set.t ................ ok
t/client-bucket-create.t ................. ok
t/client-bucket-delete.t ................. ok
t/client-bucket-objects-delete.t ......... ok
t/client-bucket-objects-list.t ........... ok
t/client-bucket-tags-add.t ............... ok
t/client-bucket-tags-delete.t ............ ok
t/client-construct.t ..................... ok
t/client-object-acl-set.t ................ ok
t/client-object-create.t ................. ok
t/client-object-delete.t ................. ok
t/client-object-exists.t ................. ok
t/client-object-fetch.t .................. ok
t/client-object-head.t ................... ok
t/client-object-tags-add.t ............... ok
t/client-object-tags-delete.t ............ ok
t/client-service-buckets-list.t .......... ok
t/error-handler-x.t ...................... ok
t/issue-39-content-length-0.t ............ ok
t/issue-88-non-standard-service-port.t ... ok
t/query-string-authentication-uri.t ...... ok
t/request.t .............................. ok
t/response.t ............................. ok
t/s3-operation-bucket-acl-fetch.t ........ ok
t/s3-operation-bucket-acl-set.t .......... ok
t/s3-operation-bucket-create.t ........... ok
t/s3-operation-bucket-delete.t ........... ok
t/s3-operation-bucket-location.t ......... ok
t/s3-operation-bucket-tags-add.t ......... ok
t/s3-operation-bucket-tags-delete.t ...... ok
t/s3-operation-buckets-list.t ............ ok
t/s3-operation-object-acl-fetch.t ........ ok
t/s3-operation-object-acl-set.t .......... ok
t/s3-operation-object-add.t .............. ok
t/s3-operation-object-copy.t ............. ok
t/s3-operation-object-delete.t ........... ok
t/s3-operation-object-fetch.t ............ ok
t/s3-operation-object-head.t ............. ok
t/s3-operation-object-restore.t .......... ok
t/s3-operation-object-tags-add.t ......... ok
t/s3-operation-object-tags-delete.t ...... ok
t/s3-operation-object-upload-abort.t ..... ok
t/s3-operation-object-upload-complete.t .. ok
t/s3-operation-object-upload-create.t .... ok
t/s3-operation-object-upload-part.t ...... ok
t/s3-operation-objects-delete.t .......... ok
t/s3-operation-objects-list.t ............ ok
t/s3-request-bucket-acl-fetch.t .......... ok
t/s3-request-bucket-acl-set.t ............ ok
t/s3-request-bucket-create.t ............. ok
t/s3-request-bucket-delete.t ............. ok
t/s3-request-bucket-location.t ........... ok
t/s3-request-bucket-objects-delete.t ..... ok
t/s3-request-bucket-objects-list.t ....... ok
t/s3-request-bucket-tags-add.t ........... ok
t/s3-request-bucket-tags-delete.t ........ ok
t/s3-request-object-acl-fetch.t .......... ok
t/s3-request-object-acl-set.t ............ ok
t/s3-request-object-add.t ................ ok
t/s3-request-object-delete.t ............. ok
t/s3-request-object-fetch.t .............. ok
t/s3-request-object-restore.t ............ ok
t/s3-request-object-tags-add.t ........... ok
t/s3-request-object-tags-delete.t ........ ok
t/s3-request-object-upload-abort.t ....... ok
t/s3-request-object-upload-complete.t .... ok
t/s3-request-object-upload-create.t ...... ok
t/s3-request-object-upload-part.t ........ ok
t/s3-request-object-upload-parts.t ....... ok
t/s3-request-service-buckets-list.t ...... ok
t/s3-response-object-upload-create.t ..... ok
t/s3-response-service-buckets-list.t ..... ok
t/signature-v4-with-security-token.t ..... ok
t/use-api.t .............................. ok
t/use-client.t ........................... ok
t/utils-parse-arguments.t ................ ok
t/vendor-amazon.t ........................ ok
t/vendor-generic.t ....................... ok
t/vendor-info.t .......................... ok
All tests successful.
Files=104, Tests=545, 101 wallclock secs ( 0.41 usr  0.09 sys + 91.37 cusr  9.20 csys = 101.07 CPU)
Result: PASS
------------------------------
PREREQUISITES
------------------------------
Prerequisite modules loaded:
requires:
    Module                                 Need     Have      
    -------------------------------------- -------- ----------
    Carp                                   0        1.54      
    constant                               0        1.33      
    Data::Stream::Bulk::Callback           0        0.11      
    DateTime::Format::HTTP                 0        0.42      
    Digest::HMAC_SHA1                      0        1.04      
    Digest::MD5                            0        2.58_01   
    Digest::MD5::File                      0        0.08      
    Digest::SHA                            0        6.04      
    Exporter::Tiny                         0        1.006002  
    File::Find::Rule                       0        0.34      
    File::stat                             0        1.13      
    Getopt::Long                           0        2.54      
    Hash::Util                             0        0.30      
    HTTP::Date                             0        6.06      
    HTTP::Response                         0        6.44      
    HTTP::Status                           0        6.44      
    IO::File                               1.14     1.52      
    LWP                                    6.03     6.72      
    LWP::UserAgent::Determined             0        1.07      
    MIME::Base64                           0        3.16_01   
    MIME::Types                            0        2.24      
    Moose                                  0.85     2.2206    
    Moose::Meta::Class                     0        2.2206    
    Moose::Object                          0        2.2206    
    Moose::Role                            0        2.2206    
    Moose::Util                            0        2.2206    
    Moose::Util::TypeConstraints           0        2.2206    
    MooseX::Role::Parameterized            0        1.11      
    MooseX::StrictConstructor              0.16     0.21      
    MooseX::Types::DateTime::MoreCoercions 0.07     0.15      
    namespace::clean                       0        0.27      
    parent                                 0        0.241     
    Path::Class                            0        0.37      
    Pod::Usage                             0        2.03      
    Ref::Util                              0        0.204     
    Regexp::Common                         0        2017060201
    Safe::Isa                              0        1.000010  
    Scalar::Util                           0        1.63      
    sort                                   0        2.05      
    strict                                 0        1.12      
    Sub::Override                          0        0.09      
    Term::Encoding                         0        0.03      
    Term::ProgressBar::Simple              0        0.03      
    Test::Deep                             v0.111.0 1.204     
    Test::LWP::UserAgent                   0        0.036     
    Test::More                             0        1.302196  
    Time::Piece                            0        1.3401_01 
    URI                                    0        5.21      
    URI::Escape                            0        5.21      
    URI::QueryParam                        0        5.21      
    warnings                               0        1.65      
    XML::LibXML                            0        2.0208    
    XML::LibXML::XPathContext              0        2.0208    
build_requires:
    Module                                 Need     Have      
    -------------------------------------- -------- ----------
    ExtUtils::MakeMaker                    0        7.70      
    File::Temp                             0        0.2311    
    FindBin                                0        1.53      
    HTTP::Request                          0        6.44      
    lib                                    0        0.65      
    LWP::Simple                            0        6.72      
    Test::Deep                             v0.111.0 1.204     
    Test::Exception                        0        0.43      
    Test::MockTime                         0        0.17      
    Test::Warnings                         0        0.032     
    utf8                                   0        1.25      
    vars                                   0        1.05      
configure_requires:
    Module                                 Need     Have      
    -------------------------------------- -------- ----------
    ExtUtils::MakeMaker                    0        7.70      
------------------------------
ENVIRONMENT AND OTHER CONTEXT
------------------------------
Environment variables:
    PATH = /usr/local/bin:/usr/bin:/bin:/usr/local/sbin:/usr/sbin:/sbin:/home/cpansand/bin/sh:/home/cpansand/bin:/usr/games:/home/cpansand/devel:/usr/home/eserte/src/srezic-misc/scripts
    PERL5LIB = /home/cpansand/.cpan/build/2023110307/Term-ProgressBar-Simple-0.03-0/blib/arch:/home/cpansand/.cpan/build/2023110307/Term-ProgressBar-Simple-0.03-0/blib/lib:/home/cpansand/.cpan/build/2023110307/Term-ProgressBar-Quiet-0.31-0/blib/arch:/home/cpansand/.cpan/build/2023110307/Term-ProgressBar-Quiet-0.31-0/blib/lib:/home/cpansand/.cpan/build/2023110307/MooseX-Types-DateTime-MoreCoercions-0.15-0/blib/arch:/home/cpansand/.cpan/build/2023110307/MooseX-Types-DateTime-MoreCoercions-0.15-0/blib/lib:/home/cpansand/.cpan/build/2023110307/MooseX-Types-DateTime-0.13-0/blib/arch:/home/cpansand/.cpan/build/2023110307/MooseX-Types-DateTime-0.13-0/blib/lib:/home/cpansand/.cpan/build/2023110307/Data-Stream-Bulk-0.11-0/blib/arch:/home/cpansand/.cpan/build/2023110307/Data-Stream-Bulk-0.11-0/blib/lib:/home/cpansand/.cpan/build/2023110307/Mojo-Pg-4.27-0/blib/arch:/home/cpansand/.cpan/build/2023110307/Mojo-Pg-4.27-0/blib/lib:/home/cpansand/.cpan/build/2023110307/SemVer-v0.10.0-0/blib/arch:/home/cpansand/.cpan/build/2023110307/SemVer-v0.10.0-0/blib/lib:/home/cpansand/.cpan/build/2023110307/Class-Type-Enum-0.014-0/blib/arch:/home/cpansand/.cpan/build/2023110307/Class-Type-Enum-0.014-0/blib/lib
    PERL5OPT = 
    PERL5_CPANPLUS_IS_RUNNING = 33070
    PERL5_CPAN_IS_RUNNING = 33070
    PERL5_CPAN_IS_RUNNING_IN_RECURSION = 33057,33070
    PERL_BATCH = yes
    PERL_CANARY_STABILITY_NOPROMPT = 1
    PERL_CPAN_REPORTER_CONFIG = /var/tmp/cpansmoker-1023/2023110307/cpanreporter_000_config.ini
    PERL_EXTUTILS_AUTOINSTALL = --defaultdeps
    PERL_USE_UNSAFE_INC = 1
    SHELL = /bin/sh
    TMPDIR = /var/tmp/cpansmoker-1023/2023110307
Perl special variables (and OS-specific diagnostics, for MSWin32):
    $^X = /usr/perl5.38.0Dp/bin/perl
    $UID/$EUID = 1023 / 1023
    $GID = 1023 1023
    $EGID = 1023 1023
Perl module toolchain versions installed:
    Module              Have    
    ------------------- --------
    CPAN                2.36    
    CPAN::Meta          2.150010
    Cwd                 3.89    
    ExtUtils::CBuilder  0.280238
    ExtUtils::Command   7.70    
    ExtUtils::Install   2.22    
    ExtUtils::MakeMaker 7.70    
    ExtUtils::Manifest  1.75    
    ExtUtils::ParseXS   3.51    
    File::Spec          3.88    
    JSON                4.10    
    JSON::PP            4.16    
    Module::Build       0.4234  
    Module::Signature   n/a     
    Parse::CPAN::Meta   2.150010
    Test2               1.302196
    Test::Harness       3.47    
    Test::More          1.302196
    YAML                1.30    
    YAML::Syck          1.34    
    version             0.9929  
--
Summary of my perl5 (revision 5 version 38 subversion 0) configuration:
   
  Platform:
    osname=freebsd
    osvers=13.2-stable
    archname=amd64-freebsd-ld
    uname='freebsd cloud10.bbbike.org 13.2-stable freebsd 13.2-stable stable13-9000459d3 generic amd64 '
    config_args='-ds -e -Dprefix=/usr/perl5.38.0Dp -Duselongdouble -Dcf_email=srezic@cpan.org -Doptimize=-O2 -pipe'
    hint=recommended
    useposix=true
    d_sigaction=define
    useithreads=undef
    usemultiplicity=undef
    use64bitint=define
    use64bitall=define
    uselongdouble=define
    usemymalloc=n
    default_inc_excludes_dot=define
  Compiler:
    cc='cc'
    ccflags ='-DHAS_FPSETMASK -DHAS_FLOATINGPOINT_H -fno-strict-aliasing -pipe -fstack-protector-strong -I/usr/local/include'
    optimize='-O2 -pipe'
    cppflags='-DHAS_FPSETMASK -DHAS_FLOATINGPOINT_H -fno-strict-aliasing -pipe -fstack-protector-strong -I/usr/local/include'
    ccversion=''
    gccversion='FreeBSD Clang 15.0.7 (https://github.com/llvm/llvm-project.git llvmorg-15.0.7-0-g8dfdcc7b7bf6)'
    gccosandvers=''
    intsize=4
    longsize=8
    ptrsize=8
    doublesize=8
    byteorder=12345678
    doublekind=3
    d_longlong=define
    longlongsize=8
    d_longdbl=define
    longdblsize=16
    longdblkind=3
    ivtype='long'
    ivsize=8
    nvtype='long double'
    nvsize=16
    Off_t='off_t'
    lseeksize=8
    alignbytes=16
    prototype=define
  Linker and Libraries:
    ld='cc'
    ldflags ='-pthread -Wl,-E  -fstack-protector-strong -L/usr/local/lib'
    libpth=/usr/lib /usr/local/lib /usr/lib/clang/15.0.7/lib
    libs=-lpthread -lgdbm -ldl -lm -lcrypt -lutil -lc
    perllibs=-lpthread -ldl -lm -lcrypt -lutil -lc
    libc=
    so=so
    useshrplib=false
    libperl=libperl.a
    gnulibc_version=''
  Dynamic Linking:
    dlsrc=dl_dlopen.xs
    dlext=so
    d_dlsymun=undef
    ccdlflags=' '
    cccdlflags='-DPIC -fPIC'
    lddlflags='-shared  -L/usr/local/lib -fstack-protector-strong'
Characteristics of this binary (from libperl): 
  Compile-time options:
    HAS_LONG_DOUBLE
    HAS_STRTOLD
    HAS_TIMES
    PERLIO_LAYERS
    PERL_COPY_ON_WRITE
    PERL_DONT_CREATE_GVSV
    PERL_HASH_FUNC_SIPHASH13
    PERL_HASH_USE_SBOX32
    PERL_MALLOC_WRAP
    PERL_OP_PARENT
    PERL_PRESERVE_IVUV
    PERL_USE_SAFE_PUTENV
    USE_64_BIT_ALL
    USE_64_BIT_INT
    USE_LARGE_FILES
    USE_LOCALE
    USE_LOCALE_COLLATE
    USE_LOCALE_CTYPE
    USE_LOCALE_NUMERIC
    USE_LOCALE_TIME
    USE_LONG_DOUBLE
    USE_PERLIO
    USE_PERL_ATOF
  Built under freebsd
  Compiled at Jul  8 2023 12:28:00
  %ENV:
    PERL5LIB="/home/cpansand/.cpan/build/2023110307/Term-ProgressBar-Simple-0.03-0/blib/arch:/home/cpansand/.cpan/build/2023110307/Term-ProgressBar-Simple-0.03-0/blib/lib:/home/cpansand/.cpan/build/2023110307/Term-ProgressBar-Quiet-0.31-0/blib/arch:/home/cpansand/.cpan/build/2023110307/Term-ProgressBar-Quiet-0.31-0/blib/lib:/home/cpansand/.cpan/build/2023110307/MooseX-Types-DateTime-MoreCoercions-0.15-0/blib/arch:/home/cpansand/.cpan/build/2023110307/MooseX-Types-DateTime-MoreCoercions-0.15-0/blib/lib:/home/cpansand/.cpan/build/2023110307/MooseX-Types-DateTime-0.13-0/blib/arch:/home/cpansand/.cpan/build/2023110307/MooseX-Types-DateTime-0.13-0/blib/lib:/home/cpansand/.cpan/build/2023110307/Data-Stream-Bulk-0.11-0/blib/arch:/home/cpansand/.cpan/build/2023110307/Data-Stream-Bulk-0.11-0/blib/lib:/home/cpansand/.cpan/build/2023110307/Mojo-Pg-4.27-0/blib/arch:/home/cpansand/.cpan/build/2023110307/Mojo-Pg-4.27-0/blib/lib:/home/cpansand/.cpan/build/2023110307/SemVer-v0.10.0-0/blib/arch:/home/cpansand/.cpan/build/2023110307/SemVer-v0.10.0-0/blib/lib:/home/cpansand/.cpan/build/2023110307/Class-Type-Enum-0.014-0/blib/arch:/home/cpansand/.cpan/build/2023110307/Class-Type-Enum-0.014-0/blib/lib"
    PERL5OPT=""
    PERL5_CPANPLUS_IS_RUNNING="33070"
    PERL5_CPAN_IS_RUNNING="33070"
    PERL5_CPAN_IS_RUNNING_IN_RECURSION="33057,33070"
    PERL_BATCH="yes"
    PERL_CANARY_STABILITY_NOPROMPT="1"
    PERL_CPAN_REPORTER_CONFIG="/var/tmp/cpansmoker-1023/2023110307/cpanreporter_000_config.ini"
    PERL_EXTUTILS_AUTOINSTALL="--defaultdeps"
    PERL_USE_UNSAFE_INC="1"
  @INC:
    /home/cpansand/.cpan/build/2023110307/Term-ProgressBar-Simple-0.03-0/blib/arch
    /home/cpansand/.cpan/build/2023110307/Term-ProgressBar-Simple-0.03-0/blib/lib
    /home/cpansand/.cpan/build/2023110307/Term-ProgressBar-Quiet-0.31-0/blib/arch
    /home/cpansand/.cpan/build/2023110307/Term-ProgressBar-Quiet-0.31-0/blib/lib
    /home/cpansand/.cpan/build/2023110307/MooseX-Types-DateTime-MoreCoercions-0.15-0/blib/arch
    /home/cpansand/.cpan/build/2023110307/MooseX-Types-DateTime-MoreCoercions-0.15-0/blib/lib
    /home/cpansand/.cpan/build/2023110307/MooseX-Types-DateTime-0.13-0/blib/arch
    /home/cpansand/.cpan/build/2023110307/MooseX-Types-DateTime-0.13-0/blib/lib
    /home/cpansand/.cpan/build/2023110307/Data-Stream-Bulk-0.11-0/blib/arch
    /home/cpansand/.cpan/build/2023110307/Data-Stream-Bulk-0.11-0/blib/lib
    /home/cpansand/.cpan/build/2023110307/Mojo-Pg-4.27-0/blib/arch
    /home/cpansand/.cpan/build/2023110307/Mojo-Pg-4.27-0/blib/lib
    /home/cpansand/.cpan/build/2023110307/SemVer-v0.10.0-0/blib/arch
    /home/cpansand/.cpan/build/2023110307/SemVer-v0.10.0-0/blib/lib
    /home/cpansand/.cpan/build/2023110307/Class-Type-Enum-0.014-0/blib/arch
    /home/cpansand/.cpan/build/2023110307/Class-Type-Enum-0.014-0/blib/lib
    /usr/perl5.38.0Dp/lib/site_perl/5.38.0/amd64-freebsd-ld
    /usr/perl5.38.0Dp/lib/site_perl/5.38.0
    /usr/perl5.38.0Dp/lib/5.38.0/amd64-freebsd-ld
    /usr/perl5.38.0Dp/lib/5.38.0
    .