Report for MooseX-WithCache-0.01002

Back
From: metabase:user:320bfe00-2aae-11df-837a-5e0a49663a4f
Subject: PASS MooseX-WithCache-0.01002 v5.14.4 GNU/Linux
Date: 2013-06-08T16:06:05Z

This distribution has been tested as part of the CPAN Testers
project, supporting the Perl programming language.  See
http://wiki.cpantesters.org/ for more information or email
questions to cpan-testers-discuss@perl.org


--
Dear Daisuke Maki,

This is a computer-generated report for MooseX-WithCache-0.01002
on perl 5.14.4, created by CPAN-Reporter-1.2010.

Thank you for uploading your work to CPAN.  Congratulations!
All tests were successful.

Sections of this report:

    * Tester comments
    * Program output
    * Prerequisites
    * Environment and other context

------------------------------
TESTER COMMENTS
------------------------------

Additional comments from tester:

this report is from an automated smoke testing program
and was not reviewed by a human for accuracy

------------------------------
PROGRAM OUTPUT
------------------------------

Output from '/usr/bin/make test':

PERL_DL_NONLAZY=1 /home/sand/src/perl/repoperls/installed-perls/perl/v5.14.4/9980/bin/perl "-MExtUtils::Command::MM" "-e" "test_harness(0, 'inc', 'blib/lib', 'blib/arch')" t/*.t t/*/*.t
t/00_compile.t ............... ok
Use of qw(...) as parentheses is deprecated at t/02_memcached.t line 25.
t/02_memcached.t ............. skipped: no memcached server found
must specify either 'datastore' hashref or 'global' flag at /home/src/perl/repoperls/installed-perls/perl/v5.14.4/9980/lib/site_perl/5.14.4/CHI/Driver/Memory.pm line 37.
	CHI::Driver::Memory::BUILD('Moose::Meta::Class::__ANON__::SERIAL::4=HASH(0x2c1b250)', 'HASH(0x2c3eaf8)') called at /home/src/perl/repoperls/installed-perls/perl/v5.14.4/9980/lib/site_perl/5.14.4/x86_64-linux-thread-multi/Class/MOP/Method.pm line 125
	Class::MOP::Method::execute('Moose::Meta::Method=HASH(0x2c3e960)', 'Moose::Meta::Class::__ANON__::SERIAL::4=HASH(0x2c1b250)', 'HASH(0x2c3eaf8)') called at /home/src/perl/repoperls/installed-perls/perl/v5.14.4/9980/lib/site_perl/5.14.4/x86_64-linux-thread-multi/Moose/Object.pm line 59
	Moose::Object::BUILDALL('Moose::Meta::Class::__ANON__::SERIAL::4=HASH(0x2c1b250)', 'HASH(0x2c3eaf8)') called at /home/src/perl/repoperls/installed-perls/perl/v5.14.4/9980/lib/site_perl/5.14.4/x86_64-linux-thread-multi/Moose/Meta/Class.pm line 278
	Moose::Meta::Class::new_object('Moose::Meta::Class=HASH(0x2c1b2c8)', 'HASH(0x2c3eaf8)') called at /home/src/perl/repoperls/installed-perls/perl/v5.14.4/9980/lib/site_perl/5.14.4/x86_64-linux-thread-multi/Moose/Object.pm line 28
	Moose::Object::new('Moose::Meta::Class::__ANON__::SERIAL::4', 'chi_root_class', 'CHI', 'driver_class', 'CHI::Driver::Memory') called at constructor CHI::Driver::Memory::new (defined at /home/src/perl/repoperls/installed-perls/perl/v5.14.4/9980/lib/site_perl/5.14.4/CHI/Driver/Memory.pm line 18) line 4
	CHI::Driver::Memory::new('Moose::Meta::Class::__ANON__::SERIAL::4', 'chi_root_class', 'CHI', 'driver_class', 'CHI::Driver::Memory') called at /home/src/perl/repoperls/installed-perls/perl/v5.14.4/9980/lib/site_perl/5.14.4/CHI.pm line 156
	CHI::new('CHI', 'driver', 'Memory') called at t/03_chi.t line 29
t/03_chi.t ................... ok
t/04_fastmmap.t .............. ok
t/deprecated/00_compile.t .... ok
Use of qw(...) as parentheses is deprecated at t/deprecated/02_memcached.t line 20.
t/deprecated/02_memcached.t .. skipped: no memcached server found
must specify either 'datastore' hashref or 'global' flag at /home/src/perl/repoperls/installed-perls/perl/v5.14.4/9980/lib/site_perl/5.14.4/CHI/Driver/Memory.pm line 37.
	CHI::Driver::Memory::BUILD('Moose::Meta::Class::__ANON__::SERIAL::4=HASH(0x1e92bd0)', 'HASH(0x1ea7bb8)') called at /home/src/perl/repoperls/installed-perls/perl/v5.14.4/9980/lib/site_perl/5.14.4/x86_64-linux-thread-multi/Class/MOP/Method.pm line 125
	Class::MOP::Method::execute('Moose::Meta::Method=HASH(0x1ea7a20)', 'Moose::Meta::Class::__ANON__::SERIAL::4=HASH(0x1e92bd0)', 'HASH(0x1ea7bb8)') called at /home/src/perl/repoperls/installed-perls/perl/v5.14.4/9980/lib/site_perl/5.14.4/x86_64-linux-thread-multi/Moose/Object.pm line 59
	Moose::Object::BUILDALL('Moose::Meta::Class::__ANON__::SERIAL::4=HASH(0x1e92bd0)', 'HASH(0x1ea7bb8)') called at /home/src/perl/repoperls/installed-perls/perl/v5.14.4/9980/lib/site_perl/5.14.4/x86_64-linux-thread-multi/Moose/Meta/Class.pm line 278
	Moose::Meta::Class::new_object('Moose::Meta::Class=HASH(0x1e92c48)', 'HASH(0x1ea7bb8)') called at /home/src/perl/repoperls/installed-perls/perl/v5.14.4/9980/lib/site_perl/5.14.4/x86_64-linux-thread-multi/Moose/Object.pm line 28
	Moose::Object::new('Moose::Meta::Class::__ANON__::SERIAL::4', 'chi_root_class', 'CHI', 'driver_class', 'CHI::Driver::Memory') called at constructor CHI::Driver::Memory::new (defined at /home/src/perl/repoperls/installed-perls/perl/v5.14.4/9980/lib/site_perl/5.14.4/CHI/Driver/Memory.pm line 18) line 4
	CHI::Driver::Memory::new('Moose::Meta::Class::__ANON__::SERIAL::4', 'chi_root_class', 'CHI', 'driver_class', 'CHI::Driver::Memory') called at /home/src/perl/repoperls/installed-perls/perl/v5.14.4/9980/lib/site_perl/5.14.4/CHI.pm line 156
	CHI::new('CHI', 'driver', 'Memory') called at t/deprecated/03_chi.t line 30
t/deprecated/03_chi.t ........ ok
t/deprecated/04_fastmmap.t ... ok
All tests successful.
Files=8, Tests=62,  6 wallclock secs ( 0.04 usr  0.01 sys +  2.24 cusr  0.31 csys =  2.60 CPU)
Result: PASS

------------------------------
PREREQUISITES
------------------------------

Prerequisite modules loaded:

requires:

    Module                      Need  Have    
    --------------------------- ----- --------
    Cache::Memcached            0     1.30    
    Data::Dumper                0     2.145   
    Digest::MD5                 0     2.52    
    Moose                       0.59  2.0900  
    MooseX::Role::Parameterized 0     1.00    
    perl                        5.008 5.014004

build_requires:

    Module                      Need  Have    
    --------------------------- ----- --------
    ExtUtils::MakeMaker         6.42  6.67_03 
    IO::Socket::INET            0     1.31    
    Test::Exception             0     0.32    
    Test::More                  0     0.98    

configure_requires:

    Module                      Need  Have    
    --------------------------- ----- --------
    ExtUtils::MakeMaker         6.42  6.67_03 


------------------------------
ENVIRONMENT AND OTHER CONTEXT
------------------------------

Environment variables:

    AUTOMATED_TESTING = 1
    LANG = en_US.UTF-8
    LANGUAGE = en_US:en
    PATH = /usr/lib/ccache:/home/sand/bin:/usr/local/bin:/usr/bin:/bin:/usr/bin/X11:/usr/games:/usr/local/perl/bin:/usr/X11/bin:/sbin:/usr/sbin
    PERL5LIB = 
    PERL5OPT = 
    PERL5_CPANPLUS_IS_RUNNING = 28267
    PERL5_CPAN_IS_RUNNING = 28267
    PERL_MM_USE_DEFAULT = 1
    SHELL = /usr/bin/zsh
    TERM = screen

Perl special variables (and OS-specific diagnostics, for MSWin32):

    $^X = /home/sand/src/perl/repoperls/installed-perls/perl/v5.14.4/9980/bin/perl
    $UID/$EUID = 1005 / 1005
    $GID = 1005 1005
    $EGID = 1005 1005

Perl module toolchain versions installed:

    Module              Have    
    ------------------- --------
    CPAN                2.00    
    CPAN::Meta          2.131560
    Cwd                 3.40    
    ExtUtils::CBuilder  0.280205
    ExtUtils::Command   1.17    
    ExtUtils::Install   1.56    
    ExtUtils::MakeMaker 6.67_03 
    ExtUtils::Manifest  1.60    
    ExtUtils::ParseXS   3.18_03 
    File::Spec          3.40    
    JSON                2.57    
    JSON::PP            2.27202 
    Module::Build       0.4005  
    Module::Signature   0.73    
    Parse::CPAN::Meta   1.4404  
    Test::Harness       3.28    
    Test::More          0.98    
    YAML                0.84    
    YAML::Syck          1.27    
    version             0.9902  


--

Summary of my perl5 (revision 5 version 14 subversion 4) configuration:
  Commit id: 26c5c13a4ece9084f310610bb17fb2f24c72a73e
  Platform:
    osname=linux, osvers=3.2.0-4-amd64, archname=x86_64-linux-thread-multi
    uname='linux k83 3.2.0-4-amd64 #1 smp debian 3.2.39-2 x86_64 gnulinux '
    config_args='-Dprefix=/home/src/perl/repoperls/installed-perls/perl/v5.14.4/9980 -Dmyhostname=k83 -Dinstallusrbinperl=n -Uversiononly -Dusedevel -des -Ui_db -Duseithreads -Uuselongdouble -DDEBUGGING=-g'
    hint=recommended, useposix=true, d_sigaction=define
    useithreads=define, usemultiplicity=define
    useperlio=define, d_sfio=undef, uselargefiles=define, usesocks=undef
    use64bitint=define, use64bitall=define, uselongdouble=undef
    usemymalloc=n, bincompat5005=undef
  Compiler:
    cc='cc', ccflags ='-D_REENTRANT -D_GNU_SOURCE -fno-strict-aliasing -pipe -fstack-protector -I/usr/local/include -D_LARGEFILE_SOURCE -D_FILE_OFFSET_BITS=64',
    optimize='-O2 -g',
    cppflags='-D_REENTRANT -D_GNU_SOURCE -fno-strict-aliasing -pipe -fstack-protector -I/usr/local/include'
    ccversion='', gccversion='4.7.2', gccosandvers=''
    intsize=4, longsize=8, ptrsize=8, doublesize=8, byteorder=12345678
    d_longlong=define, longlongsize=8, d_longdbl=define, longdblsize=16
    ivtype='long', ivsize=8, nvtype='double', nvsize=8, Off_t='off_t', lseeksize=8
    alignbytes=8, prototype=define
  Linker and Libraries:
    ld='cc', ldflags =' -fstack-protector -L/usr/local/lib'
    libpth=/usr/local/lib /lib/x86_64-linux-gnu /lib/../lib /usr/lib/x86_64-linux-gnu /usr/lib/../lib /lib /usr/lib
    libs=-lnsl -lgdbm -ldb -ldl -lm -lcrypt -lutil -lpthread -lc -lgdbm_compat
    perllibs=-lnsl -ldl -lm -lcrypt -lutil -lpthread -lc
    libc=, so=so, useshrplib=false, libperl=libperl.a
    gnulibc_version='2.13'
  Dynamic Linking:
    dlsrc=dl_dlopen.xs, dlext=so, d_dlsymun=undef, ccdlflags='-Wl,-E'
    cccdlflags='-fPIC', lddlflags='-shared -O2 -g -L/usr/local/lib -fstack-protector'


Characteristics of this binary (from libperl): 
  Compile-time options: MULTIPLICITY PERL_DONT_CREATE_GVSV
                        PERL_IMPLICIT_CONTEXT PERL_MALLOC_WRAP
                        PERL_PRESERVE_IVUV PERL_USE_DEVEL USE_64_BIT_ALL
                        USE_64_BIT_INT USE_ITHREADS USE_LARGE_FILES
                        USE_PERLIO USE_PERL_ATOF USE_REENTRANT_API
  Built under linux
  Compiled at Mar 12 2013 06:55:06
  %ENV:
    PERL5LIB=""
    PERL5OPT=""
    PERL5_CPANPLUS_IS_RUNNING="28267"
    PERL5_CPAN_IS_RUNNING="28267"
    PERL_MM_USE_DEFAULT="1"
  @INC:
    /home/src/perl/repoperls/installed-perls/perl/v5.14.4/9980/lib/site_perl/5.14.4/x86_64-linux-thread-multi
    /home/src/perl/repoperls/installed-perls/perl/v5.14.4/9980/lib/site_perl/5.14.4
    /home/src/perl/repoperls/installed-perls/perl/v5.14.4/9980/lib/5.14.4/x86_64-linux-thread-multi
    /home/src/perl/repoperls/installed-perls/perl/v5.14.4/9980/lib/5.14.4
    .