WWW-Suffit v1.08 Perl 5 v5.34.3 x86_64-linux-thread-multi-ld

Status
Pass
From
Nigel Horne
Dist
WWW-Suffit v1.08
Platform
Perl 5 v5.34.3 x86_64-linux-thread-multi-ld
Date
2025-10-21 15:55:10
ID
52ebe9e6-ae96-11f0-b1e0-bee1b15e733a
This distribution has been tested as part of the CPAN Testers
project, supporting the Perl programming language.  See
http://wiki.cpantesters.org/ for more information or email
questions to cpan-testers-discuss@perl.org


--
Dear Sergey Lepenkov,

This is a computer-generated report for WWW-Suffit-1.08
on perl 5.34.3, created by CPAN-Reporter-1.2020.

Thank you for uploading your work to CPAN.  Congratulations!
All tests were successful.

Sections of this report:

    * Tester comments
    * Program output
    * Prerequisites
    * Environment and other context

------------------------------
TESTER COMMENTS
------------------------------

Additional comments from tester:

this report is from an automated smoke testing program
and was not reviewed by a human for accuracy

------------------------------
PROGRAM OUTPUT
------------------------------

Output from '/usr/bin/make test':

PERL_DL_NONLAZY=1 "/home/njh/perl5/perlbrew/perls/perl-5.34.3-thread-multi-ld/bin/perl5.34.3" "-MExtUtils::Command::MM" "-MTest::Harness" "-e" "undef *Test::Harness::Switches; test_harness(0, 'blib/lib', 'blib/arch')" t/*.t
t/00-fixme.t .......... skipped: requires Test::Fixme to run
t/00-pod-coverage.t ... skipped: Test::Pod::Coverage 1.08 required for testing POD coverage
t/00-trailingspace.t .. skipped: Test::TrailingSpace required for trailing space test
t/01-use.t ............ ok
t/00-pod.t ............ ok
t/04-refutil.t ........ ok
t/02-util.t ........... ok
t/03-rsa.t ............ ok
t/05-jwt.t ............ ok
t/06-cache.t .......... ok
All tests successful.
Files=10, Tests=94,  3 wallclock secs ( 0.04 usr  0.00 sys +  0.67 cusr  0.22 csys =  0.93 CPU)
Result: PASS

------------------------------
PREREQUISITES
------------------------------

Prerequisite modules loaded:

requires:

    Module              Need     Have    
    ------------------- -------- --------
    Crypt::OpenSSL::RSA 0        0.35    
    Mojolicious         7.94     9.42    
    perl                5.020001 5.034003

build_requires:

    Module              Need     Have    
    ------------------- -------- --------
    ExtUtils::MakeMaker 6.6      7.62    
    Test::More          0.94     1.302214

configure_requires:

    Module              Need     Have    
    ------------------- -------- --------
    ExtUtils::MakeMaker 0        7.62    


------------------------------
ENVIRONMENT AND OTHER CONTEXT
------------------------------

Environment variables:

    AUTOMATED_TESTING = 1
    HARNESS_OPTIONS = j4
    LANG = en_US.UTF-8
    PATH = /home/njh/perl5/perlbrew/bin:/home/njh/perl5/perlbrew/perls/perl-5.34.3-thread-multi-ld/bin:/home/njh/perl5/perlbrew/bin:/home/njh/src/njh/smoker/bin:/usr/bin:/bin
    PERL5LIB = /tmp/user/1000/build/Crypt-OpenSSL-RSA-0.35-0/blib/arch:/tmp/user/1000/build/Crypt-OpenSSL-RSA-0.35-0/blib/lib:/tmp/user/1000/build/Crypt-OpenSSL-Random-0.17-0/blib/arch:/tmp/user/1000/build/Crypt-OpenSSL-Random-0.17-0/blib/lib:/tmp/user/1000/build/Test-Pod-1.52-0/blib/arch:/tmp/user/1000/build/Test-Pod-1.52-0/blib/lib:/tmp/user/1000/build/Crypt-OpenSSL-Guess-0.15-0/blib/arch:/tmp/user/1000/build/Crypt-OpenSSL-Guess-0.15-0/blib/lib:/tmp/user/1000/build/Mojolicious-9.42-0/blib/arch:/tmp/user/1000/build/Mojolicious-9.42-0/blib/lib:/tmp/user/1000/build/Acrux-0.06-0/blib/arch:/tmp/user/1000/build/Acrux-0.06-0/blib/lib:/tmp/user/1000/build/Config-General-2.67-0/blib/arch:/tmp/user/1000/build/Config-General-2.67-0/blib/lib
    PERL5OPT = 
    PERL5_CPANPLUS_IS_RUNNING = 2677086
    PERL5_CPAN_IS_RUNNING = 2677086
    PERL5_CPAN_IS_RUNNING_IN_RECURSION = 2677076,2677086
    PERLBREW_LIB = 
    PERLBREW_MANPATH = /home/njh/perl5/perlbrew/perls/perl-5.34.3-thread-multi-ld/man
    PERLBREW_PATH = /home/njh/perl5/perlbrew/bin:/home/njh/perl5/perlbrew/perls/perl-5.34.3-thread-multi-ld/bin
    PERLBREW_PERL = perl-5.34.3-thread-multi-ld
    PERLBREW_ROOT = /home/njh/perl5/perlbrew
    PERLBREW_SHELLRC_VERSION = 1.02
    PERLBREW_VERSION = 1.02
    PERL_LOCAL_LIB_ROOT = 
    PERL_MM_USE_DEFAULT = 1
    PERL_USE_UNSAFE_INC = 1
    SHELL = /bin/sh
    TEMP = /tmp/user/1000
    TMPDIR = /tmp/user/1000/testwrapper.2677079

Perl special variables (and OS-specific diagnostics, for MSWin32):

    $^X = /home/njh/perl5/perlbrew/perls/perl-5.34.3-thread-multi-ld/bin/perl5.34.3
    $UID/$EUID = 1000 / 1000
    $GID = 1000 4 24 25 29 30 44 46 103 108 115 123 996 1000
    $EGID = 1000 4 24 25 29 30 44 46 103 108 115 123 996 1000

Perl module toolchain versions installed:

    Module              Have    
    ------------------- --------
    CPAN                2.28    
    CPAN::Meta          2.150010
    Cwd                 3.80    
    ExtUtils::CBuilder  0.280236
    ExtUtils::Command   7.62    
    ExtUtils::Install   2.20    
    ExtUtils::MakeMaker 7.62    
    ExtUtils::Manifest  1.73    
    ExtUtils::ParseXS   3.43    
    File::Spec          3.80    
    JSON                n/a     
    JSON::PP            4.06    
    Module::Build       0.4234  
    Module::Signature   n/a     
    Parse::CPAN::Meta   2.150010
    Test2               1.302214
    Test::Harness       3.43    
    Test::More          1.302214
    YAML                1.31    
    YAML::Syck          1.36    
    version             0.9928  


--

Summary of my perl5 (revision 5 version 34 subversion 3) configuration:
   
  Platform:
    osname=linux
    osvers=6.12.5-amd64
    archname=x86_64-linux-thread-multi-ld
    uname='linux amelia 6.12.5-amd64 #1 smp preempt_dynamic debian 6.12.5-1 (2024-12-15) x86_64 gnulinux '
    config_args='-de -Dprefix=/home/njh/perl5/perlbrew/perls/perl-5.34.3-thread-multi-ld -Dusedevel -Duselongdouble -Dusethreads -Dusemultiplicity -Accflags=-O2 -W -Wformat=2 -Wswitch -Wshadow -Wwrite-strings -Wuninitialized -Wall -pipe -fomit-frame-pointer -pedantic -D_FORTIFY_SOURCE=2 -Wpointer-arith -Wstrict-prototypes -fstack-protector -Wstack-protector -Wextra -Wbad-function-cast -Wcast-align -Wcast-qual -Wdisabled-optimization -Wendif-labels -Wfloat-equal -Wformat-nonliteral -Winline -Wmissing-declarations -Wmissing-prototypes -Wnested-externs -Wpointer-arith -Wundef -Wformat-security -ftree-vectorize -msse -mfpmath=sse -msse2 -mssse3 -msse4.1 -msse4.2 -maes -fdiagnostics-color=auto -flto -mtune=native -march=native -Aeval:scriptdir=/home/njh/perl5/perlbrew/perls/perl-5.34.3-thread-multi-ld/bin'
    hint=recommended
    useposix=true
    d_sigaction=define
    useithreads=define
    usemultiplicity=define
    use64bitint=define
    use64bitall=define
    uselongdouble=define
    usemymalloc=n
    default_inc_excludes_dot=define
  Compiler:
    cc='cc'
    ccflags ='-D_REENTRANT -D_GNU_SOURCE -O2 -W -Wformat=2 -Wswitch -Wshadow -Wwrite-strings -Wuninitialized -Wall -pipe -fomit-frame-pointer -pedantic -D_FORTIFY_SOURCE=2 -Wpointer-arith -Wstrict-prototypes -fstack-protector -Wstack-protector -Wextra -Wbad-function-cast -Wcast-align -Wcast-qual -Wdisabled-optimization -Wendif-labels -Wfloat-equal -Wformat-nonliteral -Winline -Wmissing-declarations -Wmissing-prototypes -Wnested-externs -Wpointer-arith -Wundef -Wformat-security -ftree-vectorize -msse -mfpmath=sse -msse2 -mssse3 -msse4.1 -msse4.2 -maes -fdiagnostics-color=auto -flto -mtune=native -march=native -fwrapv -fno-strict-aliasing -fstack-protector-strong -I/usr/local/include -D_LARGEFILE_SOURCE -D_FILE_OFFSET_BITS=64'
    optimize='-O2'
    cppflags='-D_REENTRANT -D_GNU_SOURCE -O2 -W -Wformat=2 -Wswitch -Wshadow -Wwrite-strings -Wuninitialized -Wall -pipe -fomit-frame-pointer -pedantic -D_FORTIFY_SOURCE=2 -Wpointer-arith -Wstrict-prototypes -fstack-protector -Wstack-protector -Wextra -Wbad-function-cast -Wcast-align -Wcast-qual -Wdisabled-optimization -Wendif-labels -Wfloat-equal -Wformat-nonliteral -Winline -Wmissing-declarations -Wmissing-prototypes -Wnested-externs -Wpointer-arith -Wundef -Wformat-security -ftree-vectorize -msse -mfpmath=sse -msse2 -mssse3 -msse4.1 -msse4.2 -maes -fdiagnostics-color=auto -flto -mtune=native -march=native -fwrapv -fno-strict-aliasing -fstack-protector-strong -I/usr/local/include'
    ccversion=''
    gccversion='14.2.0'
    gccosandvers=''
    intsize=4
    longsize=8
    ptrsize=8
    doublesize=8
    byteorder=12345678
    doublekind=3
    d_longlong=define
    longlongsize=8
    d_longdbl=define
    longdblsize=16
    longdblkind=3
    ivtype='long'
    ivsize=8
    nvtype='long double'
    nvsize=16
    Off_t='off_t'
    lseeksize=8
    alignbytes=16
    prototype=define
  Linker and Libraries:
    ld='cc'
    ldflags =' -fstack-protector-strong -L/usr/local/lib'
    libpth=/usr/local/lib /usr/lib/x86_64-linux-gnu /usr/lib /usr/lib64
    libs=-lpthread -lnsl -lgdbm -ldb -ldl -lm -lcrypt -lutil -lc
    perllibs=-lpthread -lnsl -ldl -lm -lcrypt -lutil -lc
    libc=/lib/x86_64-linux-gnu/libc.so.6
    so=so
    useshrplib=false
    libperl=libperl.a
    gnulibc_version='2.40'
  Dynamic Linking:
    dlsrc=dl_dlopen.xs
    dlext=so
    d_dlsymun=undef
    ccdlflags='-Wl,-E'
    cccdlflags='-fPIC'
    lddlflags='-shared -O2 -L/usr/local/lib -fstack-protector-strong'


Characteristics of this binary (from libperl): 
  Compile-time options:
    HAS_TIMES
    MULTIPLICITY
    PERLIO_LAYERS
    PERL_COPY_ON_WRITE
    PERL_DONT_CREATE_GVSV
    PERL_IMPLICIT_CONTEXT
    PERL_MALLOC_WRAP
    PERL_OP_PARENT
    PERL_PRESERVE_IVUV
    PERL_USE_DEVEL
    USE_64_BIT_ALL
    USE_64_BIT_INT
    USE_ITHREADS
    USE_LARGE_FILES
    USE_LOCALE
    USE_LOCALE_COLLATE
    USE_LOCALE_CTYPE
    USE_LOCALE_NUMERIC
    USE_LOCALE_TIME
    USE_LONG_DOUBLE
    USE_PERLIO
    USE_PERL_ATOF
    USE_REENTRANT_API
    USE_THREAD_SAFE_LOCALE
  Built under linux
  Compiled at Dec 23 2024 17:58:48
  %ENV:
    PERL5LIB="/tmp/user/1000/build/Crypt-OpenSSL-RSA-0.35-0/blib/arch:/tmp/user/1000/build/Crypt-OpenSSL-RSA-0.35-0/blib/lib:/tmp/user/1000/build/Crypt-OpenSSL-Random-0.17-0/blib/arch:/tmp/user/1000/build/Crypt-OpenSSL-Random-0.17-0/blib/lib:/tmp/user/1000/build/Test-Pod-1.52-0/blib/arch:/tmp/user/1000/build/Test-Pod-1.52-0/blib/lib:/tmp/user/1000/build/Crypt-OpenSSL-Guess-0.15-0/blib/arch:/tmp/user/1000/build/Crypt-OpenSSL-Guess-0.15-0/blib/lib:/tmp/user/1000/build/Mojolicious-9.42-0/blib/arch:/tmp/user/1000/build/Mojolicious-9.42-0/blib/lib:/tmp/user/1000/build/Acrux-0.06-0/blib/arch:/tmp/user/1000/build/Acrux-0.06-0/blib/lib:/tmp/user/1000/build/Config-General-2.67-0/blib/arch:/tmp/user/1000/build/Config-General-2.67-0/blib/lib"
    PERL5OPT=""
    PERL5_CPANPLUS_IS_RUNNING="2677086"
    PERL5_CPAN_IS_RUNNING="2677086"
    PERL5_CPAN_IS_RUNNING_IN_RECURSION="2677076,2677086"
    PERLBREW_LIB=""
    PERLBREW_MANPATH="/home/njh/perl5/perlbrew/perls/perl-5.34.3-thread-multi-ld/man"
    PERLBREW_PATH="/home/njh/perl5/perlbrew/bin:/home/njh/perl5/perlbrew/perls/perl-5.34.3-thread-multi-ld/bin"
    PERLBREW_PERL="perl-5.34.3-thread-multi-ld"
    PERLBREW_ROOT="/home/njh/perl5/perlbrew"
    PERLBREW_SHELLRC_VERSION="1.02"
    PERLBREW_VERSION="1.02"
    PERL_LOCAL_LIB_ROOT=""
    PERL_MM_USE_DEFAULT="1"
    PERL_USE_UNSAFE_INC="1"
  @INC:
    /tmp/user/1000/build/Crypt-OpenSSL-RSA-0.35-0/blib/arch
    /tmp/user/1000/build/Crypt-OpenSSL-RSA-0.35-0/blib/lib
    /tmp/user/1000/build/Crypt-OpenSSL-Random-0.17-0/blib/arch
    /tmp/user/1000/build/Crypt-OpenSSL-Random-0.17-0/blib/lib
    /tmp/user/1000/build/Test-Pod-1.52-0/blib/arch
    /tmp/user/1000/build/Test-Pod-1.52-0/blib/lib
    /tmp/user/1000/build/Crypt-OpenSSL-Guess-0.15-0/blib/arch
    /tmp/user/1000/build/Crypt-OpenSSL-Guess-0.15-0/blib/lib
    /tmp/user/1000/build/Mojolicious-9.42-0/blib/arch
    /tmp/user/1000/build/Mojolicious-9.42-0/blib/lib
    /tmp/user/1000/build/Acrux-0.06-0/blib/arch
    /tmp/user/1000/build/Acrux-0.06-0/blib/lib
    /tmp/user/1000/build/Config-General-2.67-0/blib/arch
    /tmp/user/1000/build/Config-General-2.67-0/blib/lib
    /home/njh/perl5/perlbrew/perls/perl-5.34.3-thread-multi-ld/lib/site_perl/5.34.3/x86_64-linux-thread-multi-ld
    /home/njh/perl5/perlbrew/perls/perl-5.34.3-thread-multi-ld/lib/site_perl/5.34.3
    /home/njh/perl5/perlbrew/perls/perl-5.34.3-thread-multi-ld/lib/5.34.3/x86_64-linux-thread-multi-ld
    /home/njh/perl5/perlbrew/perls/perl-5.34.3-thread-multi-ld/lib/5.34.3
    .