Module-Install v1.21 Perl 5 v5.28.2 MSWin32-x64-multi-thread

Status
Pass
From
LNATION
Dist
Module-Install v1.21
Platform
Perl 5 v5.28.2 MSWin32-x64-multi-thread
Date
2025-05-19 06:05:10
ID
52358d10-6dca-1014-8c11-c0d2e6daf3dd
This distribution has been tested as part of the CPAN Testers
project, supporting the Perl programming language.  See
http://wiki.cpantesters.org/ for more information or email
questions to cpan-testers-discuss@perl.org


--
Dear Karen Etheridge,

This is a computer-generated report for Module-Install-1.21
on perl 5.28.2, created by CPAN-Reporter-1.2020.

Thank you for uploading your work to CPAN.  Congratulations!
All tests were successful.

Sections of this report:

    * Tester comments
    * Program output
    * Prerequisites
    * Environment and other context

------------------------------
TESTER COMMENTS
------------------------------

Additional comments from tester:

this report is from an automated smoke testing program
and was not reviewed by a human for accuracy

------------------------------
PROGRAM OUTPUT
------------------------------

Output from 'C:\STRAWB~1\c\bin\gmake.exe test':

"C:\Strawberry\perl\bin\perl.exe" "-MExtUtils::Command::MM" "-MTest::Harness" "-e" "undef *Test::Harness::Switches; test_harness(0, 'inc', 'blib\lib', 'blib\arch')" t/*.t t/recursive/*.t
t/01_compile.t .......................... ok
t/02_mymeta.t ........................... skipped: New EU::MM has own MYMETA support
t/03_autoinstall.t ...................... skipped: Skipping dangerous test
t/04_version.t .......................... ok
t/05_share.t ............................ ok
t/06_ppport.t ........................... ok
t/07_perl_version.t ..................... ok
t/09_read.t ............................. ok
t/10_test.t ............................. ok
t/11_extraction.t ....................... ok
t/12_eumm_params.t ...................... ok
t/13_author_tests.t ..................... ok
t/13_author_tests_ext.t ................. skipped: requires Module::Install::AuthorTests
t/13_author_tests_ext2.t ................ skipped: requires Module::Install::ExtraTests 0.007
t/14_auto_include_deps_with_version.t ... skipped: your perl is new enough to have File::Spec 3.30 in core
t/15_wrong_usage.t ...................... ok
t/16_require.t .......................... ok
t/17_sign.t ............................. ok
t/18_all_from.t ......................... ok
t/19_authors.t .......................... ok
t/20_authors_with_special_characters.t .. ok
t/21_makemaker_args.t ................... ok
Use of uninitialized value $cmd in substitution (s///) at C:/Strawberry/perl/site/lib/ExtUtils/MM_Any.pm line 348.
Use of uninitialized value $mandir in pattern match (m//) at C:/Strawberry/perl/site/lib/ExtUtils/MM_Unix.pm line 1560.
Use of uninitialized value $mandir in pattern match (m//) at C:/Strawberry/perl/site/lib/ExtUtils/MM_Unix.pm line 1560.
Use of uninitialized value $mandir in pattern match (m//) at C:/Strawberry/perl/site/lib/ExtUtils/MM_Unix.pm line 1560.
Use of uninitialized value $mandir in pattern match (m//) at C:/Strawberry/perl/site/lib/ExtUtils/MM_Unix.pm line 1560.
Use of uninitialized value $mandir in pattern match (m//) at C:/Strawberry/perl/site/lib/ExtUtils/MM_Unix.pm line 1560.
Use of uninitialized value $mandir in pattern match (m//) at C:/Strawberry/perl/site/lib/ExtUtils/MM_Unix.pm line 1560.
Use of uninitialized value $mandir in pattern match (m//) at C:/Strawberry/perl/site/lib/ExtUtils/MM_Unix.pm line 1560.
Use of uninitialized value $mandir in pattern match (m//) at C:/Strawberry/perl/site/lib/ExtUtils/MM_Unix.pm line 1560.
Use of uninitialized value $mandir in pattern match (m//) at C:/Strawberry/perl/site/lib/ExtUtils/MM_Unix.pm line 1560.
Use of uninitialized value $cmd in substitution (s///) at C:/Strawberry/perl/site/lib/ExtUtils/MM_Any.pm line 348.
Use of uninitialized value $mandir in pattern match (m//) at C:/Strawberry/perl/site/lib/ExtUtils/MM_Unix.pm line 1560.
Use of uninitialized value $mandir in pattern match (m//) at C:/Strawberry/perl/site/lib/ExtUtils/MM_Unix.pm line 1560.
Use of uninitialized value $mandir in pattern match (m//) at C:/Strawberry/perl/site/lib/ExtUtils/MM_Unix.pm line 1560.
Use of uninitialized value $mandir in pattern match (m//) at C:/Strawberry/perl/site/lib/ExtUtils/MM_Unix.pm line 1560.
Use of uninitialized value $mandir in pattern match (m//) at C:/Strawberry/perl/site/lib/ExtUtils/MM_Unix.pm line 1560.
Use of uninitialized value $mandir in pattern match (m//) at C:/Strawberry/perl/site/lib/ExtUtils/MM_Unix.pm line 1560.
Use of uninitialized value $mandir in pattern match (m//) at C:/Strawberry/perl/site/lib/ExtUtils/MM_Unix.pm line 1560.
Use of uninitialized value $mandir in pattern match (m//) at C:/Strawberry/perl/site/lib/ExtUtils/MM_Unix.pm line 1560.
Use of uninitialized value $mandir in pattern match (m//) at C:/Strawberry/perl/site/lib/ExtUtils/MM_Unix.pm line 1560.
Use of uninitialized value $cmd in substitution (s///) at C:/Strawberry/perl/site/lib/ExtUtils/MM_Any.pm line 348.
Use of uninitialized value $mandir in pattern match (m//) at C:/Strawberry/perl/site/lib/ExtUtils/MM_Unix.pm line 1560.
Use of uninitialized value $mandir in pattern match (m//) at C:/Strawberry/perl/site/lib/ExtUtils/MM_Unix.pm line 1560.
Use of uninitialized value $mandir in pattern match (m//) at C:/Strawberry/perl/site/lib/ExtUtils/MM_Unix.pm line 1560.
Use of uninitialized value $mandir in pattern match (m//) at C:/Strawberry/perl/site/lib/ExtUtils/MM_Unix.pm line 1560.
Use of uninitialized value $mandir in pattern match (m//) at C:/Strawberry/perl/site/lib/ExtUtils/MM_Unix.pm line 1560.
Use of uninitialized value $mandir in pattern match (m//) at C:/Strawberry/perl/site/lib/ExtUtils/MM_Unix.pm line 1560.
Use of uninitialized value $mandir in pattern match (m//) at C:/Strawberry/perl/site/lib/ExtUtils/MM_Unix.pm line 1560.
Use of uninitialized value $mandir in pattern match (m//) at C:/Strawberry/perl/site/lib/ExtUtils/MM_Unix.pm line 1560.
Use of uninitialized value $mandir in pattern match (m//) at C:/Strawberry/perl/site/lib/ExtUtils/MM_Unix.pm line 1560.
Use of uninitialized value $cmd in substitution (s///) at C:/Strawberry/perl/site/lib/ExtUtils/MM_Any.pm line 348.
Use of uninitialized value $mandir in pattern match (m//) at C:/Strawberry/perl/site/lib/ExtUtils/MM_Unix.pm line 1560.
Use of uninitialized value $mandir in pattern match (m//) at C:/Strawberry/perl/site/lib/ExtUtils/MM_Unix.pm line 1560.
Use of uninitialized value $mandir in pattern match (m//) at C:/Strawberry/perl/site/lib/ExtUtils/MM_Unix.pm line 1560.
Use of uninitialized value $mandir in pattern match (m//) at C:/Strawberry/perl/site/lib/ExtUtils/MM_Unix.pm line 1560.
Use of uninitialized value $mandir in pattern match (m//) at C:/Strawberry/perl/site/lib/ExtUtils/MM_Unix.pm line 1560.
Use of uninitialized value $mandir in pattern match (m//) at C:/Strawberry/perl/site/lib/ExtUtils/MM_Unix.pm line 1560.
Use of uninitialized value $mandir in pattern match (m//) at C:/Strawberry/perl/site/lib/ExtUtils/MM_Unix.pm line 1560.
Use of uninitialized value $mandir in pattern match (m//) at C:/Strawberry/perl/site/lib/ExtUtils/MM_Unix.pm line 1560.
Use of uninitialized value $mandir in pattern match (m//) at C:/Strawberry/perl/site/lib/ExtUtils/MM_Unix.pm line 1560.
old INSTALLDIRS (probably set by makemaker_args) is overriden by installdirs
Use of uninitialized value $cmd in substitution (s///) at C:/Strawberry/perl/site/lib/ExtUtils/MM_Any.pm line 348.
Use of uninitialized value $mandir in pattern match (m//) at C:/Strawberry/perl/site/lib/ExtUtils/MM_Unix.pm line 1560.
Use of uninitialized value $mandir in pattern match (m//) at C:/Strawberry/perl/site/lib/ExtUtils/MM_Unix.pm line 1560.
Use of uninitialized value $mandir in pattern match (m//) at C:/Strawberry/perl/site/lib/ExtUtils/MM_Unix.pm line 1560.
Use of uninitialized value $mandir in pattern match (m//) at C:/Strawberry/perl/site/lib/ExtUtils/MM_Unix.pm line 1560.
Use of uninitialized value $mandir in pattern match (m//) at C:/Strawberry/perl/site/lib/ExtUtils/MM_Unix.pm line 1560.
Use of uninitialized value $mandir in pattern match (m//) at C:/Strawberry/perl/site/lib/ExtUtils/MM_Unix.pm line 1560.
Use of uninitialized value $mandir in pattern match (m//) at C:/Strawberry/perl/site/lib/ExtUtils/MM_Unix.pm line 1560.
Use of uninitialized value $mandir in pattern match (m//) at C:/Strawberry/perl/site/lib/ExtUtils/MM_Unix.pm line 1560.
Use of uninitialized value $mandir in pattern match (m//) at C:/Strawberry/perl/site/lib/ExtUtils/MM_Unix.pm line 1560.
Use of uninitialized value $cmd in substitution (s///) at C:/Strawberry/perl/site/lib/ExtUtils/MM_Any.pm line 348.
Use of uninitialized value $mandir in pattern match (m//) at C:/Strawberry/perl/site/lib/ExtUtils/MM_Unix.pm line 1560.
Use of uninitialized value $mandir in pattern match (m//) at C:/Strawberry/perl/site/lib/ExtUtils/MM_Unix.pm line 1560.
Use of uninitialized value $mandir in pattern match (m//) at C:/Strawberry/perl/site/lib/ExtUtils/MM_Unix.pm line 1560.
Use of uninitialized value $mandir in pattern match (m//) at C:/Strawberry/perl/site/lib/ExtUtils/MM_Unix.pm line 1560.
Use of uninitialized value $mandir in pattern match (m//) at C:/Strawberry/perl/site/lib/ExtUtils/MM_Unix.pm line 1560.
Use of uninitialized value $mandir in pattern match (m//) at C:/Strawberry/perl/site/lib/ExtUtils/MM_Unix.pm line 1560.
Use of uninitialized value $mandir in pattern match (m//) at C:/Strawberry/perl/site/lib/ExtUtils/MM_Unix.pm line 1560.
Use of uninitialized value $mandir in pattern match (m//) at C:/Strawberry/perl/site/lib/ExtUtils/MM_Unix.pm line 1560.
Use of uninitialized value $mandir in pattern match (m//) at C:/Strawberry/perl/site/lib/ExtUtils/MM_Unix.pm line 1560.
t/22_installdirs.t ...................... ok
t/23_pl_files.t ......................... ok
t/24_multiple_license_blocks.t .......... ok
t/25_perl_version_from.t ................ ok
t/26_unknown_func.t ..................... ok
Warning: prerequisite Test::More 9999 not found. We have 1.302212.
t/27_build_requires_and_include.t ....... ok
t/28_makemaker_args.t ................... ok
t/29_requires_from.t .................... ok
t/30_build_subdirs.t .................... ok
t/31_add_metadata.t ..................... ok
t/32_module_name.t ...................... ok
t/33_copy.t ............................. ok
t/34_readwrite.t ........................ ok
t/recursive/test.t ...................... ok
All tests successful.
Files=36, Tests=547, 57 wallclock secs ( 0.38 usr +  0.16 sys =  0.53 CPU)
Result: PASS

------------------------------
PREREQUISITES
------------------------------

Prerequisite modules loaded:

requires:

    Module              Need   Have      
    ------------------- ------ ----------
    Devel::PPPort       3.16   3.68      
    ExtUtils::Install   1.52   2.14      
    ExtUtils::MakeMaker 6.59   7.74      
    ExtUtils::ParseXS   2.19   3.57      
    File::Path          0      2.16      
    File::Remove        1.42   1.58      
    File::Spec          3.28   3.75      
    Module::Build       0.29   0.4229    
    Module::CoreList    2.17   5.20190420
    Module::ScanDeps    1.09   1.37      
    Parse::CPAN::Meta   1.4413 2.150010  
    perl                5.006  5.028002  
    Win32::UTCFileTime  1.56   1.59      
    YAML::Tiny          1.38   1.73      

build_requires:

    Module              Need   Have      
    ------------------- ------ ----------
    autodie             0      2.29      
    ExtUtils::MakeMaker 6.59   7.74      
    Test::Harness       3.13   3.52      
    Test::More          0.86   1.302212  
    YAML::Tiny          1.33   1.73      

configure_requires:

    Module              Need   Have      
    ------------------- ------ ----------
    ExtUtils::MakeMaker 6.59   7.74      
    YAML::Tiny          1.33   1.73      

opt_requires:

    Module              Need   Have      
    ------------------- ------ ----------
    Archive::Zip        1.37   1.64      
    File::HomeDir       1      1.004     
    JSON                2.9    4.02      
    LWP::Simple         6.00   6.78      
    LWP::UserAgent      6.05   6.78      
    PAR::Dist           0.29   0.49      


------------------------------
ENVIRONMENT AND OTHER CONTEXT
------------------------------

Environment variables:

    AUTOMATED_TESTING = 1
    COMSPEC = C:\Windows\system32\cmd.exe
    NUMBER_OF_PROCESSORS = 2
    PATH = C:\Windows\system32;C:\Windows;C:\Windows\System32\Wbem;C:\Windows\System32\WindowsPowerShell\v1.0\;C:\Windows\System32\OpenSSH\;C:\Program Files\Amazon\cfn-bootstrap\;C:\Strawberry\c\bin;C:\Strawberry\perl\site\bin;C:\Strawberry\perl\bin;C:\Users\Administrator\AppData\Local\Microsoft\WindowsApps;C:\Users\Administrator\AppData\Local\Microsoft\WinGet\Links;
    PERL5LIB = 
    PERL5OPT = 
    PERL5_CPANPLUS_IS_RUNNING = 3472
    PERL5_CPAN_IS_RUNNING = 3472
    PERL5_CPAN_IS_RUNNING_IN_RECURSION = 2916,3472
    PERL_CR_SMOKER_CURRENT = Plack-Middleware-Debug-Profiler-NYTProf-0.06
    PERL_EXTUTILS_AUTOINSTALL = --defaultdeps
    PERL_MM_USE_DEFAULT = 1
    PERL_USE_UNSAFE_INC = 1
    PROCESSOR_IDENTIFIER = Intel64 Family 6 Model 85 Stepping 7, GenuineIntel
    TEMP = C:\Users\ADMINI~1\AppData\Local\Temp\2

Perl special variables (and OS-specific diagnostics, for MSWin32):

    $^X = C:\Strawberry\perl\bin\perl.exe
    $UID/$EUID = 0 / 0
    $GID = 0
    $EGID = 0
    Win32::GetOSName = Win10
    Win32::GetOSVersion = , 10, 0, 26100, 2, 0, 0, 400, 3
    Win32::FsType = NTFS
    Win32::IsAdminUser = 1

Perl module toolchain versions installed:

    Module              Have    
    ------------------- --------
    CPAN                2.26    
    CPAN::Meta          2.150010
    Cwd                 3.75    
    ExtUtils::CBuilder  0.280236
    ExtUtils::Command   7.74    
    ExtUtils::Install   2.14    
    ExtUtils::MakeMaker 7.74    
    ExtUtils::Manifest  1.75    
    ExtUtils::ParseXS   3.57    
    File::Spec          3.75    
    JSON                4.02    
    JSON::PP            4.16    
    Module::Build       0.4229  
    Module::Signature   n/a     
    Parse::CPAN::Meta   2.150010
    Test2               1.302212
    Test::Harness       3.52    
    Test::More          1.302212
    YAML                1.28    
    YAML::Syck          1.34    
    version             0.9924  


--

Summary of my perl5 (revision 5 version 28 subversion 2) configuration:
   
  Platform:
    osname=MSWin32
    osvers=10.0.17763.437
    archname=MSWin32-x64-multi-thread
    uname='Win32 strawberry-perl 5.28.2.1 #1 Wed May  1 21:18:04 2019 x64'
    config_args='undef'
    hint=recommended
    useposix=true
    d_sigaction=undef
    useithreads=define
    usemultiplicity=define
    use64bitint=define
    use64bitall=undef
    uselongdouble=undef
    usemymalloc=n
    default_inc_excludes_dot=define
    bincompat5005=undef
  Compiler:
    cc='gcc'
    ccflags =' -s -O2 -DWIN32 -DWIN64 -DCONSERVATIVE -D__USE_MINGW_ANSI_STDIO -DPERL_TEXTMODE_SCRIPTS -DPERL_IMPLICIT_CONTEXT -DPERL_IMPLICIT_SYS -DUSE_PERLIO -fwrapv -fno-strict-aliasing -mms-bitfields'
    optimize='-s -O2'
    cppflags='-DWIN32'
    ccversion=''
    gccversion='7.1.0'
    gccosandvers=''
    intsize=4
    longsize=4
    ptrsize=8
    doublesize=8
    byteorder=12345678
    doublekind=3
    d_longlong=define
    longlongsize=8
    d_longdbl=define
    longdblsize=16
    longdblkind=3
    ivtype='long long'
    ivsize=8
    nvtype='double'
    nvsize=8
    Off_t='long long'
    lseeksize=8
    alignbytes=8
    prototype=define
  Linker and Libraries:
    ld='g++'
    ldflags ='-s -L"C:\STRAWB~1\perl\lib\CORE" -L"C:\STRAWB~1\c\lib"'
    libpth=C:\STRAWB~1\c\lib C:\STRAWB~1\c\x86_64-w64-mingw32\lib C:\STRAWB~1\c\lib\gcc\x86_64-w64-mingw32\7.1.0
    libs= -lmoldname -lkernel32 -luser32 -lgdi32 -lwinspool -lcomdlg32 -ladvapi32 -lshell32 -lole32 -loleaut32 -lnetapi32 -luuid -lws2_32 -lmpr -lwinmm -lversion -lodbc32 -lodbccp32 -lcomctl32
    perllibs= -lmoldname -lkernel32 -luser32 -lgdi32 -lwinspool -lcomdlg32 -ladvapi32 -lshell32 -lole32 -loleaut32 -lnetapi32 -luuid -lws2_32 -lmpr -lwinmm -lversion -lodbc32 -lodbccp32 -lcomctl32
    libc=
    so=dll
    useshrplib=true
    libperl=libperl528.a
    gnulibc_version=''
  Dynamic Linking:
    dlsrc=dl_win32.xs
    dlext=xs.dll
    d_dlsymun=undef
    ccdlflags=' '
    cccdlflags=' '
    lddlflags='-mdll -s -L"C:\STRAWB~1\perl\lib\CORE" -L"C:\STRAWB~1\c\lib"'


Characteristics of this binary (from libperl): 
  Compile-time options:
    HAS_TIMES
    HAVE_INTERP_INTERN
    MULTIPLICITY
    PERLIO_LAYERS
    PERL_COPY_ON_WRITE
    PERL_DONT_CREATE_GVSV
    PERL_IMPLICIT_CONTEXT
    PERL_IMPLICIT_SYS
    PERL_MALLOC_WRAP
    PERL_OP_PARENT
    PERL_PRESERVE_IVUV
    USE_64_BIT_INT
    USE_ITHREADS
    USE_LARGE_FILES
    USE_LOCALE
    USE_LOCALE_COLLATE
    USE_LOCALE_CTYPE
    USE_LOCALE_NUMERIC
    USE_LOCALE_TIME
    USE_PERLIO
    USE_PERL_ATOF
  Built under MSWin32
  Compiled at May  1 2019 21:42:15
  %ENV:
    PERL5_CPANPLUS_IS_RUNNING="3472"
    PERL5_CPAN_IS_RUNNING="3472"
    PERL5_CPAN_IS_RUNNING_IN_RECURSION="2916,3472"
    PERL_CR_SMOKER_CURRENT="Plack-Middleware-Debug-Profiler-NYTProf-0.06"
    PERL_EXTUTILS_AUTOINSTALL="--defaultdeps"
    PERL_MM_USE_DEFAULT="1"
    PERL_USE_UNSAFE_INC="1"
  @INC:
    C:/Strawberry/perl/site/lib
    C:/Strawberry/perl/vendor/lib
    C:/Strawberry/perl/lib
    .