CPANDB v0.19 Perl 5 v5.39.4 x86_64-linux-thread-multi

Status
Pass
From
Andreas J. K├Ânig (ANDK)
Dist
CPANDB v0.19
Platform
Perl 5 v5.39.4 x86_64-linux-thread-multi
Date
2023-11-08T13:25:43
ID
514034d2-7e3a-11ee-b27c-6b764ecad472
This distribution has been tested as part of the CPAN Testers
project, supporting the Perl programming language.  See
http://wiki.cpantesters.org/ for more information or email
questions to cpan-testers-discuss@perl.org


--
Dear Karen Etheridge,

This is a computer-generated report for CPANDB-0.19
on perl 5.39.4, created by CPAN-Reporter-1.2019.

Thank you for uploading your work to CPAN.  Congratulations!
All tests were successful.

Sections of this report:

    * Tester comments
    * Program output
    * Prerequisites
    * Environment and other context

------------------------------
TESTER COMMENTS
------------------------------

Additional comments from tester:

this report is from an automated smoke testing program
and was not reviewed by a human for accuracy

------------------------------
PROGRAM OUTPUT
------------------------------

Output from '/usr/bin/make test':

PERL_DL_NONLAZY=1 "/tmp/basesmoker-reloperl-_Q7i/bin/perl" "-MExtUtils::Command::MM" "-MTest::Harness" "-e" "undef *Test::Harness::Switches; test_harness(0, 'blib/lib', 'blib/arch')" t/*.t
# 
# Versions for all modules listed in MYMETA.json (including optional ones):
# 
# === Configure Requires ===
# 
#     Module                  Want     Have
#     ------------------- -------- --------
#     ExtUtils::MakeMaker      any     7.70
#     perl                5.008005 5.039004
# 
# === Build Requires ===
# 
#     Module              Want Have
#     ------------------- ---- ----
#     ExtUtils::MakeMaker  any 7.70
# 
# === Test Requires ===
# 
#     Module                  Want     Have
#     ------------------- -------- --------
#     ExtUtils::MakeMaker      any     7.70
#     File::Spec               any     3.90
#     LWP::Online             1.07     1.08
#     Test::More               any 1.302195
#     perl                5.008005 5.039004
# 
# === Test Recommends ===
# 
#     Module         Want     Have
#     ---------- -------- --------
#     CPAN::Meta 2.120900 2.150010
# 
# === Runtime Requires ===
# 
#     Module              Want     Have
#     --------------- -------- --------
#     DateTime            0.55     1.63
#     Getopt::Long        2.33     2.54
#     Graph                any   0.9727
#     Graph::Directed      any    undef
#     Graph::Easy          any     0.76
#     Graph::XGMML         any     0.01
#     GraphViz             any     2.26
#     IO::File             any     1.53
#     ORLite              1.51     2.00
#     ORLite::Mirror      1.20     1.24
#     Params::Util        1.00    1.102
#     Time::HiRes         1.97   1.9776
#     perl            5.008005 5.039004
#     strict               any     1.13
#     warnings             any     1.67
# 
# === Other Modules ===
# 
#     Module            Have
#     --------------- ------
#     Encode            3.19
#     File::Temp      0.2311
#     JSON::PP          4.16
#     Module::Runtime  0.016
#     Sub::Name         0.27
#     YAML              1.30
#     autodie           2.36
# 
t/00-report-prereqs.t .. ok
t/01_compile.t ......... ok
t/02_release.t ......... skipped: Author tests not required for installation
All tests successful.
Files=3, Tests=2,  0 wallclock secs ( 0.03 usr  0.01 sys +  0.62 cusr  0.08 csys =  0.74 CPU)
Result: PASS

------------------------------
PREREQUISITES
------------------------------

Prerequisite modules loaded:

requires:

    Module              Need     Have    
    ------------------- -------- --------
    DateTime            0.55     1.63    
    Getopt::Long        2.33     2.54    
    Graph               0        0.9727  
    Graph::Directed     0        0       
    Graph::Easy         0        0.76    
    Graph::XGMML        0        0.01    
    GraphViz            0        2.26    
    IO::File            0        1.53    
    ORLite              1.51     2.00    
    ORLite::Mirror      1.20     1.24    
    Params::Util        1.00     1.102   
    perl                5.008005 5.039004
    strict              0        1.13    
    Time::HiRes         1.97     1.9776  
    warnings            0        1.67    

build_requires:

    Module              Need     Have    
    ------------------- -------- --------
    ExtUtils::MakeMaker 0        7.70    
    File::Spec          0        3.90    
    LWP::Online         1.07     1.08    
    Test::More          0        1.302195

configure_requires:

    Module              Need     Have    
    ------------------- -------- --------
    ExtUtils::MakeMaker 0        7.70    
    perl                5.008005 5.039004


------------------------------
ENVIRONMENT AND OTHER CONTEXT
------------------------------

Environment variables:

    AUTOMATED_TESTING = 1
    LANG = en_US.UTF-8
    PATH = /home/sand/bin:/usr/local/bin:/usr/local/sbin:/usr/sbin:/usr/bin:/sbin:/bin:/usr/games:/usr/local/games:/snap/bin:/usr/local/perl/bin:/usr/X11/bin
    PERL = /tmp/basesmoker-reloperl-_Q7i/bin/perl
    PERL5LIB = /tmp/loop_over_bdir-2085-hbkM2m/triceps-2.1.0-0/blib/arch:/tmp/loop_over_bdir-2085-hbkM2m/triceps-2.1.0-0/blib/lib:/tmp/loop_over_bdir-2085-hbkM2m/dta-tokwrap-0.98-0/blib/arch:/tmp/loop_over_bdir-2085-hbkM2m/dta-tokwrap-0.98-0/blib/lib:/tmp/loop_over_bdir-2085-hbkM2m/Sysync-0.35-0/blib/arch:/tmp/loop_over_bdir-2085-hbkM2m/Sysync-0.35-0/blib/lib:/tmp/loop_over_bdir-2085-hbkM2m/App-nrun-v1.1.2-0/blib/arch:/tmp/loop_over_bdir-2085-hbkM2m/App-nrun-v1.1.2-0/blib/lib:/tmp/loop_over_bdir-2085-hbkM2m/RDF-NLP-SPARQLQuery-0.1-0/blib/arch:/tmp/loop_over_bdir-2085-hbkM2m/RDF-NLP-SPARQLQuery-0.1-0/blib/lib:/tmp/loop_over_bdir-2085-hbkM2m/downsexta-0/blib/arch:/tmp/loop_over_bdir-2085-hbkM2m/downsexta-0/blib/lib:/tmp/loop_over_bdir-2085-hbkM2m/makepp-1.19-0/blib/arch:/tmp/loop_over_bdir-2085-hbkM2m/makepp-1.19-0/blib/lib:/tmp/loop_over_bdir-2085-hbkM2m/Devel-Required-0.16-0/blib/arch:/tmp/loop_over_bdir-2085-hbkM2m/Devel-Required-0.16-0/blib/lib:/tmp/loop_over_bdir-2085-hbkM2m/CORBA-Python-2.66-0/blib/arch:/tmp/loop_over_bdir-2085-hbkM2m/CORBA-Python-2.66-0/blib/lib:/tmp/loop_over_bdir-2085-hbkM2m/NoZone-1.3-0/blib/arch:/tmp/loop_over_bdir-2085-hbkM2m/NoZone-1.3-0/blib/lib
    PERL5OPT = 
    PERL5_CPANPLUS_IS_RUNNING = 2093
    PERL5_CPAN_IS_RUNNING = 2093
    PERL_CANARY_STABILITY_NOPROMPT = 1
    PERL_MM_USE_DEFAULT = 1
    PERL_USE_UNSAFE_INC = 1
    SHELL = /usr/bin/zsh
    TERM = screen

Perl special variables (and OS-specific diagnostics, for MSWin32):

    $^X = /tmp/basesmoker-reloperl-_Q7i/bin/perl
    $UID/$EUID = 1005 / 1005
    $GID = 1005 1005
    $EGID = 1005 1005

Perl module toolchain versions installed:

    Module              Have    
    ------------------- --------
    CPAN                2.36    
    CPAN::Meta          2.150010
    Cwd                 3.90    
    ExtUtils::CBuilder  0.280240
    ExtUtils::Command   7.70    
    ExtUtils::Install   2.22    
    ExtUtils::MakeMaker 7.70    
    ExtUtils::Manifest  1.75    
    ExtUtils::ParseXS   3.51    
    File::Spec          3.90    
    JSON                4.10    
    JSON::PP            4.16    
    Module::Build       0.4234  
    Module::Signature   0.88    
    Parse::CPAN::Meta   2.150010
    Test2               1.302195
    Test::Harness       3.48    
    Test::More          1.302195
    YAML                1.30    
    YAML::Syck          1.34    
    version             0.9930  


--

Summary of my perl5 (revision 5 version 39 subversion 4) configuration:
  Commit id: 56211f03a701e3979a0d01069f8515db1c1fc2f0
  Platform:
    osname=linux
    osvers=5.4.0-164-generic
    archname=x86_64-linux-thread-multi
    uname='linux k93focal 5.4.0-164-generic #181-ubuntu smp fri sep 1 13:41:22 utc 2023 x86_64 x86_64 x86_64 gnulinux '
    config_args='-Dprefix=/home/sand/src/perl/repoperls/installed-perls/host/k93focal/v5.39.4/d119 -Dmyhostname=k93focal -Dinstallusrbinperl=n -Uversiononly -Dusedevel -des -Ui_db -Dlibswanted=cl pthread socket inet nsl gdbm dbm malloc dl ld sun m crypt sec util c cposix posix ucb BSD gdbm_compat -Duseithreads -Uuselongdouble -DEBUGGING=both'
    hint=recommended
    useposix=true
    d_sigaction=define
    useithreads=define
    usemultiplicity=define
    use64bitint=define
    use64bitall=define
    uselongdouble=undef
    usemymalloc=n
    default_inc_excludes_dot=define
  Compiler:
    cc='cc'
    ccflags ='-D_REENTRANT -D_GNU_SOURCE -fwrapv -DDEBUGGING -fno-strict-aliasing -pipe -fstack-protector-strong -I/usr/local/include -D_LARGEFILE_SOURCE -D_FILE_OFFSET_BITS=64'
    optimize='-O2 -g'
    cppflags='-D_REENTRANT -D_GNU_SOURCE -fwrapv -DDEBUGGING -fno-strict-aliasing -pipe -fstack-protector-strong -I/usr/local/include'
    ccversion=''
    gccversion='9.4.0'
    gccosandvers=''
    intsize=4
    longsize=8
    ptrsize=8
    doublesize=8
    byteorder=12345678
    doublekind=3
    d_longlong=define
    longlongsize=8
    d_longdbl=define
    longdblsize=16
    longdblkind=3
    ivtype='long'
    ivsize=8
    nvtype='double'
    nvsize=8
    Off_t='off_t'
    lseeksize=8
    alignbytes=8
    prototype=define
  Linker and Libraries:
    ld='cc'
    ldflags =' -fstack-protector-strong -L/usr/local/lib'
    libpth=/usr/local/lib /usr/lib/x86_64-linux-gnu /usr/lib /usr/lib64
    libs=-lpthread -lnsl -ldl -lm -lcrypt -lutil -lc
    perllibs=-lpthread -lnsl -ldl -lm -lcrypt -lutil -lc
    libc=libc-2.31.so
    so=so
    useshrplib=false
    libperl=libperl.a
    gnulibc_version='2.31'
  Dynamic Linking:
    dlsrc=dl_dlopen.xs
    dlext=so
    d_dlsymun=undef
    ccdlflags='-Wl,-E'
    cccdlflags='-fPIC'
    lddlflags='-shared -O2 -g -L/usr/local/lib -fstack-protector-strong'


Characteristics of this binary (from libperl): 
  Compile-time options:
    DEBUGGING
    HAS_LONG_DOUBLE
    HAS_STRTOLD
    HAS_TIMES
    MULTIPLICITY
    PERLIO_LAYERS
    PERL_COPY_ON_WRITE
    PERL_DONT_CREATE_GVSV
    PERL_HASH_FUNC_SIPHASH13
    PERL_HASH_USE_SBOX32
    PERL_MALLOC_WRAP
    PERL_OP_PARENT
    PERL_PRESERVE_IVUV
    PERL_TRACK_MEMPOOL
    PERL_USE_DEVEL
    PERL_USE_SAFE_PUTENV
    USE_64_BIT_ALL
    USE_64_BIT_INT
    USE_ITHREADS
    USE_LARGE_FILES
    USE_LOCALE
    USE_LOCALE_COLLATE
    USE_LOCALE_CTYPE
    USE_LOCALE_NUMERIC
    USE_LOCALE_TIME
    USE_PERLIO
    USE_PERL_ATOF
    USE_REENTRANT_API
    USE_THREAD_SAFE_LOCALE
  Built under linux
  Compiled at Oct 25 2023 22:03:18
  %ENV:
    PERL="/tmp/basesmoker-reloperl-_Q7i/bin/perl"
    PERL5LIB="/tmp/loop_over_bdir-2085-hbkM2m/triceps-2.1.0-0/blib/arch:/tmp/loop_over_bdir-2085-hbkM2m/triceps-2.1.0-0/blib/lib:/tmp/loop_over_bdir-2085-hbkM2m/dta-tokwrap-0.98-0/blib/arch:/tmp/loop_over_bdir-2085-hbkM2m/dta-tokwrap-0.98-0/blib/lib:/tmp/loop_over_bdir-2085-hbkM2m/Sysync-0.35-0/blib/arch:/tmp/loop_over_bdir-2085-hbkM2m/Sysync-0.35-0/blib/lib:/tmp/loop_over_bdir-2085-hbkM2m/App-nrun-v1.1.2-0/blib/arch:/tmp/loop_over_bdir-2085-hbkM2m/App-nrun-v1.1.2-0/blib/lib:/tmp/loop_over_bdir-2085-hbkM2m/RDF-NLP-SPARQLQuery-0.1-0/blib/arch:/tmp/loop_over_bdir-2085-hbkM2m/RDF-NLP-SPARQLQuery-0.1-0/blib/lib:/tmp/loop_over_bdir-2085-hbkM2m/downsexta-0/blib/arch:/tmp/loop_over_bdir-2085-hbkM2m/downsexta-0/blib/lib:/tmp/loop_over_bdir-2085-hbkM2m/makepp-1.19-0/blib/arch:/tmp/loop_over_bdir-2085-hbkM2m/makepp-1.19-0/blib/lib:/tmp/loop_over_bdir-2085-hbkM2m/Devel-Required-0.16-0/blib/arch:/tmp/loop_over_bdir-2085-hbkM2m/Devel-Required-0.16-0/blib/lib:/tmp/loop_over_bdir-2085-hbkM2m/CORBA-Python-2.66-0/blib/arch:/tmp/loop_over_bdir-2085-hbkM2m/CORBA-Python-2.66-0/blib/lib:/tmp/loop_over_bdir-2085-hbkM2m/NoZone-1.3-0/blib/arch:/tmp/loop_over_bdir-2085-hbkM2m/NoZone-1.3-0/blib/lib"
    PERL5OPT=""
    PERL5_CPANPLUS_IS_RUNNING="2093"
    PERL5_CPAN_IS_RUNNING="2093"
    PERL_CANARY_STABILITY_NOPROMPT="1"
    PERL_MM_USE_DEFAULT="1"
    PERL_USE_UNSAFE_INC="1"
  @INC:
    /tmp/loop_over_bdir-2085-hbkM2m/triceps-2.1.0-0/blib/arch
    /tmp/loop_over_bdir-2085-hbkM2m/triceps-2.1.0-0/blib/lib
    /tmp/loop_over_bdir-2085-hbkM2m/dta-tokwrap-0.98-0/blib/arch
    /tmp/loop_over_bdir-2085-hbkM2m/dta-tokwrap-0.98-0/blib/lib
    /tmp/loop_over_bdir-2085-hbkM2m/Sysync-0.35-0/blib/arch
    /tmp/loop_over_bdir-2085-hbkM2m/Sysync-0.35-0/blib/lib
    /tmp/loop_over_bdir-2085-hbkM2m/App-nrun-v1.1.2-0/blib/arch
    /tmp/loop_over_bdir-2085-hbkM2m/App-nrun-v1.1.2-0/blib/lib
    /tmp/loop_over_bdir-2085-hbkM2m/RDF-NLP-SPARQLQuery-0.1-0/blib/arch
    /tmp/loop_over_bdir-2085-hbkM2m/RDF-NLP-SPARQLQuery-0.1-0/blib/lib
    /tmp/loop_over_bdir-2085-hbkM2m/downsexta-0/blib/arch
    /tmp/loop_over_bdir-2085-hbkM2m/downsexta-0/blib/lib
    /tmp/loop_over_bdir-2085-hbkM2m/makepp-1.19-0/blib/arch
    /tmp/loop_over_bdir-2085-hbkM2m/makepp-1.19-0/blib/lib
    /tmp/loop_over_bdir-2085-hbkM2m/Devel-Required-0.16-0/blib/arch
    /tmp/loop_over_bdir-2085-hbkM2m/Devel-Required-0.16-0/blib/lib
    /tmp/loop_over_bdir-2085-hbkM2m/CORBA-Python-2.66-0/blib/arch
    /tmp/loop_over_bdir-2085-hbkM2m/CORBA-Python-2.66-0/blib/lib
    /tmp/loop_over_bdir-2085-hbkM2m/NoZone-1.3-0/blib/arch
    /tmp/loop_over_bdir-2085-hbkM2m/NoZone-1.3-0/blib/lib
    /home/sand/src/perl/repoperls/installed-perls/host/k93focal/v5.39.4/d119/lib/site_perl/5.39.4/x86_64-linux-thread-multi
    /home/sand/src/perl/repoperls/installed-perls/host/k93focal/v5.39.4/d119/lib/site_perl/5.39.4
    /home/sand/src/perl/repoperls/installed-perls/host/k93focal/v5.39.4/d119/lib/5.39.4/x86_64-linux-thread-multi
    /home/sand/src/perl/repoperls/installed-perls/host/k93focal/v5.39.4/d119/lib/5.39.4
    .