Back
From: metabase:user:30ae4450-2aae-11df-837a-5e0a49663a4f
Subject: PASS RDF-Query-2.917 v5.25.7
Date: 2016-11-24T15:57:10Z
This distribution has been tested as part of the CPAN Testers
project, supporting the Perl programming language. See
http://wiki.cpantesters.org/ for more information or email
questions to cpan-testers-discuss@perl.org
--
Dear Gregory Todd Williams,
This is a computer-generated report for RDF-Query-2.917
on perl 5.25.7, created by CPAN-Reporter-1.2018.
Thank you for uploading your work to CPAN. Congratulations!
All tests were successful.
Sections of this report:
* Tester comments
* Program output
* Prerequisites
* Environment and other context
------------------------------
TESTER COMMENTS
------------------------------
Additional comments from tester:
this report is from an automated smoke testing program
and was not reviewed by a human for accuracy
------------------------------
PROGRAM OUTPUT
------------------------------
Output from 'C:\STRAWB~1\c\bin\dmake.exe test':
"C:\Strawberry257\perl\bin\perl.exe" "-MExtUtils::Command::MM" "-MTest::Harness" "-e" "undef *Test::Harness::Switches; test_harness(0, 'inc', 'blib\lib', 'blib\arch')" t/*.t
t/00-simple.t .................... ok
t/01-coverage.t .................. ok
t/algebra-bgp.t .................. ok
t/algebra-expr.t ................. ok
t/algebra-func.t ................. ok
t/algebra-subsumption.t .......... ok
t/algebra.t ...................... ok
t/constraints.t .................. ok
t/dataset-from-file.t ............ ok
t/dataset-from-net.t ............. skipped: No network. Set RDFQUERY_NETWORK_TESTS to run these tests.
t/dev-computed-statements.t ...... ok
t/ext-select-expr.t .............. ok
t/filters.t ...................... ok
t/functions.t .................... ok
t/hooks.t ........................ skipped: No network. Set RDFQUERY_NETWORK_TESTS to run these tests.
t/iterators.t .................... ok
t/literals.t ..................... ok
t/named-graphs.t ................. ok
t/optional.t ..................... ok
t/plan.t ......................... skipped: Developer tests. Set RDFQUERY_DEV_TESTS to run these tests.
t/protocol-serialization.t ....... ok
t/queryform-ask.t ................ ok
t/queryform-construct.t .......... ok
t/queryform-describe.t ........... ok
t/rdql.t ......................... ok
t/resultforms.t .................. ok
t/serialize.t .................... ok
t/sparql11-aggregates.t .......... ok
t/sparql11-federation.t .......... ok
t/sparql11-negation.t ............ ok
t/sparql11-propery_paths.t ....... ok
t/sparql11-select_expressions.t .. ok
t/sparql11-subselect.t ........... ok
t/sparql11-update.t .............. ok
t/syntactic_forms.t .............. ok
t/union.t ........................ ok
All tests successful.
Files=36, Tests=1141, 153 wallclock secs ( 0.21 usr + 0.31 sys = 0.52 CPU)
Result: PASS
------------------------------
PREREQUISITES
------------------------------
Prerequisite modules loaded:
requires:
Module Need Have
------------------------ ----- --------
Data::UUID 0 1.221
DateTime::Format::W3CDTF 0 0.06
Digest::SHA 0 5.96
Error 0 0.17024
File::Spec 0 3.66
File::Temp 0 0.2304
I18N::LangTags 0 0.41
JSON 2 2.90
Module::Pluggable 0 5.2
Parse::RecDescent 0 1.967013
RDF::Trine 1.004 1.014
Scalar::Util 0 1.46_02
Set::Scalar 0 1.29
URI 1.52 1.71
build_requires:
Module Need Have
------------------------ ----- --------
ExtUtils::MakeMaker 6.36 7.24
FindBin 0 1.51
Test::Exception 0 0.43
Test::JSON 0 0.11
Test::More 0.88 1.302062
YAML 0 1.19
configure_requires:
Module Need Have
------------------------ ----- --------
ExtUtils::MakeMaker 6.36 7.24
------------------------------
ENVIRONMENT AND OTHER CONTEXT
------------------------------
Environment variables:
AUTOMATED_TESTING = 1
COMSPEC = C:\WINDOWS\system32\cmd.exe
NONINTERACTIVE_TESTING = 1
NUMBER_OF_PROCESSORS = 1
PATH = C:\Program Files\Far Manager\;C:\WINDOWS\system32;C:\WINDOWS;C:\WINDOWS\System32\Wbem;C:\Git\cmd;C:\Strawberry257\c\bin;C:\Strawberry257\perl\site\bin;C:\Strawberry257\perl\bin
PERL5LIB =
PERL5OPT =
PERL5_CPANPLUS_IS_RUNNING = 2040
PERL5_CPAN_IS_RUNNING = 2040
PERL5_CPAN_IS_RUNNING_IN_RECURSION = 1572,2040
PERL_CR_SMOKER_CURRENT = WWW::DataWiki
PERL_EXTUTILS_AUTOINSTALL = --defaultdeps
PERL_MM_USE_DEFAULT = 1
PROCESSOR_IDENTIFIER = x86 Family 16 Model 5 Stepping 3, AuthenticAMD
TEMP = C:\DOCUME~1\c\LOCALS~1\Temp
Perl special variables (and OS-specific diagnostics, for MSWin32):
$^X = C:\Strawberry257\perl\bin\perl.exe
$UID/$EUID = 0 / 0
$GID = 0
$EGID = 0
Win32::GetOSName = WinXP/.Net
Win32::GetOSVersion = Service Pack 3, 5, 1, 2600, 2, 3, 0, 256, 1
Win32::FsType = NTFS
Win32::IsAdminUser = 1
Perl module toolchain versions installed:
Module Have
------------------- ----------
CPAN 2.14_01
CPAN::Meta 2.150010
Cwd 3.66
ExtUtils::CBuilder 0.280225
ExtUtils::Command 7.24
ExtUtils::Install 2.04
ExtUtils::MakeMaker 7.24
ExtUtils::Manifest 1.70
ExtUtils::ParseXS 3.33
File::Spec 3.66
JSON 2.90
JSON::PP 2.27400_02
Module::Build 0.4220
Module::Signature n/a
Parse::CPAN::Meta 2.150010
Test::Harness 3.36_01
Test::More 1.302062
YAML 1.19
YAML::Syck 1.29
version 0.9917
--
Summary of my perl5 (revision 5 version 25 subversion 7) configuration:
Platform:
osname=MSWin32
osvers=4.0
archname=MSWin32-x86-multi-thread-64int
uname='Win32 strawberry-perl 5.25.7.1-beta1 #1 Tue Nov 22 22:50:57 2016 i386'
config_args='undef'
hint=recommended
useposix=true
d_sigaction=undef
useithreads=define
usemultiplicity=define
use64bitint=define
use64bitall=undef
uselongdouble=undef
usemymalloc=n
bincompat5005=undef
Compiler:
cc='gcc'
ccflags =' -s -O2 -DWIN32 -DPERL_TEXTMODE_SCRIPTS -DPERL_IMPLICIT_CONTEXT -DPERL_IMPLICIT_SYS -fwrapv -fno-strict-aliasing -mms-bitfields'
optimize='-s -O2'
cppflags='-DWIN32'
ccversion=''
gccversion='4.9.2'
gccosandvers=''
intsize=4
longsize=4
ptrsize=4
doublesize=8
byteorder=12345678
doublekind=3
d_longlong=define
longlongsize=8
d_longdbl=define
longdblsize=12
longdblkind=3
ivtype='long long'
ivsize=8
nvtype='double'
nvsize=8
Off_t='long long'
lseeksize=8
alignbytes=8
prototype=define
Linker and Libraries:
ld='g++'
ldflags ='-s -L"C:\STRAWB~1\perl\lib\CORE" -L"C:\STRAWB~1\c\lib"'
libpth=C:\STRAWB~1\c\lib C:\STRAWB~1\c\i686-w64-mingw32\lib C:\STRAWB~1\c\lib\gcc\i686-w64-mingw32\4.9.2
libs=-lmoldname -lkernel32 -luser32 -lgdi32 -lwinspool -lcomdlg32 -ladvapi32 -lshell32 -lole32 -loleaut32 -lnetapi32 -luuid -lws2_32 -lmpr -lwinmm -lversion -lodbc32 -lodbccp32 -lcomctl32
perllibs=-lmoldname -lkernel32 -luser32 -lgdi32 -lwinspool -lcomdlg32 -ladvapi32 -lshell32 -lole32 -loleaut32 -lnetapi32 -luuid -lws2_32 -lmpr -lwinmm -lversion -lodbc32 -lodbccp32 -lcomctl32
libc=
so=dll
useshrplib=true
libperl=libperl525.a
gnulibc_version=''
Dynamic Linking:
dlsrc=dl_win32.xs
dlext=xs.dll
d_dlsymun=undef
ccdlflags=' '
cccdlflags=' '
lddlflags='-mdll -s -L"C:\STRAWB~1\perl\lib\CORE" -L"C:\STRAWB~1\c\lib"'
Characteristics of this binary (from libperl):
Compile-time options:
HAS_TIMES
HAVE_INTERP_INTERN
MULTIPLICITY
PERLIO_LAYERS
PERL_COPY_ON_WRITE
PERL_DONT_CREATE_GVSV
PERL_HASH_FUNC_ONE_AT_A_TIME_HARD
PERL_IMPLICIT_CONTEXT
PERL_IMPLICIT_SYS
PERL_MALLOC_WRAP
PERL_OP_PARENT
PERL_PRESERVE_IVUV
USE_64_BIT_INT
USE_ITHREADS
USE_LARGE_FILES
USE_LOCALE
USE_LOCALE_COLLATE
USE_LOCALE_CTYPE
USE_LOCALE_NUMERIC
USE_LOCALE_TIME
USE_PERLIO
USE_PERL_ATOF
Built under MSWin32
Compiled at Nov 22 2016 22:59:11
%ENV:
PERL5_CPANPLUS_IS_RUNNING="2040"
PERL5_CPAN_IS_RUNNING="2040"
PERL5_CPAN_IS_RUNNING_IN_RECURSION="1572,2040"
PERL_CR_SMOKER_CURRENT="WWW::DataWiki"
PERL_EXTUTILS_AUTOINSTALL="--defaultdeps"
PERL_MM_USE_DEFAULT="1"
@INC:
C:/Strawberry257/perl/site/lib
C:/Strawberry257/perl/vendor/lib
C:/Strawberry257/perl/lib
.