Test-Moose-More v0.050 Perl 5 v5.24.3 x86_64-linux
- Status
- Pass
- From
- Serguei Trouchelle (STRO)
- Dist
-
Test-Moose-More v0.050
- Platform
- Perl 5 v5.24.3 x86_64-linux
- Date
- 2017-09-29 15:46:11
- ID
- 5128078c-a52d-11e7-9cb2-54e06bd455be
This distribution has been tested as part of the CPAN Testers
project, supporting the Perl programming language. See
http://wiki.cpantesters.org/ for more information or email
questions to cpan-testers-discuss@perl.org
--
Dear Chris Weyl,
This is a computer-generated report for Test-Moose-More-0.050
on perl 5.24.3, created by CPAN-Reporter-1.2018.
Thank you for uploading your work to CPAN. Congratulations!
All tests were successful.
Sections of this report:
* Tester comments
* Program output
* Prerequisites
* Environment and other context
------------------------------
TESTER COMMENTS
------------------------------
Additional comments from tester:
this report is from an automated smoke testing program
and was not reviewed by a human for accuracy
------------------------------
PROGRAM OUTPUT
------------------------------
Output from '/usr/bin/make test':
PERL_DL_NONLAZY=1 "/home/stro/perl/5.24.3/bin/perl" "-MExtUtils::Command::MM" "-MTest::Harness" "-e" "undef *Test::Harness::Switches; test_harness(0, 'blib/lib', 'blib/arch')" t/*.t t/attribute_options_ok/*.t t/is_class_ok/*.t t/validate_attribute/*.t t/validate_class/*.t t/validate_role/*.t t/validate_thing/*.t t/wrapped/*.t
t/00-check-deps.t ...................................... ok
t/00-compile.t ......................................... ok
#
# Versions for all modules listed in MYMETA.json (including optional ones):
#
# === Configure Requires ===
#
# Module Want Have
# ------------------- ---- -------
# ExtUtils::MakeMaker any 7.10_02
#
# === Build Requires ===
#
# Module Want Have
# ------------------- ---- -------
# ExtUtils::MakeMaker any 7.10_02
#
# === Test Requires ===
#
# Module Want Have
# ---------------------- ----- --------
# ExtUtils::MakeMaker any 7.10_02
# File::Spec any 3.63_01
# IO::Handle any 1.36
# IPC::Open3 any 1.20
# List::Util 1.45 1.49
# Moose any 2.2006
# Moose::Meta::Attribute any 2.2006
# Moose::Role any 2.2006
# Moose::Util::MetaRole any 2.2006
# TAP::SimpleOutput 0.009 0.009
# Test::Builder::Tester any 1.302096
# Test::CheckDeps 0.010 0.010
# Test::More 0.94 1.302096
# namespace::autoclean any 0.28
#
# === Test Recommends ===
#
# Module Want Have
# ---------- -------- --------
# CPAN::Meta 2.120900 2.150005
#
# === Runtime Requires ===
#
# Module Want Have
# ---------------------------- ---- --------
# Carp any 1.40
# Data::OptList any 0.110
# List::MoreUtils any 0.425
# List::Util 1.45 1.49
# Moose::Util any 2.2006
# Moose::Util::TypeConstraints any 2.2006
# Scalar::Util any 1.49
# Sub::Exporter::Progressive any 0.001013
# Syntax::Keyword::Junction any 0.003008
# Test::Builder any 1.302096
# Test::Moose any 2.2006
# Test::More 0.94 1.302096
# strict any 1.11
# warnings any 1.36
#
t/00-report-prereqs.t .................................. ok
t/attribute_options_ok/basic.t ......................... ok
t/attribute_options_ok/subtest-wrapper.t ............... ok
t/check_sugar.t ........................................ ok
t/definition_context.t ................................. ok
t/does_metaroles_ok.t .................................. ok
t/does_not_metaroles_ok.t .............................. ok
t/does_not_ok.t ........................................ ok
t/does_ok.t ............................................ ok
t/has_attribute_ok.t ................................... ok
t/is_anon_ok.t ......................................... ok
t/is_class_ok/basic.t .................................. ok
t/is_class_ok/moose-meta-attribute-should-be-moosey.t .. ok
t/is_immutable_ok.t .................................... ok
t/is_not_anon_ok.t ..................................... ok
t/is_role_ok.t ......................................... ok
t/meta_ok.t ............................................ ok
t/method_from_pkg_ok.t ................................. ok
t/method_is_accessor_ok.t .............................. ok
t/method_is_not_accessor_ok.t .......................... ok
t/method_not_from_pkg_ok.t ............................. ok
t/method_ok.t .......................................... ok
t/no_meta_ok.t ......................................... ok
t/pristine_ok.t ........................................ ok
t/requires_method_ok.t ................................. ok
t/subtest-1.t .......................................... ok
t/validate_attribute/basic.t ........................... ok
t/validate_attribute/coerce.t .......................... ok
t/validate_attribute/in_roles.t ........................ ok
t/validate_attribute/lazy.t ............................ ok
t/validate_attribute/required.t ........................ ok
t/validate_class/basic.t ............................... ok
t/validate_class/metaclasses.t ......................... ok
t/validate_class/metaroles.t ........................... ok
t/validate_class/methods.t ............................. ok
t/validate_role/basic.t ................................ ok
t/validate_role/compose.t .............................. ok
t/validate_role/metaclasses.t .......................... ok
t/validate_role/metaroles.t ............................ ok
t/validate_thing/metaclasses.t ......................... ok
t/validate_thing/methods.t ............................. ok
t/validate_thing/sugar.t ............................... ok
t/wrapped/in_roles.t ................................... ok
All tests successful.
Test Summary Report
-------------------
t/00-check-deps.t (Wstat: 0 Tests: 32 Failed: 0)
TODO passed: 32
Files=45, Tests=235, 9 wallclock secs ( 0.11 usr 0.03 sys + 7.64 cusr 0.30 csys = 8.08 CPU)
Result: PASS
------------------------------
PREREQUISITES
------------------------------
Prerequisite modules loaded:
requires:
Module Need Have
---------------------------- -------- --------
Carp 0 1.40
Data::OptList 0 0.110
List::MoreUtils 0 0.425
List::Util 1.45 1.49
Moose::Util 0 2.2006
Moose::Util::TypeConstraints 0 2.2006
perl 5.006 5.024003
Scalar::Util 0 1.49
strict 0 1.11
Sub::Exporter::Progressive 0 0.001013
Syntax::Keyword::Junction 0 0.003008
Test::Builder 0 1.302096
Test::Moose 0 2.2006
Test::More 0.94 1.302096
warnings 0 1.36
build_requires:
Module Need Have
---------------------------- -------- --------
ExtUtils::MakeMaker 0 7.10_02
File::Spec 0 3.63_01
IO::Handle 0 1.36
IPC::Open3 0 1.20
List::Util 1.45 1.49
! Moose 0 broken
! Moose::Meta::Attribute 0 broken
! Moose::Role 0 broken
Moose::Util::MetaRole 0 2.2006
namespace::autoclean 0 0.28
TAP::SimpleOutput 0.009 0.009
Test::Builder::Tester 0 1.302096
Test::CheckDeps 0.010 0.010
Test::More 0.94 1.302096
configure_requires:
Module Need Have
---------------------------- -------- --------
ExtUtils::MakeMaker 0 7.10_02
perl 5.006 5.024003
opt_build_requires:
Module Need Have
---------------------------- -------- --------
CPAN::Meta 2.120900 2.150005
------------------------------
ENVIRONMENT AND OTHER CONTEXT
------------------------------
Environment variables:
AUTOMATED_TESTING = 1
LANG = en_US.UTF-8
PATH = /usr/local/bin:/usr/bin:/bin:/usr/local/games:/usr/games
PERL5LIB =
PERL5OPT =
PERL5_CPANPLUS_IS_RUNNING = 13367
PERL5_CPAN_IS_RUNNING = 13367
PERL5_CPAN_IS_RUNNING_IN_RECURSION = 16364,13367
PERL_CR_SMOKER_CURRENT = MooseX-AttributeShortcuts-0.035
PERL_EXTUTILS_AUTOINSTALL = --defaultdeps
PERL_MM_USE_DEFAULT = 1
SHELL = /bin/bash
TERM = xterm-256color
Perl special variables (and OS-specific diagnostics, for MSWin32):
$^X = /home/stro/perl/5.24.3/bin/perl
$UID/$EUID = 1000 / 1000
$GID = 1000 24 25 29 30 44 46 108 114 1000
$EGID = 1000 24 25 29 30 44 46 108 114 1000
Perl module toolchain versions installed:
Module Have
------------------- ----------
CPAN 2.16
CPAN::Meta 2.150005
Cwd 3.63_01
ExtUtils::CBuilder 0.280226
ExtUtils::Command 7.10_02
ExtUtils::Install 2.04
ExtUtils::MakeMaker 7.10_02
ExtUtils::Manifest 1.70
ExtUtils::ParseXS 3.31
File::Spec 3.63_01
JSON 2.94
JSON::PP 2.27300_01
Module::Build 0.4224
Module::Signature n/a
Parse::CPAN::Meta 1.4417_001
Test::Harness 3.36_01
Test::More 1.302096
YAML 1.23
YAML::Syck 1.30
version 0.9916
--
Summary of my perl5 (revision 5 version 24 subversion 3) configuration:
Platform:
osname=linux, osvers=3.16.0-4-amd64, archname=x86_64-linux
uname='linux vm-debian-001 3.16.0-4-amd64 #1 smp debian 3.16.7-ckt11-1 (2015-05-24) x86_64 gnulinux '
config_args=''
hint=recommended, useposix=true, d_sigaction=define
useithreads=undef, usemultiplicity=undef
use64bitint=define, use64bitall=define, uselongdouble=undef
usemymalloc=n, bincompat5005=undef
Compiler:
cc='cc', ccflags ='-fwrapv -fno-strict-aliasing -pipe -fstack-protector-strong -I/usr/local/include -D_LARGEFILE_SOURCE -D_FILE_OFFSET_BITS=64 -D_FORTIFY_SOURCE=2',
optimize='-O2',
cppflags='-fwrapv -fno-strict-aliasing -pipe -fstack-protector-strong -I/usr/local/include'
ccversion='', gccversion='4.9.2', gccosandvers=''
intsize=4, longsize=8, ptrsize=8, doublesize=8, byteorder=12345678, doublekind=3
d_longlong=define, longlongsize=8, d_longdbl=define, longdblsize=16, longdblkind=3
ivtype='long', ivsize=8, nvtype='double', nvsize=8, Off_t='off_t', lseeksize=8
alignbytes=8, prototype=define
Linker and Libraries:
ld='cc', ldflags =' -fstack-protector-strong -L/usr/local/lib'
libpth=/usr/local/lib /usr/lib/gcc/x86_64-linux-gnu/4.9/include-fixed /usr/include/x86_64-linux-gnu /usr/lib /lib/x86_64-linux-gnu /lib/../lib /usr/lib/x86_64-linux-gnu /usr/lib/../lib /lib
libs=-lpthread -lnsl -ldl -lm -lcrypt -lutil -lc
perllibs=-lpthread -lnsl -ldl -lm -lcrypt -lutil -lc
libc=libc-2.19.so, so=so, useshrplib=false, libperl=libperl.a
gnulibc_version='2.19'
Dynamic Linking:
dlsrc=dl_dlopen.xs, dlext=so, d_dlsymun=undef, ccdlflags='-Wl,-E'
cccdlflags='-fPIC', lddlflags='-shared -O2 -L/usr/local/lib -fstack-protector-strong'
Characteristics of this binary (from libperl):
Compile-time options: HAS_TIMES PERLIO_LAYERS PERL_COPY_ON_WRITE
PERL_DONT_CREATE_GVSV
PERL_HASH_FUNC_ONE_AT_A_TIME_HARD PERL_MALLOC_WRAP
PERL_PRESERVE_IVUV USE_64_BIT_ALL USE_64_BIT_INT
USE_LARGE_FILES USE_LOCALE USE_LOCALE_COLLATE
USE_LOCALE_CTYPE USE_LOCALE_NUMERIC USE_LOCALE_TIME
USE_PERLIO USE_PERL_ATOF
Built under linux
Compiled at Sep 22 2017 19:11:07
%ENV:
PERL5LIB=""
PERL5OPT=""
PERL5_CPANPLUS_IS_RUNNING="13367"
PERL5_CPAN_IS_RUNNING="13367"
PERL5_CPAN_IS_RUNNING_IN_RECURSION="16364,13367"
PERL_CR_SMOKER_CURRENT="MooseX-AttributeShortcuts-0.035"
PERL_EXTUTILS_AUTOINSTALL="--defaultdeps"
PERL_MM_USE_DEFAULT="1"
@INC:
/home/stro/perl/5.24.3/lib/site_perl/5.24.3/x86_64-linux
/home/stro/perl/5.24.3/lib/site_perl/5.24.3
/home/stro/perl/5.24.3/lib/5.24.3/x86_64-linux
/home/stro/perl/5.24.3/lib/5.24.3
.