HiD v1.992 Perl 5 v5.31.7 x86_64-linux

Status
Pass
From
John SJ Anderson
Dist
HiD v1.992
Platform
Perl 5 v5.31.7 x86_64-linux
Date
2019-12-23 01:55:37
ID
50b6c58c-2527-11ea-9775-87eb8cd52012
This distribution has been tested as part of the CPAN Testers
project, supporting the Perl programming language.  See
http://wiki.cpantesters.org/ for more information or email
questions to cpan-testers-discuss@perl.org


--
Dear GENEHACK,

This is a computer-generated report for HiD-1.992
on perl 5.31.7, created by App::cpanminus::reporter 0.17 (1.7044).

Thank you for uploading your work to CPAN.  Congratulations!
All tests were successful.

Sections of this report:

    * Tester comments
    * Program output
    * Prerequisites
    * Environment and other context

------------------------------
TESTER COMMENTS
------------------------------

Additional comments from tester:

none provided

------------------------------
PROGRAM OUTPUT
------------------------------

Output from '':

Running Makefile.PL
Warning: prerequisite Data::Page 0 not found.
Warning: prerequisite Log::Log4perl 0 not found.
Warning: prerequisite Test::File::Contents 0 not found.
Warning: prerequisite Test::Routine 0 not found.
Warning: prerequisite Test::Routine::Util 0 not found.
Warning: prerequisite Text::Handlebars 0 not found.
Warning: prerequisite Text::MultiMarkdown 0 not found.
Warning: prerequisite Text::Textile 0 not found.
Warning: prerequisite Text::Xslate 0 not found.
Warning: prerequisite XML::Feed 0 not found.
Warning: prerequisite XML::Feed::Entry 0 not found.
Warning: prerequisite YAML::XS 0 not found.
Checking if your kit is complete...
Looks good
Generating a Unix-style Makefile
Writing Makefile for HiD
Writing MYMETA.yml and MYMETA.json
-> OK
Checking dependencies from MYMETA.json ...
Checking if you have Plack::App::File 0 ... Yes (undef)
Checking if you have Class::Load 0 ... Yes (0.25)
Checking if you have IPC::Open3 0 ... Yes (1.20)
Checking if you have open 0 ... Yes (1.11)
Checking if you have HTTP::Request::Common 0 ... Yes (6.18)
Checking if you have Moose::Role 0 ... Yes (2.2012)
Checking if you have utf8 0 ... Yes (1.22)
Checking if you have Test::File 0 ... Yes (1.443)
Checking if you have Text::MultiMarkdown 0 ... No
Checking if you have DateTime 0 ... Yes (1.51)
Checking if you have IO::Handle 0 ... Yes (1.41)
Checking if you have Template 0 ... Yes (2.29)
Checking if you have FindBin 0 ... Yes (1.51)
Checking if you have Moose::Util::TypeConstraints 0 ... Yes (2.2012)
Checking if you have Plack::Loader::Restarter 0 ... Yes (undef)
Checking if you have ExtUtils::MakeMaker 0 ... Yes (7.42)
Checking if you have XML::Feed 0 ... No
Checking if you have Plack::Test 0 ... Yes (undef)
Checking if you have YAML::Tiny 0 ... Yes (1.73)
Checking if you have Carp 0 ... Yes (1.50)
Checking if you have strict 0 ... Yes (1.11)
Checking if you have lib 0 ... Yes (0.65)
Checking if you have Text::Textile 0 ... No
Checking if you have Test::Routine::Util 0 ... No
Checking if you have Text::Markdown 0 ... Yes (1.000031)
Checking if you have File::Spec 0 ... Yes (3.78)
Checking if you have Text::Xslate 0 ... No
Checking if you have YAML::XS 0 ... No
Checking if you have Path::Tiny 0.054 ... Yes (0.108)
Checking if you have Data::Printer 0.35 ... Yes (0.40)
Checking if you have Date::Parse 0 ... Yes (2.30)
Checking if you have parent 0 ... Yes (0.237)
Checking if you have Test::More 0 ... Yes (1.302170)
Checking if you have Exporter 0 ... Yes (5.74)
Checking if you have MooseX::App::Cmd::Command 0 ... Yes (0.32)
Checking if you have XML::Feed::Entry 0 ... No
Checking if you have Data::Page 0 ... No
Checking if you have autodie 0 ... Yes (2.29)
Checking if you have Moose 0 ... Yes (2.2012)
Checking if you have MooseX::Getopt 0 ... Yes (0.74)
Checking if you have Plack::Handler::Standalone 0 ... Yes (undef)
Checking if you have Text::Handlebars 0 ... No
Checking if you have warnings 0 ... Yes (1.46)
Checking if you have Test::File::Contents 0 ... No
Checking if you have Plack::Builder 0 ... Yes (undef)
Checking if you have Try::Tiny 0 ... Yes (0.30)
Checking if you have Test::Routine 0 ... No
Checking if you have namespace::autoclean 0 ... Yes (0.29)
Checking if you have File::Copy 0 ... Yes (2.34)
Checking if you have feature 0 ... Yes (1.57)
Checking if you have App::Cmd::Tester 0 ... Yes (0.331)
Checking if you have charnames 0 ... Yes (1.45)
Checking if you have String::Errf 0 ... Yes (0.008)
Checking if you have Log::Log4perl 0 ... No
Checking if you have File::Find::Rule 0 ... Yes (0.34)
Checking if you have MooseX::App::Cmd 0 ... Yes (0.32)
Checking if you have Test::Warn 0 ... Yes (0.36)
Checking if you have Plack::Runner 0 ... Yes (undef)
==> Found dependencies: Text::MultiMarkdown, XML::Feed, Text::Textile, Test::Routine::Util, Text::Xslate, YAML::XS, XML::Feed::Entry, Data::Page, Text::Handlebars, Test::File::Contents, Test::Routine, Log::Log4perl
Searching Text::MultiMarkdown (0) on cpanmetadb ...
--> Working on Text::MultiMarkdown
Fetching http://www.cpan.org/authors/id/B/BO/BOBTFISH/Text-MultiMarkdown-1.000035.tar.gz
-> OK
Unpacking Text-MultiMarkdown-1.000035.tar.gz
Manifying 1 pod document
Manifying 1 pod document
Installing /opt/plenv/versions/5.31.7/lib/perl5/site_perl/5.31.7/Text/MultiMarkdown.pm
Installing /opt/plenv/versions/5.31.7/man/man1/MultiMarkdown.pl.1
Installing /opt/plenv/versions/5.31.7/man/man3/Text::MultiMarkdown.3
Installing /opt/plenv/versions/5.31.7/bin/MultiMarkdown.pl
Appending installation info to /opt/plenv/versions/5.31.7/lib/perl5/5.31.7/x86_64-linux/perllocal.pod
-> OK
Successfully installed Text-MultiMarkdown-1.000035
Installing /opt/plenv/versions/5.31.7/lib/perl5/site_perl/5.31.7/x86_64-linux/.meta/Text-MultiMarkdown-1.000035/MYMETA.json
Installing /opt/plenv/versions/5.31.7/lib/perl5/site_perl/5.31.7/x86_64-linux/.meta/Text-MultiMarkdown-1.000035/install.json
Searching XML::Feed (0) on cpanmetadb ...
--> Working on XML::Feed
Fetching http://www.cpan.org/authors/id/D/DA/DAVECROSS/XML-Feed-0.59.tar.gz
-> OK
Unpacking XML-Feed-0.59.tar.gz
Building XML-Feed
Installing /opt/plenv/versions/5.31.7/lib/perl5/site_perl/5.31.7/XML/Feed.pm
Installing /opt/plenv/versions/5.31.7/lib/perl5/site_perl/5.31.7/XML/Feed/Enclosure.pm
Installing /opt/plenv/versions/5.31.7/lib/perl5/site_perl/5.31.7/XML/Feed/Entry.pm
Installing /opt/plenv/versions/5.31.7/lib/perl5/site_perl/5.31.7/XML/Feed/Util.pm
Installing /opt/plenv/versions/5.31.7/lib/perl5/site_perl/5.31.7/XML/Feed/Content.pm
Installing /opt/plenv/versions/5.31.7/lib/perl5/site_perl/5.31.7/XML/Feed/Entry/Format/RSS.pm
Installing /opt/plenv/versions/5.31.7/lib/perl5/site_perl/5.31.7/XML/Feed/Entry/Format/Atom.pm
Installing /opt/plenv/versions/5.31.7/lib/perl5/site_perl/5.31.7/XML/Feed/Format/RSS.pm
Installing /opt/plenv/versions/5.31.7/lib/perl5/site_perl/5.31.7/XML/Feed/Format/Atom.pm
Installing /opt/plenv/versions/5.31.7/man/man3/XML::Feed::Enclosure.3
Installing /opt/plenv/versions/5.31.7/man/man3/XML::Feed::Entry.3
Installing /opt/plenv/versions/5.31.7/man/man3/XML::Feed.3
Installing /opt/plenv/versions/5.31.7/man/man3/XML::Feed::Util.3
Installing /opt/plenv/versions/5.31.7/man/man3/XML::Feed::Content.3
-> OK
Successfully installed XML-Feed-0.59
Installing /opt/plenv/versions/5.31.7/lib/perl5/site_perl/5.31.7/x86_64-linux/.meta/XML-Feed-0.59/MYMETA.json
Installing /opt/plenv/versions/5.31.7/lib/perl5/site_perl/5.31.7/x86_64-linux/.meta/XML-Feed-0.59/install.json
Searching Text::Textile (0) on cpanmetadb ...
--> Working on Text::Textile
Fetching http://www.cpan.org/authors/id/B/BC/BCHOATE/Text-Textile-2.13.tar.gz
-> OK
Unpacking Text-Textile-2.13.tar.gz
Manifying 1 pod document
Manifying 1 pod document
Installing /opt/plenv/versions/5.31.7/lib/perl5/site_perl/5.31.7/Text/Textile.pm
Installing /opt/plenv/versions/5.31.7/man/man1/textile.1
Installing /opt/plenv/versions/5.31.7/man/man3/Text::Textile.3
Installing /opt/plenv/versions/5.31.7/bin/textile
Appending installation info to /opt/plenv/versions/5.31.7/lib/perl5/5.31.7/x86_64-linux/perllocal.pod
-> OK
Successfully installed Text-Textile-2.13
Installing /opt/plenv/versions/5.31.7/lib/perl5/site_perl/5.31.7/x86_64-linux/.meta/Text-Textile-2.13/MYMETA.json
Installing /opt/plenv/versions/5.31.7/lib/perl5/site_perl/5.31.7/x86_64-linux/.meta/Text-Textile-2.13/install.json
Searching Test::Routine::Util (0) on cpanmetadb ...
--> Working on Test::Routine::Util
Fetching http://www.cpan.org/authors/id/R/RJ/RJBS/Test-Routine-0.027.tar.gz
-> OK
Unpacking Test-Routine-0.027.tar.gz
Manifying 8 pod documents
Installing /opt/plenv/versions/5.31.7/lib/perl5/site_perl/5.31.7/Test/Routine.pm
Installing /opt/plenv/versions/5.31.7/lib/perl5/site_perl/5.31.7/Test/Routine/Test.pm
Installing /opt/plenv/versions/5.31.7/lib/perl5/site_perl/5.31.7/Test/Routine/Common.pm
Installing /opt/plenv/versions/5.31.7/lib/perl5/site_perl/5.31.7/Test/Routine/Compositor.pm
Installing /opt/plenv/versions/5.31.7/lib/perl5/site_perl/5.31.7/Test/Routine/Util.pm
Installing /opt/plenv/versions/5.31.7/lib/perl5/site_perl/5.31.7/Test/Routine/Runner.pm
Installing /opt/plenv/versions/5.31.7/lib/perl5/site_perl/5.31.7/Test/Routine/Test/Role.pm
Installing /opt/plenv/versions/5.31.7/lib/perl5/site_perl/5.31.7/Test/Routine/Manual/Demo.pm
Installing /opt/plenv/versions/5.31.7/man/man3/Test::Routine::Compositor.3
Installing /opt/plenv/versions/5.31.7/man/man3/Test::Routine::Runner.3
Installing /opt/plenv/versions/5.31.7/man/man3/Test::Routine::Manual::Demo.3
Installing /opt/plenv/versions/5.31.7/man/man3/Test::Routine::Test::Role.3
Installing /opt/plenv/versions/5.31.7/man/man3/Test::Routine::Common.3
Installing /opt/plenv/versions/5.31.7/man/man3/Test::Routine::Test.3
Installing /opt/plenv/versions/5.31.7/man/man3/Test::Routine::Util.3
Installing /opt/plenv/versions/5.31.7/man/man3/Test::Routine.3
Appending installation info to /opt/plenv/versions/5.31.7/lib/perl5/5.31.7/x86_64-linux/perllocal.pod
-> OK
Successfully installed Test-Routine-0.027
Installing /opt/plenv/versions/5.31.7/lib/perl5/site_perl/5.31.7/x86_64-linux/.meta/Test-Routine-0.027/MYMETA.json
Installing /opt/plenv/versions/5.31.7/lib/perl5/site_perl/5.31.7/x86_64-linux/.meta/Test-Routine-0.027/install.json
Searching Text::Xslate (0) on cpanmetadb ...
--> Working on Text::Xslate
Fetching http://www.cpan.org/authors/id/S/SK/SKAJI/Text-Xslate-v3.5.7.tar.gz
-> OK
Unpacking Text-Xslate-v3.5.7.tar.gz
Building Mouse
Generate Mouse::Tiny ...
done.
Files found in blib/arch: installing files in blib/lib into architecture dependent library tree
Installing /opt/plenv/versions/5.31.7/lib/perl5/site_perl/5.31.7/x86_64-linux/auto/Mouse/Mouse.bs
Installing /opt/plenv/versions/5.31.7/lib/perl5/site_perl/5.31.7/x86_64-linux/auto/Mouse/Mouse.so
Installing /opt/plenv/versions/5.31.7/lib/perl5/site_perl/5.31.7/x86_64-linux/Squirrel.pm
Installing /opt/plenv/versions/5.31.7/lib/perl5/site_perl/5.31.7/x86_64-linux/Mouse.pm
Installing /opt/plenv/versions/5.31.7/lib/perl5/site_perl/5.31.7/x86_64-linux/ouse.pm
Installing /opt/plenv/versions/5.31.7/lib/perl5/site_perl/5.31.7/x86_64-linux/Squirrel/Role.pm
Installing /opt/plenv/versions/5.31.7/lib/perl5/site_perl/5.31.7/x86_64-linux/Mouse/Role.pm
Installing /opt/plenv/versions/5.31.7/lib/perl5/site_perl/5.31.7/x86_64-linux/Mouse/Tiny.pod
Installing /opt/plenv/versions/5.31.7/lib/perl5/site_perl/5.31.7/x86_64-linux/Mouse/PurePerl.pm
Installing /opt/plenv/versions/5.31.7/lib/perl5/site_perl/5.31.7/x86_64-linux/Mouse/Object.pm
Installing /opt/plenv/versions/5.31.7/lib/perl5/site_perl/5.31.7/x86_64-linux/Mouse/Exporter.pm
Installing /opt/plenv/versions/5.31.7/lib/perl5/site_perl/5.31.7/x86_64-linux/Mouse/Util.pm
Installing /opt/plenv/versions/5.31.7/lib/perl5/site_perl/5.31.7/x86_64-linux/Mouse/XS.pod
Installing /opt/plenv/versions/5.31.7/lib/perl5/site_perl/5.31.7/x86_64-linux/Mouse/TypeRegistry.pm
Installing /opt/plenv/versions/5.31.7/lib/perl5/site_perl/5.31.7/x86_64-linux/Mouse/Spec.pm
Installing /opt/plenv/versions/5.31.7/lib/perl5/site_perl/5.31.7/x86_64-linux/Mouse/Tiny.pm
Installing /opt/plenv/versions/5.31.7/lib/perl5/site_perl/5.31.7/x86_64-linux/Mouse/Util/TypeConstraints.pm
Installing /opt/plenv/versions/5.31.7/lib/perl5/site_perl/5.31.7/x86_64-linux/Mouse/Util/MetaRole.pm
Installing /opt/plenv/versions/5.31.7/lib/perl5/site_perl/5.31.7/x86_64-linux/Mouse/Meta/Role.pm
Installing /opt/plenv/versions/5.31.7/lib/perl5/site_perl/5.31.7/x86_64-linux/Mouse/Meta/Attribute.pm
Installing /opt/plenv/versions/5.31.7/lib/perl5/site_perl/5.31.7/x86_64-linux/Mouse/Meta/Module.pm
Installing /opt/plenv/versions/5.31.7/lib/perl5/site_perl/5.31.7/x86_64-linux/Mouse/Meta/Class.pm
Installing /opt/plenv/versions/5.31.7/lib/perl5/site_perl/5.31.7/x86_64-linux/Mouse/Meta/Method.pm
Installing /opt/plenv/versions/5.31.7/lib/perl5/site_perl/5.31.7/x86_64-linux/Mouse/Meta/TypeConstraint.pm
Installing /opt/plenv/versions/5.31.7/lib/perl5/site_perl/5.31.7/x86_64-linux/Mouse/Meta/Method/Destructor.pm
Installing /opt/plenv/versions/5.31.7/lib/perl5/site_perl/5.31.7/x86_64-linux/Mouse/Meta/Method/Accessor.pm
Installing /opt/plenv/versions/5.31.7/lib/perl5/site_perl/5.31.7/x86_64-linux/Mouse/Meta/Method/Delegation.pm
Installing /opt/plenv/versions/5.31.7/lib/perl5/site_perl/5.31.7/x86_64-linux/Mouse/Meta/Method/Constructor.pm
Installing /opt/plenv/versions/5.31.7/lib/perl5/site_perl/5.31.7/x86_64-linux/Mouse/Meta/Role/Composite.pm
Installing /opt/plenv/versions/5.31.7/lib/perl5/site_perl/5.31.7/x86_64-linux/Mouse/Meta/Role/Application.pm
Installing /opt/plenv/versions/5.31.7/lib/perl5/site_perl/5.31.7/x86_64-linux/Mouse/Meta/Role/Method.pm
Installing /opt/plenv/versions/5.31.7/lib/perl5/site_perl/5.31.7/x86_64-linux/Test/Mouse.pm
Installing /opt/plenv/versions/5.31.7/man/man3/Mouse::Meta::Role.3
Installing /opt/plenv/versions/5.31.7/man/man3/Mouse::Meta::Method::Delegation.3
Installing /opt/plenv/versions/5.31.7/man/man3/Test::Mouse.3
Installing /opt/plenv/versions/5.31.7/man/man3/Mouse::Util::TypeConstraints.3
Installing /opt/plenv/versions/5.31.7/man/man3/Mouse::Meta::Attribute.3
Installing /opt/plenv/versions/5.31.7/man/man3/Mouse::Meta::Method::Constructor.3
Installing /opt/plenv/versions/5.31.7/man/man3/Mouse::Util::MetaRole.3
Installing /opt/plenv/versions/5.31.7/man/man3/ouse.3
Installing /opt/plenv/versions/5.31.7/man/man3/Mouse::Meta::Method.3
Installing /opt/plenv/versions/5.31.7/man/man3/Squirrel.3
Installing /opt/plenv/versions/5.31.7/man/man3/Mouse::Meta::Method::Accessor.3
Installing /opt/plenv/versions/5.31.7/man/man3/Mouse::Meta::TypeConstraint.3
Installing /opt/plenv/versions/5.31.7/man/man3/Mouse::Meta::Class.3
Installing /opt/plenv/versions/5.31.7/man/man3/Mouse::Meta::Method::Destructor.3
Installing /opt/plenv/versions/5.31.7/man/man3/Mouse::Meta::Module.3
Installing /opt/plenv/versions/5.31.7/man/man3/Mouse::Tiny.3
Installing /opt/plenv/versions/5.31.7/man/man3/Mouse::Exporter.3
Installing /opt/plenv/versions/5.31.7/man/man3/Mouse::PurePerl.3
Installing /opt/plenv/versions/5.31.7/man/man3/Mouse::Spec.3
Installing /opt/plenv/versions/5.31.7/man/man3/Mouse.3
Installing /opt/plenv/versions/5.31.7/man/man3/Mouse::Role.3
Installing /opt/plenv/versions/5.31.7/man/man3/Mouse::Meta::Role::Method.3
Installing /opt/plenv/versions/5.31.7/man/man3/Mouse::Object.3
Installing /opt/plenv/versions/5.31.7/man/man3/Mouse::Meta::Role::Composite.3
Installing /opt/plenv/versions/5.31.7/man/man3/Mouse::XS.3
Installing /opt/plenv/versions/5.31.7/man/man3/Mouse::Util.3
Installing /opt/plenv/versions/5.31.7/man/man3/Mouse::Meta::Role::Application.3
Installing /opt/plenv/versions/5.31.7/man/man3/Mouse::TypeRegistry.3
Installing /opt/plenv/versions/5.31.7/man/man3/Squirrel::Role.3
-> OK
Successfully installed Mouse-v2.5.9
Installing /opt/plenv/versions/5.31.7/lib/perl5/site_perl/5.31.7/x86_64-linux/.meta/Mouse-v2.5.9/MYMETA.json
Installing /opt/plenv/versions/5.31.7/lib/perl5/site_perl/5.31.7/x86_64-linux/.meta/Mouse-v2.5.9/install.json
Searching Data::MessagePack (0.38) on cpanmetadb ...
--> Working on Data::MessagePack
Fetching http://www.cpan.org/authors/id/S/SY/SYOHEX/Data-MessagePack-1.00.tar.gz
-> OK
Unpacking Data-MessagePack-1.00.tar.gz
"/opt/plenv/versions/5.31.7/bin/perl5.31.7" "-Iinc" -MExtUtils::Command::MM -e 'cp_nonempty' -- MessagePack.bs blib/arch/auto/Data/MessagePack/MessagePack.bs 644
Manifying 3 pod documents
Files found in blib/arch: installing files in blib/lib into architecture dependent library tree
Installing /opt/plenv/versions/5.31.7/lib/perl5/site_perl/5.31.7/x86_64-linux/auto/Data/MessagePack/MessagePack.so
Installing /opt/plenv/versions/5.31.7/lib/perl5/site_perl/5.31.7/x86_64-linux/Data/MessagePack.pm
Installing /opt/plenv/versions/5.31.7/lib/perl5/site_perl/5.31.7/x86_64-linux/Data/MessagePack/PP.pm
Installing /opt/plenv/versions/5.31.7/lib/perl5/site_perl/5.31.7/x86_64-linux/Data/MessagePack/Unpacker.pod
Installing /opt/plenv/versions/5.31.7/lib/perl5/site_perl/5.31.7/x86_64-linux/Data/MessagePack/Boolean.pm
Installing /opt/plenv/versions/5.31.7/man/man3/Data::MessagePack.3
Installing /opt/plenv/versions/5.31.7/man/man3/Data::MessagePack::PP.3
Installing /opt/plenv/versions/5.31.7/man/man3/Data::MessagePack::Unpacker.3
Appending installation info to /opt/plenv/versions/5.31.7/lib/perl5/5.31.7/x86_64-linux/perllocal.pod
-> OK
Successfully installed Data-MessagePack-1.00
Installing /opt/plenv/versions/5.31.7/lib/perl5/site_perl/5.31.7/x86_64-linux/.meta/Data-MessagePack-1.00/MYMETA.json
Installing /opt/plenv/versions/5.31.7/lib/perl5/site_perl/5.31.7/x86_64-linux/.meta/Data-MessagePack-1.00/install.json
Building and testing Text-Xslate-v3.5.7
Building Text-Xslate
/opt/plenv/versions/5.31.7/bin/perl5.31.7 tool/opcode_for_pp.PL src/xslate_opcode.inc > lib/Text/Xslate/PP/Const.pm
/opt/plenv/versions/5.31.7/bin/perl5.31.7 tool/opcode.PL src/xslate_opcode.inc > src/xslate_ops.h
cc -Isrc -I/opt/plenv/versions/5.31.7/lib/perl5/5.31.7/x86_64-linux/CORE -fPIC -Wall -Wextra -Wdeclaration-after-statement -c -fwrapv -fno-strict-aliasing -pipe -fstack-protector-strong -I/usr/local/include -D_LARGEFILE_SOURCE -D_FILE_OFFSET_BITS=64 -D_FORTIFY_SOURCE=2 -O2 -o src/xslate_methods.o src/xslate_methods.c
cc -Isrc -I/opt/plenv/versions/5.31.7/lib/perl5/5.31.7/x86_64-linux/CORE -DVERSION="v3.5.7" -DXS_VERSION="v3.5.7" -fPIC -Wall -Wextra -Wdeclaration-after-statement -c -fwrapv -fno-strict-aliasing -pipe -fstack-protector-strong -I/usr/local/include -D_LARGEFILE_SOURCE -D_FILE_OFFSET_BITS=64 -D_FORTIFY_SOURCE=2 -O2 -o lib/Text/Xslate.o lib/Text/Xslate.c
ExtUtils::Mkbootstrap::Mkbootstrap('blib/arch/auto/Text/Xslate/Xslate.bs')
cc -shared -O2 -L/usr/local/lib -L/opt/local/lib -fstack-protector-strong -o blib/arch/auto/Text/Xslate/Xslate.so lib/Text/Xslate.o src/xslate_methods.o
xs tests
# Testing Text::Xslate/v3.5.7
# Backend: XS
# $ENV{XSLATE}=xs
t/000_load.t .................................... ok
t/010_internals/001_parse.t ..................... ok
t/010_internals/002_compile.t ................... ok
t/010_internals/003_assemble.t .................. ok
t/010_internals/004_magic.t ..................... ok
t/010_internals/005_load_file.t ................. ok
t/010_internals/006_errhandler.t ................ ok
t/010_internals/007_compile_errs.t .............. ok
t/010_internals/008_files.t ..................... ok
t/010_internals/009_goto_address.t .............. ok
t/010_internals/010_line_number.t ............... ok
t/010_internals/011_missuse.t ................... ok
t/010_internals/012_multilines.t ................ ok
t/010_internals/013_deps_str.t .................. ok
t/010_internals/014_deps_file.t ................. ok
t/010_internals/015_deps_file2.t ................ ok
t/010_internals/016_cached.t .................... ok
t/010_internals/017_render.t .................... ok
t/010_internals/018_opinfo.t .................... ok
t/010_internals/019_runtime_error.t ............. ok
t/010_internals/020_optimize.t .................. ok
t/010_internals/021_edge_cases.t ................ ok
t/010_internals/022_signal.t .................... ok
t/010_internals/023_cachepath.t ................. ok
t/010_internals/024_die_in_macros.t ............. ok
t/010_internals/025_reset_hooks.t ............... ok
t/010_internals/026_issue16_deep_recursion.t .... ok
t/010_internals/027_infinite_warn.t ............. ok
t/010_internals/028_taint.t ..................... ok
t/010_internals/029_large_file.t ................ ok
t/010_internals/030_die_in_funcs.t .............. ok
t/010_internals/031_save_src.t .................. ok
t/010_internals/032_encoding_error.t ............ skipped: TODO: the behaviours of PP and XS does not match
t/010_internals/033_vpath_cache.t ............... ok
t/010_internals/034_is_code_ref.t ............... ok
t/010_internals/036_merge_hash.t ................ ok
t/010_internals/037_find_file.t ................. ok
t/010_internals/038_suffix.t .................... ok
t/010_internals/039_taint_issue84.t ............. ok
t/010_internals/100_threads.t ................... skipped: multi-threading tests
t/010_internals/200_leaktrace.t ................. ok
t/010_internals/300_explicit_pp.t ............... ok
t/020_interface/001_parser_option.t ............. ok
t/020_interface/002_myparser.t .................. ok
t/020_interface/003_encoding.t .................. ok
t/020_interface/004_no_vars.t ................... ok
t/020_interface/005_util.t ...................... ok
t/020_interface/006_psgi.t ...................... ok
t/020_interface/007_data_section.t .............. ok
t/020_interface/008_type.t ...................... ok
t/020_interface/009_hash_with_default.t ......... ok
t/020_interface/010_err_encoding.t .............. ok
t/020_interface/011_hwd_w_include_vars.t ........ ok
t/020_interface/012_default_functions.t ......... ok
t/020_interface/013_slurp_template.t ............ ok
t/020_interface/014_customize_option.t .......... ok
t/020_interface/015_render_recursion.t .......... ok
t/020_interface/016_pre_process_handler.t ....... ok
t/020_interface/017_validate.t .................. ok
t/030_kolon/001_interpolate.t ................... ok
t/030_kolon/002_field.t ......................... ok
t/030_kolon/003_for.t ........................... ok
t/030_kolon/004_if.t ............................ ok
t/030_kolon/005_rel_ops.t ....................... ok
t/030_kolon/006_arith_ops.t ..................... ok
t/030_kolon/007_log_ops.t ....................... ok
t/030_kolon/008_literal.t ....................... ok
t/030_kolon/009_include.t ....................... ok
t/030_kolon/010_escaped_str.t ................... ok
t/030_kolon/011_macro.t ......................... ok
t/030_kolon/012_cascade.t ....................... ok
t/030_kolon/013_more_field.t .................... ok
t/030_kolon/014_while.t ......................... ok
t/030_kolon/015_methods.t ....................... ok
t/030_kolon/016_funcs.t ......................... ok
t/030_kolon/017_more_macro.t .................... ok
t/030_kolon/018_dynamic_filters.t ............... ok
t/030_kolon/019_explicit_interpolate.t .......... ok
t/030_kolon/020_chomp.t ......................... ok
t/030_kolon/021_overlay.t ....................... ok
t/030_kolon/022_given.t ......................... ok
t/030_kolon/023_bitwise.t ....................... ok
t/030_kolon/024_localize_vars.t ................. ok
t/030_kolon/025_objectliteral.t ................. ok
t/030_kolon/026_constant.t ...................... ok
t/030_kolon/027_lambda.t ........................ ok
t/030_kolon/028_smartmatch.t .................... ok
t/030_kolon/029_blockfilter.t ................... ok
t/030_kolon/030_xfuncs.t ........................ ok
t/030_kolon/031_post_if.t ....................... ok
t/030_kolon/032_include_bareword.t .............. ok
t/030_kolon/033_ov_forloop.t .................... ok
t/030_kolon/034_print.t ......................... ok
t/030_kolon/035_include_w_vars.t ................ ok
t/030_kolon/036_foreach_else.t .................. ok
t/030_kolon/037_loop_ctl.t ...................... ok
t/030_kolon/038_custom_esc.t .................... ok
t/030_kolon/039_root_vars.t ..................... ok
t/030_kolon/040_external_macro.t ................ skipped: external macros are not yet implemented
t/040_tterse/001_parse.t ........................ ok
t/040_tterse/002_interpolate.t .................. ok
t/040_tterse/003_field.t ........................ ok
t/040_tterse/004_for.t .......................... ok
t/040_tterse/005_if.t ........................... ok
t/040_tterse/006_include.t ...................... ok
t/040_tterse/007_funcs.t ........................ ok
t/040_tterse/008_methods.t ...................... ok
t/040_tterse/009_comments.t ..................... ok
t/040_tterse/010_expr.t ......................... ok
t/040_tterse/011_objectliterals.t ............... ok
t/040_tterse/012_macro.t ........................ ok
t/040_tterse/013_wrapper.t ...................... ok
t/040_tterse/014_set.t .......................... ok
t/040_tterse/015_while.t ........................ ok
t/040_tterse/016_call.t ......................... ok
t/040_tterse/017_filter.t ....................... ok
t/040_tterse/018_process.t ...................... ok
t/040_tterse/019_switch.t ....................... ok
t/040_tterse/020_chomp.t ........................ ok
t/040_tterse/021_fake_use.t ..................... ok
t/040_tterse/022_post_if.t ...................... ok
t/040_tterse/023_loop_ctl.t ..................... ok
t/040_tterse/024_for_else.t ..................... ok
t/040_tterse/025_macro.t ........................ ok
t/040_tterse/100_not_supported.t ................ ok
t/050_builtins/001_builtin_funcs.t .............. ok
t/050_builtins/002_autobox.t .................... ok
t/050_builtins/003_autobox_w_cb.t ............... ok
t/050_builtins/004_copied.t ..................... ok
t/100_plugin/001_import_from.t .................. ok
t/100_plugin/002_import.t ....................... ok
t/100_plugin/003_bridge.t ....................... ok
t/100_plugin/004_star.t ......................... ok
t/100_plugin/005_html_builder_module.t .......... ok
t/100_plugin/100_error.t ........................ ok
t/200_app/001_hello.t ........................... ok
t/200_app/002_tree.t ............................ ok
t/200_app/003_runner.t .......................... ok
t/200_app/004_encoding.t ........................ ok
t/300_examples/001_basic.t ...................... ok
t/300_examples/002_cascade.t .................... ok
t/300_examples/003_metakolon.t .................. ok
t/300_examples/004_tterse.t ..................... ok
t/900_bugs/001_super.t .......................... ok
t/900_bugs/002_addfunc.t ........................ ok
t/900_bugs/003_frame_access.t ................... ok
t/900_bugs/004_errorhandling.t .................. ok
t/900_bugs/005_rec_include.t .................... ok
t/900_bugs/006_complex_lex.t .................... ok
t/900_bugs/007_uuv.t ............................ ok
t/900_bugs/008_include_var.t .................... ok
t/900_bugs/009_quote_in_comments.t .............. ok
t/900_bugs/010_widechar_for_md5.t ............... ok
t/900_bugs/011_reserved_words.t ................. ok
t/900_bugs/012_ltgt_in_comments.t ............... ok
t/900_bugs/013_comments_lineno.t ................ ok
t/900_bugs/014_too_large_int.t .................. ok
t/900_bugs/015_my_scope.t ....................... ok
t/900_bugs/016_x_in_tterse.t .................... ok
t/900_bugs/017_unallocated.t .................... skipped: not yet
t/900_bugs/019_nested_mm.t ...................... ok
t/900_bugs/020_switch_foo.t ..................... ok
t/900_bugs/021_cached_enc.t ..................... ok
t/900_bugs/022_empty_if_block.t ................. ok
t/900_bugs/023_deploy_problem.t ................. ok
t/900_bugs/024_use_cache.t ...................... ok
t/900_bugs/025_clobber-macro-args.t ............. ok
t/900_bugs/026_issue61.t ........................ ok
t/900_bugs/027_issue65.t ........................ ok
t/900_bugs/028_issue68.t ........................ ok
t/900_bugs/029_fork_and_cache.t ................. skipped: deal with memorycache-filecache-original model more effectively
t/900_bugs/030_issue71.t ........................ ok
t/900_bugs/031_yappo.t .......................... ok
t/900_bugs/032_issue79.t ........................ ok
t/900_bugs/033_ex_safe_render.t ................. ok
t/900_bugs/034_hash_key_utf8.t .................. ok
t/900_bugs/035_issue81_tiedhash.t ............... ok
t/900_bugs/036_vpath_utf8.t ..................... ok
t/900_bugs/037_text_str_key.t ................... ok
t/900_bugs/038_conbine_flaged_utf8_and_other.t .. ok
t/900_bugs/039_issue96.t ........................ ok
t/900_bugs/040_issue95.t ........................ ok
t/900_bugs/041_cachedir_other_process.t ......... ok
t/900_bugs/042_perl59_issue.t ................... ok
t/900_bugs/043_issue107.t ....................... ok
t/900_bugs/044_empty_result.t ................... ok
t/900_bugs/045_issue130.t ....................... ok
t/900_bugs/046_issue156.t ....................... ok
t/900_bugs/046_issue88.t ........................ ok
t/900_bugs/047_undef_concat.t ................... ok
t/900_bugs/048_issue172.t ....................... skipped: Test requires module 'Data::Section::Simple' but it's not found
All tests successful.
Files=191, Tests=2733, 31 wallclock secs ( 1.31 usr  0.57 sys + 24.54 cusr  3.03 csys = 29.45 CPU)
Result: PASS

------------------------------
PREREQUISITES
------------------------------

Prerequisite modules loaded:

    No requirements found

------------------------------
ENVIRONMENT AND OTHER CONTEXT
------------------------------

Environment variables:

    LANG = en_US.UTF-8
    LC_ALL = en_US.UTF-8
    LC_TERMINAL = iTerm2
    LC_TERMINAL_VERSION = 3.3.6
    PATH = /opt/plenv/versions/5.31.7/bin:/opt/plenv/libexec:/opt/plenv/plugins/perl-build/bin:/opt/plenv/shims:/opt/git/bin:/opt/plenv/shims:/opt/plenv/bin:/opt/nvm/versions/node/v12.11.1/bin:/home/genehack/bin:/opt/go/bin:/opt/vim/bin:/opt/tmux/bin:/opt/ruby/bin:/opt/rust/bin:/opt/gitflow/bin:/opt/emacs/bin:/opt/local/bin:/opt/git/bin:/usr/local/bin:/usr/bin:/bin:/usr/games:/home/genehack/proj/go/bin:/opt/swift/usr/bin
    PERL_CPANM_OPT = --skip-installed --prompt
    SHELL = /bin/zsh
    TERM = screen-256color

Perl special variables (and OS-specific diagnostics, for MSWin32):

    EGID = 1001 24 25 27 29 30 44 46 102 125 1001
    EUID = 1001
    EXECUTABLE_NAME = /opt/plenv/versions/5.31.7/bin/perl5.31.7
    GID = 1001 24 25 27 29 30 44 46 102 125 1001
    UID = 1001

Perl module toolchain versions installed:

    Module              Have    
    ------------------- --------
    CPAN                2.27    
    CPAN::Meta          2.150010
    Cwd                 3.78    
    ExtUtils::CBuilder  0.280233
    ExtUtils::Command   7.42    
    ExtUtils::Install   2.14    
    ExtUtils::MakeMaker 7.42    
    ExtUtils::Manifest  1.72    
    ExtUtils::ParseXS   3.40    
    File::Spec          3.78    
    JSON                4.02    
    JSON::PP            4.04    
    Module::Build       0.4229  
    Module::Signature   n/a     
    Parse::CPAN::Meta   2.150010
    Test::Harness       3.42    
    Test::More          1.302170
    YAML                1.29    
    YAML::Syck          n/a     
    version             0.9924  


--

Summary of my perl5 (revision 5 version 31 subversion 7) configuration:
   
  Platform:
    osname=linux
    osvers=4.19.0-6-amd64
    archname=x86_64-linux
    uname='linux ferb 4.19.0-6-amd64 #1 smp debian 4.19.67-2+deb10u2 (2019-11-11) x86_64 gnulinux '
    config_args='-Dprefix=/opt/plenv/versions/5.31.7 -de -Dversiononly -Dusedevel -A'eval:scriptdir=/opt/plenv/versions/5.31.7/bin''
    hint=recommended
    useposix=true
    d_sigaction=define
    useithreads=undef
    usemultiplicity=undef
    use64bitint=define
    use64bitall=define
    uselongdouble=undef
    usemymalloc=n
    default_inc_excludes_dot=define
    bincompat5005=undef
  Compiler:
    cc='cc'
    ccflags ='-fwrapv -fno-strict-aliasing -pipe -fstack-protector-strong -I/usr/local/include -D_LARGEFILE_SOURCE -D_FILE_OFFSET_BITS=64 -D_FORTIFY_SOURCE=2'
    optimize='-O2'
    cppflags='-fwrapv -fno-strict-aliasing -pipe -fstack-protector-strong -I/usr/local/include'
    ccversion=''
    gccversion='8.3.0'
    gccosandvers=''
    intsize=4
    longsize=8
    ptrsize=8
    doublesize=8
    byteorder=12345678
    doublekind=3
    d_longlong=define
    longlongsize=8
    d_longdbl=define
    longdblsize=16
    longdblkind=3
    ivtype='long'
    ivsize=8
    nvtype='double'
    nvsize=8
    Off_t='off_t'
    lseeksize=8
    alignbytes=8
    prototype=define
  Linker and Libraries:
    ld='cc'
    ldflags =' -fstack-protector-strong -L/usr/local/lib -L/opt/local/lib'
    libpth=/usr/local/lib /usr/lib/gcc/x86_64-linux-gnu/8/include-fixed /usr/include/x86_64-linux-gnu /usr/lib /opt/local/lib /lib/x86_64-linux-gnu /lib/../lib /usr/lib/x86_64-linux-gnu /usr/lib/../lib /lib
    libs=-lpthread -lnsl -lgdbm -ldl -lm -lcrypt -lutil -lc
    perllibs=-lpthread -lnsl -ldl -lm -lcrypt -lutil -lc
    libc=libc-2.28.so
    so=so
    useshrplib=false
    libperl=libperl.a
    gnulibc_version='2.28'
  Dynamic Linking:
    dlsrc=dl_dlopen.xs
    dlext=so
    d_dlsymun=undef
    ccdlflags='-Wl,-E'
    cccdlflags='-fPIC'
    lddlflags='-shared -O2 -L/usr/local/lib -L/opt/local/lib -fstack-protector-strong'


Characteristics of this binary (from libperl): 
  Compile-time options:
    HAS_TIMES
    PERLIO_LAYERS
    PERL_COPY_ON_WRITE
    PERL_DONT_CREATE_GVSV
    PERL_MALLOC_WRAP
    PERL_OP_PARENT
    PERL_PRESERVE_IVUV
    PERL_USE_DEVEL
    USE_64_BIT_ALL
    USE_64_BIT_INT
    USE_LARGE_FILES
    USE_LOCALE
    USE_LOCALE_COLLATE
    USE_LOCALE_CTYPE
    USE_LOCALE_NUMERIC
    USE_LOCALE_TIME
    USE_PERLIO
    USE_PERL_ATOF
  Built under linux
  Compiled at Dec 22 2019 16:55:59
  %ENV:
    PERL_CPANM_OPT="--skip-installed --prompt"
  @INC:
    /opt/plenv/versions/5.31.7/lib/perl5/site_perl/5.31.7/x86_64-linux
    /opt/plenv/versions/5.31.7/lib/perl5/site_perl/5.31.7
    /opt/plenv/versions/5.31.7/lib/perl5/5.31.7/x86_64-linux
    /opt/plenv/versions/5.31.7/lib/perl5/5.31.7