Back
From: metabase:user:11c2fc28-e21a-11e0-b760-6f64b2402b71
Subject: PASS GDGraph-1.53 v5.22.2 GNU/Linux
Date: 2016-09-28T03:54:53Z
This distribution has been tested as part of the CPAN Testers
project, supporting the Perl programming language.  See
http://wiki.cpantesters.org/ for more information or email
questions to cpan-testers-discuss@perl.org
--
Dear Ruslan U. Zakirov,
This is a computer-generated report for GDGraph-1.53
on perl 5.22.2, created by CPAN-Reporter-1.2018.
Thank you for uploading your work to CPAN.  Congratulations!
All tests were successful.
Sections of this report:
    * Tester comments
    * Program output
    * Prerequisites
    * Environment and other context
------------------------------
TESTER COMMENTS
------------------------------
Additional comments from tester:
none provided
------------------------------
PROGRAM OUTPUT
------------------------------
Output from '/usr/bin/make test':
PERL_DL_NONLAZY=1 "/usr/bin/perl" "-MExtUtils::Command::MM" "-MTest::Harness" "-e" "undef *Test::Harness::Switches; test_harness(0, 'blib/lib', 'blib/arch')" t/*.t t/*/*.t
t/axestype.t ................... ok
t/bugfixes.t ................... ok
t/colour.t ..................... ok
t/data.t ....................... ok
t/error.t ...................... ok
t/samples.t .................... ok
t/tickets/73185-div-by-zero.t .. ok
t/use.t ........................ ok
All tests successful.
Files=8, Tests=194,  0 wallclock secs ( 0.04 usr  0.01 sys +  0.82 cusr  0.06 csys =  0.93 CPU)
Result: PASS
------------------------------
PREREQUISITES
------------------------------
Prerequisite modules loaded:
requires:
    Module              Need Have    
    ------------------- ---- --------
    GD                  1.18 2.53    
    GD::Text            0.80 0.86    
build_requires:
    Module              Need Have    
    ------------------- ---- --------
    Capture::Tiny       0.30 0.44    
    ExtUtils::MakeMaker 6.76 7.24    
    FindBin             0    1.51    
    Test::Exception     0.40 0.43    
    Test::More          0.88 1.302059
configure_requires:
    Module              Need Have    
    ------------------- ---- --------
    ExtUtils::MakeMaker 6.76 7.24    
------------------------------
ENVIRONMENT AND OTHER CONTEXT
------------------------------
Environment variables:
    DBD_MYSQL_TESTDB = test
    DBD_MYSQL_TESTHOST = localhost
    DBD_MYSQL_TESTPASSWORD = FSVHwEPKLDhVck1GzcRhhJUrg0cCt6
    DBD_MYSQL_TESTPORT = 3306
    DBD_MYSQL_TESTUSER = perltest
    LANG = en_US.UTF-8
    LANGUAGE = en_US
    LC_MEASUREMENT = en_US.UTF-8
    LC_MESSAGES = en_US.utf8
    LC_TIME = en_US.UTF-8
    NONINTERACTIVE_TESTING = 1
    PATH = /sbin:/bin:/usr/sbin:/usr/bin:/root/bin
    PERL5LIB = 
    PERL5OPT = 
    PERL5_CPANPLUS_IS_RUNNING = 23811
    PERL5_CPAN_IS_RUNNING = 23811
    PERL_MM_USE_DEFAULT = 1
    SHELL = /bin/bash
    TERM = xterm
Perl special variables (and OS-specific diagnostics, for MSWin32):
    $^X = /usr/bin/perl
    $UID/$EUID = 0 / 0
    $GID = 0 0 1 2 3 4 6 7 10 11 20 26 27 409 410 411 1015
    $EGID = 0 0 1 2 3 4 6 7 10 11 20 26 27 409 410 411 1015
Perl module toolchain versions installed:
    Module              Have    
    ------------------- --------
    CPAN                2.14    
    CPAN::Meta          2.150010
    Cwd                 3.62    
    ExtUtils::CBuilder  0.280224
    ExtUtils::Command   7.24    
    ExtUtils::Install   2.04    
    ExtUtils::MakeMaker 7.24    
    ExtUtils::Manifest  1.70    
    ExtUtils::ParseXS   3.30    
    File::Spec          3.62    
    JSON                2.90    
    JSON::PP            2.27400 
    Module::Build       0.4220  
    Module::Signature   0.81    
    Parse::CPAN::Meta   2.150010
    Test::Harness       3.36    
    Test::More          1.302059
    YAML                1.18    
    YAML::Syck          1.29    
    version             0.9917  
--
Summary of my perl5 (revision 5 version 22 subversion 2) configuration:
   
  Platform:
    osname=linux, osvers=4.6.0-sabayon, archname=x86_64-linux-thread-multi
    uname='linux andromeda.sabayon.org 4.6.0-sabayon #1 smp fri jul 15 18:12:46 utc 2016 x86_64 intel(r) core(tm) i7-6700 cpu @ 3.40ghz genuineintel gnulinux '
    config_args='-des -Duseshrplib -Darchname=x86_64-linux-thread -Dcc=x86_64-pc-linux-gnu-gcc -Doptimize=-O2 -march=x86-64 -pipe -Dldflags=-Wl,-O1 -Wl,--as-needed -Dprefix=/usr -Dinstallprefix=/usr -Dsiteprefix=/usr/local -Dvendorprefix=/usr -Dscriptdir=/usr/bin -Dprivlib=/usr/lib64/perl5/5.22.2 -Darchlib=/usr/lib64/perl5/5.22.2/x86_64-linux-thread-multi -Dsitelib=/usr/local/lib64/perl5/5.22.2 -Dsitearch=/usr/local/lib64/perl5/5.22.2/x86_64-linux-thread-multi -Dvendorlib=/usr/lib64/perl5/vendor_perl/5.22.2 -Dvendorarch=/usr/lib64/perl5/vendor_perl/5.22.2/x86_64-linux-thread-multi -Dman1dir=/usr/share/man/man1 -Dman3dir=/usr/share/man/man3 -Dsiteman1dir=/usr/local/man/man1 -Dsiteman3dir=/usr/local/man/man3 -Dvendorman1dir=/usr/share/man/man1 -Dvendorman3dir=/usr/share/man/man3 -Dman1ext=1 -Dman3ext=3pm -Dlibperl=libperl.so.5.22.2 -Dlocincpth=/usr/include  -Dglibpth=/lib64 /usr/lib64  -Duselargefiles -Dd_semctl_semun -Dcf_by=Gentoo -Dmyhostname=localhost -Dperladmin=root@localhost -Dinstallusrbinperl=n -Ud_csh -Uusenm -Di_ndbm -Di_gdbm -Di_db -Dusethreads -DDEBUGGING=none -Dinc_version_list=5.22.0/x86_64-linux-thread-multi 5.22.0 5.22.1/x86_64-linux-thread-multi 5.22.1  -Dlibpth=/usr/local/lib64 /lib64 /usr/lib64 -Dnoextensions=ODBM_File'
    hint=recommended, useposix=true, d_sigaction=define
    useithreads=define, usemultiplicity=define
    use64bitint=define, use64bitall=define, uselongdouble=undef
    usemymalloc=n, bincompat5005=undef
  Compiler:
    cc='x86_64-pc-linux-gnu-gcc', ccflags ='-D_REENTRANT -D_GNU_SOURCE -fwrapv -fno-strict-aliasing -pipe -D_LARGEFILE_SOURCE -D_FILE_OFFSET_BITS=64',
    optimize='-O2 -march=x86-64 -pipe',
    cppflags='-D_REENTRANT -D_GNU_SOURCE -fwrapv -fno-strict-aliasing -pipe'
    ccversion='', gccversion='4.9.3', gccosandvers=''
    intsize=4, longsize=8, ptrsize=8, doublesize=8, byteorder=12345678, doublekind=3
    d_longlong=define, longlongsize=8, d_longdbl=define, longdblsize=16, longdblkind=3
    ivtype='long', ivsize=8, nvtype='double', nvsize=8, Off_t='off_t', lseeksize=8
    alignbytes=8, prototype=define
  Linker and Libraries:
    ld='x86_64-pc-linux-gnu-gcc', ldflags ='-Wl,-O1 -Wl,--as-needed'
    libpth=/usr/local/lib64 /lib64 /usr/lib64 /usr/lib/gcc/x86_64-pc-linux-gnu/4.9.3/include-fixed /usr/lib /lib/../lib64 /usr/lib/../lib64 /lib
    libs=-lcl -lpthread -lnsl -lgdbm -ldb -ldl -lm -lcrypt -lutil -lc -lgdbm_compat
    perllibs=-lcl -lpthread -lnsl -ldl -lm -lcrypt -lutil -lc
    libc=libc-2.21.so, so=so, useshrplib=true, libperl=libperl.so.5.22.2
    gnulibc_version='2.21'
  Dynamic Linking:
    dlsrc=dl_dlopen.xs, dlext=so, d_dlsymun=undef, ccdlflags='-Wl,-E'
    cccdlflags='-fPIC', lddlflags='-shared -O2 -march=x86-64 -pipe -Wl,-O1 -Wl,--as-needed'
Characteristics of this binary (from libperl): 
  Compile-time options: HAS_TIMES MULTIPLICITY PERLIO_LAYERS
                        PERL_DONT_CREATE_GVSV
                        PERL_HASH_FUNC_ONE_AT_A_TIME_HARD
                        PERL_IMPLICIT_CONTEXT PERL_MALLOC_WRAP
                        PERL_NEW_COPY_ON_WRITE PERL_PRESERVE_IVUV
                        USE_64_BIT_ALL USE_64_BIT_INT USE_ITHREADS
                        USE_LARGE_FILES USE_LOCALE USE_LOCALE_COLLATE
                        USE_LOCALE_CTYPE USE_LOCALE_NUMERIC USE_LOCALE_TIME
                        USE_PERLIO USE_PERL_ATOF USE_REENTRANT_API
  Locally applied patches:
	gentoo/hints_hpux - Fix hpux hints
	gentoo/aix_soname - aix gcc detection and shared library soname support
	gentoo/EUMM-RUNPATH - https://bugs.gentoo.org/105054 cpan/ExtUtils-MakeMaker: drop $PORTAGE_TMPDIR from LD_RUN_PATH
	gentoo/config_over - Remove -rpath and append LDFLAGS to lddlflags
	gentoo/opensolaris_headers - [PATCH] Add headers for opensolaris
	gentoo/patchlevel - List packaged patches for perl-5.22.2(#1) in patchlevel.h
	gentoo/cpanplus_definstalldirs - Configure CPANPLUS to use the site directories by default.
	gentoo/cleanup-paths - [PATCH] Cleanup PATH and shrpenv
	gentoo/enc2xs - Tweak enc2xs to follow symlinks and ignore missing @INC directories.
	gentoo/darwin-cc-ld - https://bugs.gentoo.org/297751 [PATCH] darwin: Use $CC to link
	gentoo/cpan_definstalldirs - Provide a sensible INSTALLDIRS default for modules installed from CPAN.
	gentoo/interix - [PATCH] Fix interix hints
	gentoo/create_libperl_soname - https://bugs.gentoo.org/286840 [PATCH] Set libperl soname
	gentoo/mod_paths - Add /etc/perl to @INC
	gentoo/EUMM_perllocalpod -
	gentoo/drop_fstack_protector - https://bugs.gentoo.org/348557 [PATCH] Don't force -fstack-protector on everyone
	gentoo/usr_local - [PATCH] Remove /usr/local paths
	gentoo/D-SHA-CFLAGS - https://bugs.gentoo.org/506818 [PATCH] [PATCH] Do not set custom CFLAGS in cpan/Digest-SHA
	gentoo/io_socket_ip_tests -
	gentoo/tests.patch -
	debian/cpan-missing-site-dirs - Fix CPAN::FirstTime defaults with nonexisting site dirs if a parent is writable
	debian/makemaker-pasthru - Pass LD settings through to subdirectories
	debian/locale-robustness - [perl #124310] Make t/run/locale.t survive missing locales masked by LC_ALL
	fixes/memoize_storable_nstore - [rt.cpan.org #77790] Memoize::Storable: respect 'nstore' option not respected
	fixes/podman-pipe - Better errors for man pages from standard input
	fixes/respect_umask - Respect umask during installation
	fixes/podman-utc - Make the embedded date from Pod::Man reproducible
	fixes/podman-utc-docs - Documentation and test suite updates for UTC fix
	fixes/net_smtp_docs - [rt.cpan.org #36038] Document the Net::SMTP 'Port' option
	fixes/document_makemaker_ccflags - [rt.cpan.org #68613] Document that CCFLAGS should include $Config{ccflags}
  Built under linux
  Compiled at Sep 14 2016 17:09:58
  %ENV:
    PERL5LIB=""
    PERL5OPT=""
    PERL5_CPANPLUS_IS_RUNNING="23811"
    PERL5_CPAN_IS_RUNNING="23811"
    PERL_MM_USE_DEFAULT="1"
  @INC:
    /etc/perl
    /usr/local/lib64/perl5/5.22.2/x86_64-linux-thread-multi
    /usr/local/lib64/perl5/5.22.2
    /usr/lib64/perl5/vendor_perl/5.22.2/x86_64-linux-thread-multi
    /usr/lib64/perl5/vendor_perl/5.22.2
    /usr/local/lib64/perl5
    /usr/lib64/perl5/vendor_perl
    /usr/lib64/perl5/5.22.2/x86_64-linux-thread-multi
    /usr/lib64/perl5/5.22.2
    .