Plack-Test-Agent v1.5 Perl 5 v5.38.0 OpenBSD.amd64-openbsd-thread-multi

Status
Pass
From
abeltje
Dist
Plack-Test-Agent v1.5
Platform
Perl 5 v5.38.0 OpenBSD.amd64-openbsd-thread-multi
Date
2023-11-28 14:35:00
ID
4f8c3cbe-8dfb-11ee-b9c5-78f67d8b869a
This distribution has been tested as part of the CPAN Testers
project, supporting the Perl programming language.  See
http://wiki.cpantesters.org/ for more information or email
questions to cpan-testers-discuss@perl.org


--
Dear Olaf Alders,

This is a computer-generated report for Plack-Test-Agent-1.5
on perl 5.38.0, created by CPAN-Reporter-1.2019.

Thank you for uploading your work to CPAN.  Congratulations!
All tests were successful.

Sections of this report:

    * Tester comments
    * Program output
    * Prerequisites
    * Environment and other context

------------------------------
TESTER COMMENTS
------------------------------

Additional comments from tester:

this report is from an automated smoke testing program
and was not reviewed by a human for accuracy

------------------------------
PROGRAM OUTPUT
------------------------------

Output from '/usr/bin/make test':

PERL_DL_NONLAZY=1 "/opt/perl/perl5.38.0/bin/perl" "-MExtUtils::Command::MM" "-MTest::Harness" "-e" "undef *Test::Harness::Switches; test_harness(0, 'blib/lib', 'blib/arch')" t/*.t
# 
# Versions for all modules listed in MYMETA.json (including optional ones):
# 
# === Configure Requires ===
# 
#     Module              Want Have
#     ------------------- ---- ----
#     ExtUtils::MakeMaker  any 7.70
# 
# === Build Requires ===
# 
#     Module              Want Have
#     ------------------- ---- ----
#     ExtUtils::MakeMaker  any 7.70
# 
# === Test Requires ===
# 
#     Module                     Want       Have
#     -------------------------- ---- ----------
#     ExtUtils::MakeMaker         any       7.70
#     File::Spec                  any       3.88
#     HTTP::Server::Simple::PSGI  any       0.16
#     Modern::Perl                any 1.20230106
#     Plack::Request              any     1.0050
#     Test::Memory::Cycle         any       1.06
#     Test::More                  any   1.302194
#     Test::Requires              any       0.11
#     open                        any       1.13
#     utf8                        any       1.25
# 
# === Test Recommends ===
# 
#     Module         Want     Have
#     ---------- -------- --------
#     CPAN::Meta 2.120900 2.150010
# 
# === Runtime Requires ===
# 
#     Module                Want  Have
#     --------------------- ---- -----
#     HTTP::Cookies          any  6.10
#     HTTP::Message::PSGI    any undef
#     HTTP::Request::Common  any  6.45
#     HTTP::Response         any  6.45
#     Plack::Loader          any undef
#     Plack::Util::Accessor  any undef
#     Test::TCP              any  2.22
#     Test::WWW::Mechanize   any  1.60
#     parent                 any 0.241
#     strict                 any  1.12
#     warnings               any  1.65
# 
t/00-report-prereqs.t .. ok
t/2args.t .............. ok
t/cookie.t ............. ok
t/cycle.t .............. ok
t/extra_get_args.t ..... ok
t/hello.t .............. ok
t/hello_server.t ....... ok
t/mech.t ............... ok
t/okay.t ............... ok
All tests successful.
Files=9, Tests=57, 10 wallclock secs ( 0.03 usr  0.02 sys +  1.88 cusr  0.80 csys =  2.73 CPU)
Result: PASS

------------------------------
PREREQUISITES
------------------------------

Prerequisite modules loaded:

requires:

    Module                     Need     Have      
    -------------------------- -------- ----------
    HTTP::Cookies              0        6.10      
    HTTP::Message::PSGI        0        0         
    HTTP::Request::Common      0        6.45      
    HTTP::Response             0        6.45      
    parent                     0        0.241     
    perl                       5.008    5.038000  
    Plack::Loader              0        0         
    Plack::Util::Accessor      0        0         
    strict                     0        1.12      
    Test::TCP                  0        2.22      
    Test::WWW::Mechanize       0        1.60      
    warnings                   0        1.65      

build_requires:

    Module                     Need     Have      
    -------------------------- -------- ----------
    ExtUtils::MakeMaker        0        7.70      
    File::Spec                 0        3.88      
    HTTP::Server::Simple::PSGI 0        0.16      
    Modern::Perl               0        1.20230106
    open                       0        1.13      
    Plack::Request             0        1.0050    
    Test::Memory::Cycle        0        1.06      
    Test::More                 0        1.302194  
    Test::Requires             0        0.11      
    utf8                       0        1.25      

configure_requires:

    Module                     Need     Have      
    -------------------------- -------- ----------
    ExtUtils::MakeMaker        0        7.70      
    perl                       5.006    5.038000  

opt_build_requires:

    Module                     Need     Have      
    -------------------------- -------- ----------
    CPAN::Meta                 2.120900 2.150010  


------------------------------
ENVIRONMENT AND OTHER CONTEXT
------------------------------

Environment variables:

    AUTOMATED_TESTING = 1
    NONINTERACTIVE_TESTING = 1
    PATH = /home/cpan/perl5/bin:/home/cpan/bin:/bin:/sbin:/usr/bin:/usr/sbin:/usr/X11R6/bin:/usr/local/bin:/usr/local/sbin
    PERL5LIB = /home/cpan/.cpan/build/Modern-Perl-1.20230106-0/blib/arch:/home/cpan/.cpan/build/Modern-Perl-1.20230106-0/blib/lib:/home/cpan/perl5/lib/perl5
    PERL5OPT = 
    PERL5_CPANPLUS_IS_RUNNING = 33573
    PERL5_CPAN_IS_RUNNING = 33573
    PERL5_CPAN_IS_RUNNING_IN_RECURSION = 65837,33573
    PERL_LOCAL_LIB_ROOT = /home/cpan/perl5
    PERL_MB_OPT = --install_base /home/cpan/perl5
    PERL_MM_OPT = INSTALL_BASE=/home/cpan/perl5
    PERL_MM_USE_DEFAULT = 1
    PERL_USE_UNSAFE_INC = 1
    SHELL = /usr/local/bin/bash
    TERM = xterm-256color

Perl special variables (and OS-specific diagnostics, for MSWin32):

    $^X = /opt/perl/perl5.38.0/bin/perl
    $UID/$EUID = 1002 / 1002
    $GID = 1002 1002
    $EGID = 1002 1002

Perl module toolchain versions installed:

    Module              Have    
    ------------------- --------
    CPAN                2.36    
    CPAN::Meta          2.150010
    Cwd                 3.89    
    ExtUtils::CBuilder  0.280238
    ExtUtils::Command   7.70    
    ExtUtils::Install   2.22    
    ExtUtils::MakeMaker 7.70    
    ExtUtils::Manifest  1.73    
    ExtUtils::ParseXS   3.51    
    File::Spec          3.88    
    JSON                4.10    
    JSON::PP            4.16    
    Module::Build       0.4234  
    Module::Signature   n/a     
    Parse::CPAN::Meta   2.150010
    Test2               1.302194
    Test::Harness       3.44    
    Test::More          1.302194
    YAML                1.30    
    YAML::Syck          1.34    
    version             0.9929  


--

Summary of my perl5 (revision 5 version 38 subversion 0) configuration:
  Commit id: 76298ae68aa7796f0ffc05095b127d23f4b2de8f
  Platform:
    osname=openbsd
    osvers=7.4
    archname=OpenBSD.amd64-openbsd-thread-multi
    uname='openbsd rosy.fritz.box 7.4 generic#1335 amd64 '
    config_args='-des -Duseithreads -Duse64bitall -Dprefix=/opt/perl/perl5.38.0'
    hint=recommended
    useposix=true
    d_sigaction=define
    useithreads=define
    usemultiplicity=define
    use64bitint=define
    use64bitall=define
    uselongdouble=undef
    usemymalloc=n
    default_inc_excludes_dot=define
  Compiler:
    cc='cc'
    ccflags ='-pthread -fno-strict-aliasing -pipe -fstack-protector-strong -I/usr/local/include'
    optimize='-O2'
    cppflags='-pthread -fno-strict-aliasing -pipe -fstack-protector-strong -I/usr/local/include'
    ccversion=''
    gccversion='OpenBSD Clang 13.0.0'
    gccosandvers=''
    intsize=4
    longsize=8
    ptrsize=8
    doublesize=8
    byteorder=12345678
    doublekind=3
    d_longlong=define
    longlongsize=8
    d_longdbl=define
    longdblsize=16
    longdblkind=3
    ivtype='long'
    ivsize=8
    nvtype='double'
    nvsize=8
    Off_t='off_t'
    lseeksize=8
    alignbytes=8
    prototype=define
  Linker and Libraries:
    ld='cc'
    ldflags ='-pthread -Wl,-E  -fstack-protector-strong -L/usr/local/lib'
    libpth=/usr/lib/clang/13.0.0/lib /usr/lib /usr/local/lib
    libs=-lpthread -lm -lutil -lc
    perllibs=-lpthread -lm -lutil -lc
    libc=/usr/lib/libc.so.97.1
    so=so
    useshrplib=false
    libperl=libperl.a
    gnulibc_version=''
  Dynamic Linking:
    dlsrc=dl_dlopen.xs
    dlext=so
    d_dlsymun=undef
    ccdlflags=' '
    cccdlflags='-DPIC -fPIC '
    lddlflags='-shared -fPIC  -L/usr/local/lib -fstack-protector-strong'


Characteristics of this binary (from libperl): 
  Compile-time options:
    HAS_LONG_DOUBLE
    HAS_STRTOLD
    HAS_TIMES
    MULTIPLICITY
    PERLIO_LAYERS
    PERL_COPY_ON_WRITE
    PERL_DONT_CREATE_GVSV
    PERL_HASH_FUNC_SIPHASH13
    PERL_HASH_USE_SBOX32
    PERL_MALLOC_WRAP
    PERL_OP_PARENT
    PERL_PRESERVE_IVUV
    PERL_USE_SAFE_PUTENV
    USE_64_BIT_ALL
    USE_64_BIT_INT
    USE_ITHREADS
    USE_LARGE_FILES
    USE_LOCALE
    USE_LOCALE_COLLATE
    USE_LOCALE_CTYPE
    USE_LOCALE_NUMERIC
    USE_LOCALE_TIME
    USE_PERLIO
    USE_PERL_ATOF
    USE_REENTRANT_API
  Built under openbsd
  Compiled at Oct 30 2023 14:09:08
  %ENV:
    PERL5LIB="/home/cpan/.cpan/build/Modern-Perl-1.20230106-0/blib/arch:/home/cpan/.cpan/build/Modern-Perl-1.20230106-0/blib/lib:/home/cpan/perl5/lib/perl5"
    PERL5OPT=""
    PERL5_CPANPLUS_IS_RUNNING="33573"
    PERL5_CPAN_IS_RUNNING="33573"
    PERL5_CPAN_IS_RUNNING_IN_RECURSION="65837,33573"
    PERL_LOCAL_LIB_ROOT="/home/cpan/perl5"
    PERL_MB_OPT="--install_base /home/cpan/perl5"
    PERL_MM_OPT="INSTALL_BASE=/home/cpan/perl5"
    PERL_MM_USE_DEFAULT="1"
    PERL_USE_UNSAFE_INC="1"
  @INC:
    /home/cpan/.cpan/build/Modern-Perl-1.20230106-0/blib/arch
    /home/cpan/.cpan/build/Modern-Perl-1.20230106-0/blib/lib
    /home/cpan/perl5/lib/perl5/5.38.0/OpenBSD.amd64-openbsd-thread-multi
    /home/cpan/perl5/lib/perl5/5.38.0
    /home/cpan/perl5/lib/perl5/OpenBSD.amd64-openbsd-thread-multi
    /home/cpan/perl5/lib/perl5
    /opt/perl/perl5.38.0/lib/site_perl/5.38.0/OpenBSD.amd64-openbsd-thread-multi
    /opt/perl/perl5.38.0/lib/site_perl/5.38.0
    /opt/perl/perl5.38.0/lib/5.38.0/OpenBSD.amd64-openbsd-thread-multi
    /opt/perl/perl5.38.0/lib/5.38.0
    .