HiD v1.991 Perl 5 v5.27.5 darwin-2level
- Status
- Pass
- From
- John SJ Anderson
- Dist
-
HiD v1.991
- Platform
- Perl 5 v5.27.5 darwin-2level
- Date
- 2017-10-21 23:12:29
- ID
- 4f8b94ea-b6b5-11e7-9037-8311f7364574
This distribution has been tested as part of the CPAN Testers
project, supporting the Perl programming language. See
http://wiki.cpantesters.org/ for more information or email
questions to cpan-testers-discuss@perl.org
--
Dear GENEHACK,
This is a computer-generated report for HiD-1.991
on perl 5.27.5, created by App::cpanminus::reporter 0.17 (1.7043).
Thank you for uploading your work to CPAN. Congratulations!
All tests were successful.
Sections of this report:
* Tester comments
* Program output
* Prerequisites
* Environment and other context
------------------------------
TESTER COMMENTS
------------------------------
Additional comments from tester:
none provided
------------------------------
PROGRAM OUTPUT
------------------------------
Output from '':
Running Makefile.PL
Warning: prerequisite Data::Page 0 not found.
Warning: prerequisite Data::Printer 0.35 not found.
Warning: prerequisite Log::Log4perl 0 not found.
Warning: prerequisite MooseX::App::Cmd 0 not found.
Warning: prerequisite MooseX::App::Cmd::Command 0 not found.
Warning: prerequisite Test::File::Contents 0 not found.
Warning: prerequisite Test::Routine 0 not found.
Warning: prerequisite Test::Routine::Util 0 not found.
Warning: prerequisite Text::Handlebars 0 not found.
Warning: prerequisite Text::MultiMarkdown 0 not found.
Warning: prerequisite Text::Textile 0 not found.
Warning: prerequisite Text::Xslate 0 not found.
Warning: prerequisite XML::Feed 0 not found.
Warning: prerequisite XML::Feed::Entry 0 not found.
Warning: prerequisite YAML::XS 0 not found.
Checking if your kit is complete...
Looks good
Generating a Unix-style Makefile
Writing Makefile for HiD
Writing MYMETA.yml and MYMETA.json
-> OK
Checking dependencies from MYMETA.json ...
Checking if you have utf8 0 ... Yes (1.20)
Checking if you have DateTime 0 ... Yes (1.44)
Checking if you have File::Find::Rule 0 ... Yes (0.34)
Checking if you have blib 1.01 ... Yes (1.06)
Checking if you have Template 0 ... Yes (2.27)
Checking if you have App::Cmd::Tester 0 ... Yes (0.331)
Checking if you have open 0 ... Yes (1.11)
Checking if you have Test::Warn 0 ... Yes (0.32)
Checking if you have Exporter 0 ... Yes (5.72)
Checking if you have ExtUtils::MakeMaker 0 ... Yes (7.30)
Checking if you have Plack::Handler::Standalone 0 ... Yes (undef)
Checking if you have YAML::Tiny 0 ... Yes (1.70)
Checking if you have strict 0 ... Yes (1.11)
Checking if you have Plack::Builder 0 ... Yes (undef)
Checking if you have IPC::Open3 0 ... Yes (1.20)
Checking if you have feature 0 ... Yes (1.49)
Checking if you have MooseX::App::Cmd::Command 0 ... No
Checking if you have Moose::Role 0 ... Yes (2.2006)
Checking if you have Log::Log4perl 0 ... No
Checking if you have HTTP::Request::Common 0 ... Yes (6.13)
Checking if you have IO::Handle 0 ... Yes (1.36)
Checking if you have Test::More 0 ... Yes (1.302103)
Checking if you have String::Errf 0 ... Yes (0.008)
Checking if you have Text::Xslate 0 ... No
Checking if you have Carp 0 ... Yes (1.43)
Checking if you have Date::Parse 0 ... Yes (2.30)
Checking if you have Plack::Runner 0 ... Yes (undef)
Checking if you have File::Spec 0 ... Yes (3.68)
Checking if you have Test::File 0 ... Yes (1.443)
Checking if you have MooseX::Getopt 0 ... Yes (0.71)
Checking if you have Moose 0 ... Yes (2.2006)
Checking if you have Test::File::Contents 0 ... No
Checking if you have Plack::Test 0 ... Yes (undef)
Checking if you have Moose::Util::TypeConstraints 0 ... Yes (2.2006)
Checking if you have Plack::App::File 0 ... Yes (undef)
Checking if you have Try::Tiny 0 ... Yes (0.28)
Checking if you have Class::Load 0 ... Yes (0.24)
Checking if you have XML::Feed::Entry 0 ... No
Checking if you have namespace::autoclean 0 ... Yes (0.28)
Checking if you have Data::Page 0 ... No
Checking if you have XML::Feed 0 ... No
Checking if you have Text::MultiMarkdown 0 ... No
Checking if you have Test::Routine 0 ... No
Checking if you have YAML::XS 0 ... No
Checking if you have File::Copy 0 ... Yes (2.32)
Checking if you have FindBin 0 ... Yes (1.51)
Checking if you have Plack::Loader::Restarter 0 ... Yes (undef)
Checking if you have Test::Routine::Util 0 ... No
Checking if you have warnings 0 ... Yes (1.37)
Checking if you have MooseX::App::Cmd 0 ... No
Checking if you have Data::Printer 0.35 ... No
Checking if you have parent 0 ... Yes (0.236)
Checking if you have Text::Handlebars 0 ... No
Checking if you have lib 0 ... Yes (0.64)
Checking if you have Path::Tiny 0.054 ... Yes (0.104)
Checking if you have Text::Markdown 0 ... Yes (1.000031)
Checking if you have autodie 0 ... Yes (2.29)
Checking if you have charnames 0 ... Yes (1.45)
Checking if you have Text::Textile 0 ... No
==> Found dependencies: MooseX::App::Cmd::Command, Log::Log4perl, Text::Xslate, Test::File::Contents, XML::Feed::Entry, Data::Page, XML::Feed, Text::MultiMarkdown, Test::Routine, YAML::XS, Test::Routine::Util, MooseX::App::Cmd, Data::Printer, Text::Handlebars, Text::Textile
Searching MooseX::App::Cmd::Command (0) on cpanmetadb ...
--> Working on MooseX::App::Cmd::Command
Fetching http://www.cpan.org/authors/id/E/ET/ETHER/MooseX-App-Cmd-0.32.tar.gz
-> OK
Unpacking MooseX-App-Cmd-0.32.tar.gz
Installing /opt/plenv/versions/5.27.5/lib/perl5/site_perl/5.27.5/MooseX/App/Cmd.pm
Installing /opt/plenv/versions/5.27.5/lib/perl5/site_perl/5.27.5/MooseX/App/Cmd/Command.pm
Installing /opt/plenv/versions/5.27.5/man/man3/MooseX::App::Cmd::Command.3
Installing /opt/plenv/versions/5.27.5/man/man3/MooseX::App::Cmd.3
-> OK
Successfully installed MooseX-App-Cmd-0.32
Installing /opt/plenv/versions/5.27.5/lib/perl5/site_perl/5.27.5/darwin-2level/.meta/MooseX-App-Cmd-0.32/MYMETA.json
Installing /opt/plenv/versions/5.27.5/lib/perl5/site_perl/5.27.5/darwin-2level/.meta/MooseX-App-Cmd-0.32/install.json
Searching Log::Log4perl (0) on cpanmetadb ...
--> Working on Log::Log4perl
Fetching http://www.cpan.org/authors/id/M/MS/MSCHILLI/Log-Log4perl-1.49.tar.gz
-> OK
Unpacking Log-Log4perl-1.49.tar.gz
Manifying 1 pod document
Manifying 51 pod documents
Installing /opt/plenv/versions/5.27.5/lib/perl5/site_perl/5.27.5/Log/Log4perl.pm
Installing /opt/plenv/versions/5.27.5/lib/perl5/site_perl/5.27.5/Log/Log4perl/Resurrector.pm
Installing /opt/plenv/versions/5.27.5/lib/perl5/site_perl/5.27.5/Log/Log4perl/NDC.pm
Installing /opt/plenv/versions/5.27.5/lib/perl5/site_perl/5.27.5/Log/Log4perl/JavaMap.pm
Installing /opt/plenv/versions/5.27.5/lib/perl5/site_perl/5.27.5/Log/Log4perl/Config.pm
Installing /opt/plenv/versions/5.27.5/lib/perl5/site_perl/5.27.5/Log/Log4perl/Catalyst.pm
Installing /opt/plenv/versions/5.27.5/lib/perl5/site_perl/5.27.5/Log/Log4perl/Layout.pm
Installing /opt/plenv/versions/5.27.5/lib/perl5/site_perl/5.27.5/Log/Log4perl/Util.pm
Installing /opt/plenv/versions/5.27.5/lib/perl5/site_perl/5.27.5/Log/Log4perl/Logger.pm
Installing /opt/plenv/versions/5.27.5/lib/perl5/site_perl/5.27.5/Log/Log4perl/Filter.pm
Installing /opt/plenv/versions/5.27.5/lib/perl5/site_perl/5.27.5/Log/Log4perl/Level.pm
Installing /opt/plenv/versions/5.27.5/lib/perl5/site_perl/5.27.5/Log/Log4perl/DateFormat.pm
Installing /opt/plenv/versions/5.27.5/lib/perl5/site_perl/5.27.5/Log/Log4perl/Appender.pm
Installing /opt/plenv/versions/5.27.5/lib/perl5/site_perl/5.27.5/Log/Log4perl/FAQ.pm
Installing /opt/plenv/versions/5.27.5/lib/perl5/site_perl/5.27.5/Log/Log4perl/InternalDebug.pm
Installing /opt/plenv/versions/5.27.5/lib/perl5/site_perl/5.27.5/Log/Log4perl/MDC.pm
Installing /opt/plenv/versions/5.27.5/lib/perl5/site_perl/5.27.5/Log/Log4perl/Appender/DBI.pm
Installing /opt/plenv/versions/5.27.5/lib/perl5/site_perl/5.27.5/Log/Log4perl/Appender/ScreenColoredLevels.pm
Installing /opt/plenv/versions/5.27.5/lib/perl5/site_perl/5.27.5/Log/Log4perl/Appender/Screen.pm
Installing /opt/plenv/versions/5.27.5/lib/perl5/site_perl/5.27.5/Log/Log4perl/Appender/TestFileCreeper.pm
Installing /opt/plenv/versions/5.27.5/lib/perl5/site_perl/5.27.5/Log/Log4perl/Appender/TestBuffer.pm
Installing /opt/plenv/versions/5.27.5/lib/perl5/site_perl/5.27.5/Log/Log4perl/Appender/Limit.pm
Installing /opt/plenv/versions/5.27.5/lib/perl5/site_perl/5.27.5/Log/Log4perl/Appender/RRDs.pm
Installing /opt/plenv/versions/5.27.5/lib/perl5/site_perl/5.27.5/Log/Log4perl/Appender/Synchronized.pm
Installing /opt/plenv/versions/5.27.5/lib/perl5/site_perl/5.27.5/Log/Log4perl/Appender/File.pm
Installing /opt/plenv/versions/5.27.5/lib/perl5/site_perl/5.27.5/Log/Log4perl/Appender/Buffer.pm
Installing /opt/plenv/versions/5.27.5/lib/perl5/site_perl/5.27.5/Log/Log4perl/Appender/TestArrayBuffer.pm
Installing /opt/plenv/versions/5.27.5/lib/perl5/site_perl/5.27.5/Log/Log4perl/Appender/Socket.pm
Installing /opt/plenv/versions/5.27.5/lib/perl5/site_perl/5.27.5/Log/Log4perl/Appender/String.pm
Installing /opt/plenv/versions/5.27.5/lib/perl5/site_perl/5.27.5/Log/Log4perl/Util/TimeTracker.pm
Installing /opt/plenv/versions/5.27.5/lib/perl5/site_perl/5.27.5/Log/Log4perl/Util/Semaphore.pm
Installing /opt/plenv/versions/5.27.5/lib/perl5/site_perl/5.27.5/Log/Log4perl/Config/DOMConfigurator.pm
Installing /opt/plenv/versions/5.27.5/lib/perl5/site_perl/5.27.5/Log/Log4perl/Config/PropertyConfigurator.pm
Installing /opt/plenv/versions/5.27.5/lib/perl5/site_perl/5.27.5/Log/Log4perl/Config/Watch.pm
Installing /opt/plenv/versions/5.27.5/lib/perl5/site_perl/5.27.5/Log/Log4perl/Config/BaseConfigurator.pm
Installing /opt/plenv/versions/5.27.5/lib/perl5/site_perl/5.27.5/Log/Log4perl/Layout/PatternLayout.pm
Installing /opt/plenv/versions/5.27.5/lib/perl5/site_perl/5.27.5/Log/Log4perl/Layout/NoopLayout.pm
Installing /opt/plenv/versions/5.27.5/lib/perl5/site_perl/5.27.5/Log/Log4perl/Layout/SimpleLayout.pm
Installing /opt/plenv/versions/5.27.5/lib/perl5/site_perl/5.27.5/Log/Log4perl/Layout/PatternLayout/Multiline.pm
Installing /opt/plenv/versions/5.27.5/lib/perl5/site_perl/5.27.5/Log/Log4perl/Filter/StringMatch.pm
Installing /opt/plenv/versions/5.27.5/lib/perl5/site_perl/5.27.5/Log/Log4perl/Filter/Boolean.pm
Installing /opt/plenv/versions/5.27.5/lib/perl5/site_perl/5.27.5/Log/Log4perl/Filter/LevelRange.pm
Installing /opt/plenv/versions/5.27.5/lib/perl5/site_perl/5.27.5/Log/Log4perl/Filter/MDC.pm
Installing /opt/plenv/versions/5.27.5/lib/perl5/site_perl/5.27.5/Log/Log4perl/Filter/LevelMatch.pm
Installing /opt/plenv/versions/5.27.5/lib/perl5/site_perl/5.27.5/Log/Log4perl/JavaMap/JDBCAppender.pm
Installing /opt/plenv/versions/5.27.5/lib/perl5/site_perl/5.27.5/Log/Log4perl/JavaMap/NTEventLogAppender.pm
Installing /opt/plenv/versions/5.27.5/lib/perl5/site_perl/5.27.5/Log/Log4perl/JavaMap/TestBuffer.pm
Installing /opt/plenv/versions/5.27.5/lib/perl5/site_perl/5.27.5/Log/Log4perl/JavaMap/RollingFileAppender.pm
Installing /opt/plenv/versions/5.27.5/lib/perl5/site_perl/5.27.5/Log/Log4perl/JavaMap/FileAppender.pm
Installing /opt/plenv/versions/5.27.5/lib/perl5/site_perl/5.27.5/Log/Log4perl/JavaMap/ConsoleAppender.pm
Installing /opt/plenv/versions/5.27.5/lib/perl5/site_perl/5.27.5/Log/Log4perl/JavaMap/SyslogAppender.pm
Installing /opt/plenv/versions/5.27.5/man/man1/l4p-tmpl.1
Installing /opt/plenv/versions/5.27.5/man/man3/Log::Log4perl::Filter::MDC.3
Installing /opt/plenv/versions/5.27.5/man/man3/Log::Log4perl::Config::DOMConfigurator.3
Installing /opt/plenv/versions/5.27.5/man/man3/Log::Log4perl::Appender::TestArrayBuffer.3
Installing /opt/plenv/versions/5.27.5/man/man3/Log::Log4perl::Appender.3
Installing /opt/plenv/versions/5.27.5/man/man3/Log::Log4perl::Appender::File.3
Installing /opt/plenv/versions/5.27.5/man/man3/Log::Log4perl::Filter.3
Installing /opt/plenv/versions/5.27.5/man/man3/Log::Log4perl::Appender::Buffer.3
Installing /opt/plenv/versions/5.27.5/man/man3/Log::Log4perl::Util.3
Installing /opt/plenv/versions/5.27.5/man/man3/Log::Log4perl::Level.3
Installing /opt/plenv/versions/5.27.5/man/man3/Log::Log4perl::Util::TimeTracker.3
Installing /opt/plenv/versions/5.27.5/man/man3/Log::Log4perl::MDC.3
Installing /opt/plenv/versions/5.27.5/man/man3/Log::Log4perl::JavaMap::JDBCAppender.3
Installing /opt/plenv/versions/5.27.5/man/man3/Log::Log4perl::Logger.3
Installing /opt/plenv/versions/5.27.5/man/man3/Log::Log4perl::NDC.3
Installing /opt/plenv/versions/5.27.5/man/man3/Log::Log4perl::Appender::DBI.3
Installing /opt/plenv/versions/5.27.5/man/man3/Log::Log4perl::JavaMap::FileAppender.3
Installing /opt/plenv/versions/5.27.5/man/man3/Log::Log4perl::Layout::SimpleLayout.3
Installing /opt/plenv/versions/5.27.5/man/man3/Log::Log4perl::JavaMap::ConsoleAppender.3
Installing /opt/plenv/versions/5.27.5/man/man3/Log::Log4perl::Filter::LevelMatch.3
Installing /opt/plenv/versions/5.27.5/man/man3/Log::Log4perl::Resurrector.3
Installing /opt/plenv/versions/5.27.5/man/man3/Log::Log4perl::Appender::Screen.3
Installing /opt/plenv/versions/5.27.5/man/man3/Log::Log4perl::Appender::TestBuffer.3
Installing /opt/plenv/versions/5.27.5/man/man3/Log::Log4perl::Appender::Limit.3
Installing /opt/plenv/versions/5.27.5/man/man3/Log::Log4perl::Filter::Boolean.3
Installing /opt/plenv/versions/5.27.5/man/man3/Log::Log4perl::Layout::NoopLayout.3
Installing /opt/plenv/versions/5.27.5/man/man3/Log::Log4perl::Appender::String.3
Installing /opt/plenv/versions/5.27.5/man/man3/Log::Log4perl::Appender::Socket.3
Installing /opt/plenv/versions/5.27.5/man/man3/Log::Log4perl::Appender::RRDs.3
Installing /opt/plenv/versions/5.27.5/man/man3/Log::Log4perl::Config::PropertyConfigurator.3
Installing /opt/plenv/versions/5.27.5/man/man3/Log::Log4perl::Layout.3
Installing /opt/plenv/versions/5.27.5/man/man3/Log::Log4perl::DateFormat.3
Installing /opt/plenv/versions/5.27.5/man/man3/Log::Log4perl::InternalDebug.3
Installing /opt/plenv/versions/5.27.5/man/man3/Log::Log4perl::Appender::Synchronized.3
Installing /opt/plenv/versions/5.27.5/man/man3/Log::Log4perl::Appender::TestFileCreeper.3
Installing /opt/plenv/versions/5.27.5/man/man3/Log::Log4perl.3
Installing /opt/plenv/versions/5.27.5/man/man3/Log::Log4perl::JavaMap::NTEventLogAppender.3
Installing /opt/plenv/versions/5.27.5/man/man3/Log::Log4perl::Config::Watch.3
Installing /opt/plenv/versions/5.27.5/man/man3/Log::Log4perl::Layout::PatternLayout.3
Installing /opt/plenv/versions/5.27.5/man/man3/Log::Log4perl::JavaMap::SyslogAppender.3
Installing /opt/plenv/versions/5.27.5/man/man3/Log::Log4perl::Util::Semaphore.3
Installing /opt/plenv/versions/5.27.5/man/man3/Log::Log4perl::JavaMap.3
Installing /opt/plenv/versions/5.27.5/man/man3/Log::Log4perl::Layout::PatternLayout::Multiline.3
Installing /opt/plenv/versions/5.27.5/man/man3/Log::Log4perl::JavaMap::TestBuffer.3
Installing /opt/plenv/versions/5.27.5/man/man3/Log::Log4perl::Filter::LevelRange.3
Installing /opt/plenv/versions/5.27.5/man/man3/Log::Log4perl::JavaMap::RollingFileAppender.3
Installing /opt/plenv/versions/5.27.5/man/man3/Log::Log4perl::Config.3
Installing /opt/plenv/versions/5.27.5/man/man3/Log::Log4perl::Filter::StringMatch.3
Installing /opt/plenv/versions/5.27.5/man/man3/Log::Log4perl::Config::BaseConfigurator.3
Installing /opt/plenv/versions/5.27.5/man/man3/Log::Log4perl::Appender::ScreenColoredLevels.3
Installing /opt/plenv/versions/5.27.5/man/man3/Log::Log4perl::FAQ.3
Installing /opt/plenv/versions/5.27.5/man/man3/Log::Log4perl::Catalyst.3
Installing /opt/plenv/versions/5.27.5/bin/l4p-tmpl
Appending installation info to /opt/plenv/versions/5.27.5/lib/perl5/5.27.5/darwin-2level/perllocal.pod
-> OK
Successfully installed Log-Log4perl-1.49
Installing /opt/plenv/versions/5.27.5/lib/perl5/site_perl/5.27.5/darwin-2level/.meta/Log-Log4perl-1.49/MYMETA.json
Installing /opt/plenv/versions/5.27.5/lib/perl5/site_perl/5.27.5/darwin-2level/.meta/Log-Log4perl-1.49/install.json
Searching Text::Xslate (0) on cpanmetadb ...
--> Working on Text::Xslate
Fetching http://www.cpan.org/authors/id/S/SY/SYOHEX/Text-Xslate-3.4.0.tar.gz
-> OK
Unpacking Text-Xslate-3.4.0.tar.gz
Building Mouse
Generate Mouse::Tiny ...
done.
xs-src/MouseAccessor.xs => xs-src/MouseAccessor.c
xs-src/MouseAttribute.xs => xs-src/MouseAttribute.c
xs-src/MouseTypeConstraints.xs => xs-src/MouseTypeConstraints.c
xs-src/MouseUtil.xs => xs-src/MouseUtil.c
cc -I. -Ixs-src -I/opt/plenv/versions/5.27.5/lib/perl5/5.27.5/darwin-2level/CORE -Wall -W -Wno-comment -c -fno-common -DPERL_DARWIN -mmacosx-version-min=10.13 -fno-strict-aliasing -pipe -fstack-protector-strong -I/usr/local/include -I/opt/local/include -DPERL_USE_SAFE_PUTENV -O3 -o xs-src/MouseAccessor.o xs-src/MouseAccessor.c
cc -I. -Ixs-src -I/opt/plenv/versions/5.27.5/lib/perl5/5.27.5/darwin-2level/CORE -Wall -W -Wno-comment -c -fno-common -DPERL_DARWIN -mmacosx-version-min=10.13 -fno-strict-aliasing -pipe -fstack-protector-strong -I/usr/local/include -I/opt/local/include -DPERL_USE_SAFE_PUTENV -O3 -o xs-src/MouseAttribute.o xs-src/MouseAttribute.c
cc -I. -Ixs-src -I/opt/plenv/versions/5.27.5/lib/perl5/5.27.5/darwin-2level/CORE -Wall -W -Wno-comment -c -fno-common -DPERL_DARWIN -mmacosx-version-min=10.13 -fno-strict-aliasing -pipe -fstack-protector-strong -I/usr/local/include -I/opt/local/include -DPERL_USE_SAFE_PUTENV -O3 -o xs-src/MouseTypeConstraints.o xs-src/MouseTypeConstraints.c
cc -I. -Ixs-src -I/opt/plenv/versions/5.27.5/lib/perl5/5.27.5/darwin-2level/CORE -Wall -W -Wno-comment -c -fno-common -DPERL_DARWIN -mmacosx-version-min=10.13 -fno-strict-aliasing -pipe -fstack-protector-strong -I/usr/local/include -I/opt/local/include -DPERL_USE_SAFE_PUTENV -O3 -o xs-src/MouseUtil.o xs-src/MouseUtil.c
cc -mmacosx-version-min=10.13 -bundle -undefined dynamic_lookup -L/usr/local/lib -L/opt/local/lib -fstack-protector-strong -o blib/arch/auto/Mouse/Mouse.bundle lib/Mouse.o xs-src/MouseAccessor.o xs-src/MouseAttribute.o xs-src/MouseTypeConstraints.o xs-src/MouseUtil.o
Files found in blib/arch: installing files in blib/lib into architecture dependent library tree
Installing /opt/plenv/versions/5.27.5/lib/perl5/site_perl/5.27.5/darwin-2level/auto/Mouse/Mouse.bs
Installing /opt/plenv/versions/5.27.5/lib/perl5/site_perl/5.27.5/darwin-2level/auto/Mouse/Mouse.bundle
Installing /opt/plenv/versions/5.27.5/lib/perl5/site_perl/5.27.5/darwin-2level/Squirrel.pm
Installing /opt/plenv/versions/5.27.5/lib/perl5/site_perl/5.27.5/darwin-2level/ouse.pm
Installing /opt/plenv/versions/5.27.5/lib/perl5/site_perl/5.27.5/darwin-2level/Mouse.pm
Installing /opt/plenv/versions/5.27.5/lib/perl5/site_perl/5.27.5/darwin-2level/Test/Mouse.pm
Installing /opt/plenv/versions/5.27.5/lib/perl5/site_perl/5.27.5/darwin-2level/Mouse/Tiny.pm
Installing /opt/plenv/versions/5.27.5/lib/perl5/site_perl/5.27.5/darwin-2level/Mouse/Object.pm
Installing /opt/plenv/versions/5.27.5/lib/perl5/site_perl/5.27.5/darwin-2level/Mouse/Exporter.pm
Installing /opt/plenv/versions/5.27.5/lib/perl5/site_perl/5.27.5/darwin-2level/Mouse/PurePerl.pm
Installing /opt/plenv/versions/5.27.5/lib/perl5/site_perl/5.27.5/darwin-2level/Mouse/Util.pm
Installing /opt/plenv/versions/5.27.5/lib/perl5/site_perl/5.27.5/darwin-2level/Mouse/Role.pm
Installing /opt/plenv/versions/5.27.5/lib/perl5/site_perl/5.27.5/darwin-2level/Mouse/Tiny.pod
Installing /opt/plenv/versions/5.27.5/lib/perl5/site_perl/5.27.5/darwin-2level/Mouse/Spec.pm
Installing /opt/plenv/versions/5.27.5/lib/perl5/site_perl/5.27.5/darwin-2level/Mouse/XS.pod
Installing /opt/plenv/versions/5.27.5/lib/perl5/site_perl/5.27.5/darwin-2level/Mouse/TypeRegistry.pm
Installing /opt/plenv/versions/5.27.5/lib/perl5/site_perl/5.27.5/darwin-2level/Mouse/Util/TypeConstraints.pm
Installing /opt/plenv/versions/5.27.5/lib/perl5/site_perl/5.27.5/darwin-2level/Mouse/Util/MetaRole.pm
Installing /opt/plenv/versions/5.27.5/lib/perl5/site_perl/5.27.5/darwin-2level/Mouse/Meta/Attribute.pm
Installing /opt/plenv/versions/5.27.5/lib/perl5/site_perl/5.27.5/darwin-2level/Mouse/Meta/Role.pm
Installing /opt/plenv/versions/5.27.5/lib/perl5/site_perl/5.27.5/darwin-2level/Mouse/Meta/TypeConstraint.pm
Installing /opt/plenv/versions/5.27.5/lib/perl5/site_perl/5.27.5/darwin-2level/Mouse/Meta/Method.pm
Installing /opt/plenv/versions/5.27.5/lib/perl5/site_perl/5.27.5/darwin-2level/Mouse/Meta/Class.pm
Installing /opt/plenv/versions/5.27.5/lib/perl5/site_perl/5.27.5/darwin-2level/Mouse/Meta/Module.pm
Installing /opt/plenv/versions/5.27.5/lib/perl5/site_perl/5.27.5/darwin-2level/Mouse/Meta/Role/Application.pm
Installing /opt/plenv/versions/5.27.5/lib/perl5/site_perl/5.27.5/darwin-2level/Mouse/Meta/Role/Composite.pm
Installing /opt/plenv/versions/5.27.5/lib/perl5/site_perl/5.27.5/darwin-2level/Mouse/Meta/Role/Method.pm
Installing /opt/plenv/versions/5.27.5/lib/perl5/site_perl/5.27.5/darwin-2level/Mouse/Meta/Method/Accessor.pm
Installing /opt/plenv/versions/5.27.5/lib/perl5/site_perl/5.27.5/darwin-2level/Mouse/Meta/Method/Destructor.pm
Installing /opt/plenv/versions/5.27.5/lib/perl5/site_perl/5.27.5/darwin-2level/Mouse/Meta/Method/Constructor.pm
Installing /opt/plenv/versions/5.27.5/lib/perl5/site_perl/5.27.5/darwin-2level/Mouse/Meta/Method/Delegation.pm
Installing /opt/plenv/versions/5.27.5/lib/perl5/site_perl/5.27.5/darwin-2level/Squirrel/Role.pm
Installing /opt/plenv/versions/5.27.5/man/man3/Mouse::Meta::Role::Application.3
Installing /opt/plenv/versions/5.27.5/man/man3/Mouse::XS.3
Installing /opt/plenv/versions/5.27.5/man/man3/Mouse::Meta::TypeConstraint.3
Installing /opt/plenv/versions/5.27.5/man/man3/Mouse.3
Installing /opt/plenv/versions/5.27.5/man/man3/Mouse::Spec.3
Installing /opt/plenv/versions/5.27.5/man/man3/Mouse::Meta::Role.3
Installing /opt/plenv/versions/5.27.5/man/man3/Mouse::Util.3
Installing /opt/plenv/versions/5.27.5/man/man3/Mouse::Meta::Method::Destructor.3
Installing /opt/plenv/versions/5.27.5/man/man3/Mouse::Tiny.3
Installing /opt/plenv/versions/5.27.5/man/man3/Mouse::Meta::Method::Accessor.3
Installing /opt/plenv/versions/5.27.5/man/man3/Test::Mouse.3
Installing /opt/plenv/versions/5.27.5/man/man3/Mouse::Meta::Module.3
Installing /opt/plenv/versions/5.27.5/man/man3/ouse.3
Installing /opt/plenv/versions/5.27.5/man/man3/Mouse::TypeRegistry.3
Installing /opt/plenv/versions/5.27.5/man/man3/Mouse::Object.3
Installing /opt/plenv/versions/5.27.5/man/man3/Mouse::Meta::Class.3
Installing /opt/plenv/versions/5.27.5/man/man3/Squirrel.3
Installing /opt/plenv/versions/5.27.5/man/man3/Mouse::PurePerl.3
Installing /opt/plenv/versions/5.27.5/man/man3/Mouse::Util::TypeConstraints.3
Installing /opt/plenv/versions/5.27.5/man/man3/Mouse::Meta::Attribute.3
Installing /opt/plenv/versions/5.27.5/man/man3/Mouse::Exporter.3
Installing /opt/plenv/versions/5.27.5/man/man3/Mouse::Meta::Method::Delegation.3
Installing /opt/plenv/versions/5.27.5/man/man3/Squirrel::Role.3
Installing /opt/plenv/versions/5.27.5/man/man3/Mouse::Meta::Method::Constructor.3
Installing /opt/plenv/versions/5.27.5/man/man3/Mouse::Meta::Role::Composite.3
Installing /opt/plenv/versions/5.27.5/man/man3/Mouse::Meta::Method.3
Installing /opt/plenv/versions/5.27.5/man/man3/Mouse::Role.3
Installing /opt/plenv/versions/5.27.5/man/man3/Mouse::Util::MetaRole.3
Installing /opt/plenv/versions/5.27.5/man/man3/Mouse::Meta::Role::Method.3
-> OK
Successfully installed Mouse-v2.4.10
Installing /opt/plenv/versions/5.27.5/lib/perl5/site_perl/5.27.5/darwin-2level/.meta/Mouse-v2.4.10/MYMETA.json
Installing /opt/plenv/versions/5.27.5/lib/perl5/site_perl/5.27.5/darwin-2level/.meta/Mouse-v2.4.10/install.json
Searching Data::MessagePack (0.38) on cpanmetadb ...
--> Working on Data::MessagePack
Fetching http://www.cpan.org/authors/id/S/SY/SYOHEX/Data-MessagePack-1.00.tar.gz
-> OK
Unpacking Data-MessagePack-1.00.tar.gz
"/opt/plenv/versions/5.27.5/bin/perl5.27.5" "-Iinc" -MExtUtils::Command::MM -e 'cp_nonempty' -- MessagePack.bs blib/arch/auto/Data/MessagePack/MessagePack.bs 644
Manifying 3 pod documents
Files found in blib/arch: installing files in blib/lib into architecture dependent library tree
Installing /opt/plenv/versions/5.27.5/lib/perl5/site_perl/5.27.5/darwin-2level/auto/Data/MessagePack/MessagePack.bundle
Installing /opt/plenv/versions/5.27.5/lib/perl5/site_perl/5.27.5/darwin-2level/Data/MessagePack.pm
Installing /opt/plenv/versions/5.27.5/lib/perl5/site_perl/5.27.5/darwin-2level/Data/MessagePack/PP.pm
Installing /opt/plenv/versions/5.27.5/lib/perl5/site_perl/5.27.5/darwin-2level/Data/MessagePack/Boolean.pm
Installing /opt/plenv/versions/5.27.5/lib/perl5/site_perl/5.27.5/darwin-2level/Data/MessagePack/Unpacker.pod
Installing /opt/plenv/versions/5.27.5/man/man3/Data::MessagePack.3
Installing /opt/plenv/versions/5.27.5/man/man3/Data::MessagePack::PP.3
Installing /opt/plenv/versions/5.27.5/man/man3/Data::MessagePack::Unpacker.3
Appending installation info to /opt/plenv/versions/5.27.5/lib/perl5/5.27.5/darwin-2level/perllocal.pod
-> OK
Successfully installed Data-MessagePack-1.00
Installing /opt/plenv/versions/5.27.5/lib/perl5/site_perl/5.27.5/darwin-2level/.meta/Data-MessagePack-1.00/MYMETA.json
Installing /opt/plenv/versions/5.27.5/lib/perl5/site_perl/5.27.5/darwin-2level/.meta/Data-MessagePack-1.00/install.json
Building and testing Text-Xslate-3.4.0
cp lib/Text/Xslate.pm blib/lib/Text/Xslate.pm
cp lib/Text/Xslate/Type/Raw.pm blib/lib/Text/Xslate/Type/Raw.pm
cp lib/Text/Xslate/Bridge/Star.pm blib/lib/Text/Xslate/Bridge/Star.pm
cp lib/Text/Xslate/Syntax/TTerse.pm blib/lib/Text/Xslate/Syntax/TTerse.pm
cp lib/Text/Xslate/HashWithDefault.pm blib/lib/Text/Xslate/HashWithDefault.pm
cp lib/Text/Xslate/Bridge.pm blib/lib/Text/Xslate/Bridge.pm
cp lib/Text/Xslate/PP/Const.pm blib/lib/Text/Xslate/PP/Const.pm
cp lib/Text/Xslate/Parser.pm blib/lib/Text/Xslate/Parser.pm
cp lib/Text/Xslate/Manual/Builtin.pod blib/lib/Text/Xslate/Manual/Builtin.pod
cp lib/Text/Xslate/Syntax/Metakolon.pm blib/lib/Text/Xslate/Syntax/Metakolon.pm
cp lib/Text/Xslate/PP/Type/Pair.pm blib/lib/Text/Xslate/PP/Type/Pair.pm
cp lib/Text/Xslate/Manual/Cookbook.pod blib/lib/Text/Xslate/Manual/Cookbook.pod
cp lib/Text/Xslate/Syntax/Kolon.pm blib/lib/Text/Xslate/Syntax/Kolon.pm
cp lib/Text/Xslate/PP/Type/Macro.pm blib/lib/Text/Xslate/PP/Type/Macro.pm
cp lib/Text/Xslate/Manual/FAQ.pod blib/lib/Text/Xslate/Manual/FAQ.pod
cp lib/Text/Xslate/PP/Opcode.pm blib/lib/Text/Xslate/PP/Opcode.pm
cp lib/Text/Xslate/Manual.pod blib/lib/Text/Xslate/Manual.pod
cp lib/Text/Xslate/Manual/Debugging.pod blib/lib/Text/Xslate/Manual/Debugging.pod
cp lib/Text/Xslate/PP/State.pm blib/lib/Text/Xslate/PP/State.pm
cp lib/Text/Xslate/Runner.pm blib/lib/Text/Xslate/Runner.pm
cp lib/Text/Xslate/Compiler.pm blib/lib/Text/Xslate/Compiler.pm
cp lib/Text/Xslate/PP.pm blib/lib/Text/Xslate/PP.pm
cp lib/Text/Xslate/PP/Type/Raw.pm blib/lib/Text/Xslate/PP/Type/Raw.pm
cp lib/Text/Xslate/Util.pm blib/lib/Text/Xslate/Util.pm
cp lib/Text/Xslate/Symbol.pm blib/lib/Text/Xslate/Symbol.pm
cp lib/Text/Xslate/PP/Method.pm blib/lib/Text/Xslate/PP/Method.pm
Running Mkbootstrap for Xslate ()
chmod 644 "Xslate.bs"
"/opt/plenv/versions/5.27.5/bin/perl5.27.5" "-Iinc" -MExtUtils::Command::MM -e 'cp_nonempty' -- Xslate.bs blib/arch/auto/Text/Xslate/Xslate.bs 644
"/opt/plenv/versions/5.27.5/bin/perl5.27.5" "-Iinc" "/opt/plenv/versions/5.27.5/lib/perl5/5.27.5/ExtUtils/xsubpp" -typemap '/opt/plenv/versions/5.27.5/lib/perl5/5.27.5/ExtUtils/typemap' src/Text-Xslate.xs > src/Text-Xslate.xsc
mv src/Text-Xslate.xsc src/Text-Xslate.c
cc -c "-I." "-I." -fno-common -DPERL_DARWIN -mmacosx-version-min=10.13 -fno-strict-aliasing -pipe -fstack-protector-strong -I/usr/local/include -I/opt/local/include -DPERL_USE_SAFE_PUTENV -Wall -W -Wno-comment -O3 -DVERSION=\"3.4.0\" -DXS_VERSION=\"3.4.0\" -o src/Text-Xslate.o "-I/opt/plenv/versions/5.27.5/lib/perl5/5.27.5/darwin-2level/CORE" -DUSE_PPPORT src/Text-Xslate.c
"/opt/plenv/versions/5.27.5/bin/perl5.27.5" "-Iinc" "/opt/plenv/versions/5.27.5/lib/perl5/5.27.5/ExtUtils/xsubpp" -typemap '/opt/plenv/versions/5.27.5/lib/perl5/5.27.5/ExtUtils/typemap' src/xslate_methods.xs > src/xslate_methods.xsc
mv src/xslate_methods.xsc src/xslate_methods.c
cc -c "-I." "-I." -fno-common -DPERL_DARWIN -mmacosx-version-min=10.13 -fno-strict-aliasing -pipe -fstack-protector-strong -I/usr/local/include -I/opt/local/include -DPERL_USE_SAFE_PUTENV -Wall -W -Wno-comment -O3 -DVERSION=\"3.4.0\" -DXS_VERSION=\"3.4.0\" -o src/xslate_methods.o "-I/opt/plenv/versions/5.27.5/lib/perl5/5.27.5/darwin-2level/CORE" -DUSE_PPPORT src/xslate_methods.c
rm -f blib/arch/auto/Text/Xslate/Xslate.bundle
cc -mmacosx-version-min=10.13 -bundle -undefined dynamic_lookup -L/usr/local/lib -L/opt/local/lib -fstack-protector-strong src/Text-Xslate.o src/xslate_methods.o -o blib/arch/auto/Text/Xslate/Xslate.bundle \
\
chmod 755 blib/arch/auto/Text/Xslate/Xslate.bundle
cp script/xslate blib/script/xslate
"/opt/plenv/versions/5.27.5/bin/perl5.27.5" "-Iinc" -MExtUtils::MY -e 'MY->fixin(shift)' -- blib/script/xslate
Manifying 1 pod document
Manifying 26 pod documents
"/opt/plenv/versions/5.27.5/bin/perl5.27.5" "-Iinc" -MExtUtils::Command::MM -e 'cp_nonempty' -- Xslate.bs blib/arch/auto/Text/Xslate/Xslate.bs 644
PERL_DL_NONLAZY=1 "/opt/plenv/versions/5.27.5/bin/perl5.27.5" "-MExtUtils::Command::MM" "-MTest::Harness" "-e" "undef *Test::Harness::Switches; test_harness(0, 'inc', 'blib/lib', 'blib/arch'); " t/*.t t/010_internals/*.t t/020_interface/*.t t/030_kolon/*.t t/040_tterse/*.t t/050_builtins/*.t t/100_plugin/*.t t/200_app/*.t t/300_examples/*.t t/900_bugs/*.t
# Testing Text::Xslate/3.4.0
# Backend: XS
# $ENV{XSLATE}=
t/000_load.t .................................... ok
t/010_internals/001_parse.t ..................... ok
t/010_internals/002_compile.t ................... ok
t/010_internals/003_assemble.t .................. ok
t/010_internals/004_magic.t ..................... ok
t/010_internals/005_load_file.t ................. ok
t/010_internals/006_errhandler.t ................ ok
t/010_internals/007_compile_errs.t .............. ok
t/010_internals/008_files.t ..................... ok
t/010_internals/009_goto_address.t .............. ok
t/010_internals/010_line_number.t ............... ok
t/010_internals/011_missuse.t ................... ok
t/010_internals/012_multilines.t ................ ok
t/010_internals/013_deps_str.t .................. ok
t/010_internals/014_deps_file.t ................. ok
t/010_internals/015_deps_file2.t ................ ok
t/010_internals/016_cached.t .................... ok
t/010_internals/017_render.t .................... ok
t/010_internals/018_opinfo.t .................... ok
t/010_internals/019_runtime_error.t ............. ok
t/010_internals/020_optimize.t .................. ok
t/010_internals/021_edge_cases.t ................ ok
t/010_internals/022_signal.t .................... ok
t/010_internals/023_cachepath.t ................. ok
t/010_internals/024_die_in_macros.t ............. ok
t/010_internals/025_reset_hooks.t ............... ok
t/010_internals/026_issue16_deep_recursion.t .... ok
t/010_internals/027_infinite_warn.t ............. ok
t/010_internals/028_taint.t ..................... ok
t/010_internals/029_large_file.t ................ ok
t/010_internals/030_die_in_funcs.t .............. ok
t/010_internals/031_save_src.t .................. ok
t/010_internals/032_encoding_error.t ............ skipped: TODO: the behaviours of PP and XS does not match
t/010_internals/033_vpath_cache.t ............... ok
t/010_internals/034_is_code_ref.t ............... ok
t/010_internals/036_merge_hash.t ................ ok
t/010_internals/037_find_file.t ................. ok
t/010_internals/038_suffix.t .................... ok
t/010_internals/039_taint_issue84.t ............. ok
t/010_internals/100_threads.t ................... skipped: multi-threading tests
t/010_internals/200_leaktrace.t ................. ok
t/010_internals/300_explicit_pp.t ............... ok
t/020_interface/001_parser_option.t ............. ok
t/020_interface/002_myparser.t .................. ok
t/020_interface/003_encoding.t .................. ok
t/020_interface/004_no_vars.t ................... ok
t/020_interface/005_util.t ...................... ok
t/020_interface/006_psgi.t ...................... ok
t/020_interface/007_data_section.t .............. ok
t/020_interface/008_type.t ...................... ok
t/020_interface/009_hash_with_default.t ......... ok
t/020_interface/010_err_encoding.t .............. ok
t/020_interface/011_hwd_w_include_vars.t ........ ok
t/020_interface/012_default_functions.t ......... ok
t/020_interface/013_slurp_template.t ............ ok
t/020_interface/014_customize_option.t .......... ok
t/020_interface/015_render_recursion.t .......... ok
t/020_interface/016_pre_process_handler.t ....... ok
t/020_interface/017_validate.t .................. ok
t/030_kolon/001_interpolate.t ................... ok
t/030_kolon/002_field.t ......................... ok
t/030_kolon/003_for.t ........................... ok
t/030_kolon/004_if.t ............................ ok
t/030_kolon/005_rel_ops.t ....................... ok
t/030_kolon/006_arith_ops.t ..................... ok
t/030_kolon/007_log_ops.t ....................... ok
t/030_kolon/008_literal.t ....................... ok
t/030_kolon/009_include.t ....................... ok
t/030_kolon/010_escaped_str.t ................... ok
t/030_kolon/011_macro.t ......................... ok
t/030_kolon/012_cascade.t ....................... ok
t/030_kolon/013_more_field.t .................... ok
t/030_kolon/014_while.t ......................... ok
t/030_kolon/015_methods.t ....................... ok
t/030_kolon/016_funcs.t ......................... ok
t/030_kolon/017_more_macro.t .................... ok
t/030_kolon/018_dynamic_filters.t ............... ok
t/030_kolon/019_explicit_interpolate.t .......... ok
t/030_kolon/020_chomp.t ......................... ok
t/030_kolon/021_overlay.t ....................... ok
t/030_kolon/022_given.t ......................... ok
t/030_kolon/023_bitwise.t ....................... ok
t/030_kolon/024_localize_vars.t ................. ok
t/030_kolon/025_objectliteral.t ................. ok
t/030_kolon/026_constant.t ...................... ok
t/030_kolon/027_lambda.t ........................ ok
t/030_kolon/028_smartmatch.t .................... ok
t/030_kolon/029_blockfilter.t ................... ok
t/030_kolon/030_xfuncs.t ........................ ok
t/030_kolon/031_post_if.t ....................... ok
t/030_kolon/032_include_bareword.t .............. ok
t/030_kolon/033_ov_forloop.t .................... ok
t/030_kolon/034_print.t ......................... ok
t/030_kolon/035_include_w_vars.t ................ ok
t/030_kolon/036_foreach_else.t .................. ok
t/030_kolon/037_loop_ctl.t ...................... ok
t/030_kolon/038_custom_esc.t .................... ok
t/030_kolon/039_root_vars.t ..................... ok
t/030_kolon/040_external_macro.t ................ skipped: external macros are not yet implemented
t/040_tterse/001_parse.t ........................ ok
t/040_tterse/002_interpolate.t .................. ok
t/040_tterse/003_field.t ........................ ok
t/040_tterse/004_for.t .......................... ok
t/040_tterse/005_if.t ........................... ok
t/040_tterse/006_include.t ...................... ok
t/040_tterse/007_funcs.t ........................ ok
t/040_tterse/008_methods.t ...................... ok
t/040_tterse/009_comments.t ..................... ok
t/040_tterse/010_expr.t ......................... ok
t/040_tterse/011_objectliterals.t ............... ok
t/040_tterse/012_macro.t ........................ ok
t/040_tterse/013_wrapper.t ...................... ok
t/040_tterse/014_set.t .......................... ok
t/040_tterse/015_while.t ........................ ok
t/040_tterse/016_call.t ......................... ok
t/040_tterse/017_filter.t ....................... ok
t/040_tterse/018_process.t ...................... ok
t/040_tterse/019_switch.t ....................... ok
t/040_tterse/020_chomp.t ........................ ok
t/040_tterse/021_fake_use.t ..................... ok
t/040_tterse/022_post_if.t ...................... ok
t/040_tterse/023_loop_ctl.t ..................... ok
t/040_tterse/024_for_else.t ..................... ok
t/040_tterse/025_macro.t ........................ ok
t/040_tterse/100_not_supported.t ................ ok
t/050_builtins/001_builtin_funcs.t .............. ok
t/050_builtins/002_autobox.t .................... ok
t/050_builtins/003_autobox_w_cb.t ............... ok
t/050_builtins/004_copied.t ..................... ok
t/100_plugin/001_import_from.t .................. ok
t/100_plugin/002_import.t ....................... ok
t/100_plugin/003_bridge.t ....................... ok
t/100_plugin/004_star.t ......................... ok
t/100_plugin/005_html_builder_module.t .......... ok
t/100_plugin/100_error.t ........................ ok
t/200_app/001_hello.t ........................... ok
t/200_app/002_tree.t ............................ ok
t/200_app/003_runner.t .......................... ok
t/200_app/004_encoding.t ........................ ok
t/300_examples/001_basic.t ...................... ok
t/300_examples/002_cascade.t .................... ok
t/300_examples/003_metakolon.t .................. ok
t/300_examples/004_tterse.t ..................... ok
t/900_bugs/001_super.t .......................... ok
t/900_bugs/002_addfunc.t ........................ ok
t/900_bugs/003_frame_access.t ................... ok
t/900_bugs/004_errorhandling.t .................. ok
t/900_bugs/005_rec_include.t .................... ok
t/900_bugs/006_complex_lex.t .................... ok
t/900_bugs/007_uuv.t ............................ ok
t/900_bugs/008_include_var.t .................... ok
t/900_bugs/009_quote_in_comments.t .............. ok
t/900_bugs/010_widechar_for_md5.t ............... ok
t/900_bugs/011_reserved_words.t ................. ok
t/900_bugs/012_ltgt_in_comments.t ............... ok
t/900_bugs/013_comments_lineno.t ................ ok
t/900_bugs/014_too_large_int.t .................. ok
t/900_bugs/015_my_scope.t ....................... ok
t/900_bugs/016_x_in_tterse.t .................... ok
t/900_bugs/017_unallocated.t .................... skipped: not yet
t/900_bugs/019_nested_mm.t ...................... ok
t/900_bugs/020_switch_foo.t ..................... ok
t/900_bugs/021_cached_enc.t ..................... ok
t/900_bugs/022_empty_if_block.t ................. ok
t/900_bugs/023_deploy_problem.t ................. ok
t/900_bugs/024_use_cache.t ...................... ok
t/900_bugs/025_clobber-macro-args.t ............. ok
t/900_bugs/026_issue61.t ........................ ok
t/900_bugs/027_issue65.t ........................ ok
t/900_bugs/028_issue68.t ........................ ok
t/900_bugs/029_fork_and_cache.t ................. skipped: deal with memorycache-filecache-original model more effectively
t/900_bugs/030_issue71.t ........................ ok
t/900_bugs/031_yappo.t .......................... ok
t/900_bugs/032_issue79.t ........................ ok
t/900_bugs/033_ex_safe_render.t ................. ok
t/900_bugs/034_hash_key_utf8.t .................. ok
t/900_bugs/035_issue81_tiedhash.t ............... ok
t/900_bugs/036_vpath_utf8.t ..................... ok
t/900_bugs/037_text_str_key.t ................... ok
t/900_bugs/038_conbine_flaged_utf8_and_other.t .. ok
t/900_bugs/039_issue96.t ........................ ok
t/900_bugs/040_issue95.t ........................ ok
t/900_bugs/041_cachedir_other_process.t ......... ok
Text::Xslate: Iterating data must be an ARRAY reference, not 3 (<string>:2) at t/900_bugs/042_perl59_issue.t line 13.
----------------------------------------------------------------------------
: '/' ~ uri('a')
: for 3 -> $n { }
----------------------------------------------------------------------------
t/900_bugs/042_perl59_issue.t ................... ok
t/900_bugs/043_issue107.t ....................... ok
t/900_bugs/044_empty_result.t ................... ok
t/900_bugs/045_issue130.t ....................... ok
t/900_bugs/046_issue156.t ....................... ok
t/900_bugs/046_issue88.t ........................ ok
t/900_bugs/047_undef_concat.t ................... ok
t/900_bugs/048_issue172.t ....................... skipped: Test requires module 'Data::Section::Simple' but it's not found
All tests successful.
Files=191, Tests=2797, 35 wallclock secs ( 0.73 usr 0.42 sys + 25.14 cusr 4.49 csys = 30.78 CPU)
Result: PASS
------------------------------
PREREQUISITES
------------------------------
Prerequisite modules loaded:
No requirements found
------------------------------
ENVIRONMENT AND OTHER CONTEXT
------------------------------
Environment variables:
LANG = en_US.UTF-8
LC_ALL = en_US.UTF-8
PATH = /opt/plenv/versions/5.27.5/bin:/opt/plenv/libexec:/opt/plenv/plugins/perl-build/bin:/opt/plenv/shims:/opt/plenv/bin:/Users/genehack/bin:/opt/nvm/versions/node/v8.7.0/bin:/opt/go/bin:/opt/vim/bin:/opt/tmux/bin:/opt/python/bin:/opt/gitflow/bin:/opt/git/bin:/opt/emacs/bin:/opt/drafter/bin:/opt/local/bin:/usr/bin:/bin:/usr/sbin:/sbin:/usr/local/bin:/usr/X11/bin:/Users/genehack/proj/go/bin:/usr/local/share/dotnet
PERL_CPANM_OPT = --skip-installed --prompt
SHELL = /bin/zsh
TERM = screen-256color
TMPDIR = /var/folders/gd/n6xwfsjd0dzcngcyp60cxvth0000gn/T/
Perl special variables (and OS-specific diagnostics, for MSWin32):
EGID = 20 20 501 12 61 79 80 81 98 398 399 33 100 204 250 395
EUID = 501
EXECUTABLE_NAME = /opt/plenv/versions/5.27.5/bin/perl5.27.5
GID = 20 20 501 12 61 79 80 81 98 398 399 33 100 204 250 395
UID = 501
Perl module toolchain versions installed:
Module Have
------------------- --------
CPAN 2.18
CPAN::Meta 2.150010
Cwd 3.68
ExtUtils::CBuilder 0.280228
ExtUtils::Command 7.30
ExtUtils::Install 2.14
ExtUtils::MakeMaker 7.30
ExtUtils::Manifest 1.70
ExtUtils::ParseXS 3.35
File::Spec 3.68
JSON 2.94
JSON::PP 2.94
Module::Build 0.4224
Module::Signature n/a
Parse::CPAN::Meta 2.150010
Test::Harness 3.39
Test::More 1.302103
YAML 1.23
YAML::Syck n/a
version 0.9918
--
Summary of my perl5 (revision 5 version 27 subversion 5) configuration:
Platform:
osname=darwin
osvers=17.0.0
archname=darwin-2level
uname='darwin irving.home.genehack.org 17.0.0 darwin kernel version 17.0.0: thu aug 24 21:48:19 pdt 2017; root:xnu-4570.1.46~2release_x86_64 x86_64 i386 macbookpro11,1 darwin '
config_args='-Dprefix=/opt/plenv/versions/5.27.5 -de -Dusedevel -A'eval:scriptdir=/opt/plenv/versions/5.27.5/bin''
hint=recommended
useposix=true
d_sigaction=define
useithreads=undef
usemultiplicity=undef
use64bitint=define
use64bitall=define
uselongdouble=undef
usemymalloc=n
default_inc_excludes_dot=define
bincompat5005=undef
Compiler:
cc='cc'
ccflags ='-fno-common -DPERL_DARWIN -mmacosx-version-min=10.13 -fno-strict-aliasing -pipe -fstack-protector-strong -I/usr/local/include -I/opt/local/include -DPERL_USE_SAFE_PUTENV'
optimize='-O3'
cppflags='-fno-common -DPERL_DARWIN -mmacosx-version-min=10.13 -fno-strict-aliasing -pipe -fstack-protector-strong -I/usr/local/include -I/opt/local/include'
ccversion=''
gccversion='4.2.1 Compatible Apple LLVM 9.0.0 (clang-900.0.38)'
gccosandvers=''
intsize=4
longsize=8
ptrsize=8
doublesize=8
byteorder=12345678
doublekind=3
d_longlong=define
longlongsize=8
d_longdbl=define
longdblsize=16
longdblkind=3
ivtype='long'
ivsize=8
nvtype='double'
nvsize=8
Off_t='off_t'
lseeksize=8
alignbytes=8
prototype=define
Linker and Libraries:
ld='cc'
ldflags =' -mmacosx-version-min=10.13 -fstack-protector-strong -L/usr/local/lib -L/opt/local/lib'
libpth=/usr/local/lib /Applications/Xcode.app/Contents/Developer/Toolchains/XcodeDefault.xctoolchain/usr/lib/clang/9.0.0/lib /Applications/Xcode.app/Contents/Developer/Toolchains/XcodeDefault.xctoolchain/usr/lib /Applications/Xcode.app/Contents/Developer/Platforms/MacOSX.platform/Developer/SDKs/MacOSX10.13.sdk/usr/lib /opt/local/lib /usr/lib
libs=-lpthread -ldbm -ldl -lm -lutil -lc
perllibs=-lpthread -ldl -lm -lutil -lc
libc=
so=dylib
useshrplib=false
libperl=libperl.a
gnulibc_version=''
Dynamic Linking:
dlsrc=dl_dlopen.xs
dlext=bundle
d_dlsymun=undef
ccdlflags=' '
cccdlflags=' '
lddlflags=' -mmacosx-version-min=10.13 -bundle -undefined dynamic_lookup -L/usr/local/lib -L/opt/local/lib -fstack-protector-strong'
Characteristics of this binary (from libperl):
Compile-time options:
HAS_TIMES
PERLIO_LAYERS
PERL_COPY_ON_WRITE
PERL_DONT_CREATE_GVSV
PERL_MALLOC_WRAP
PERL_OP_PARENT
PERL_PRESERVE_IVUV
PERL_USE_DEVEL
PERL_USE_SAFE_PUTENV
USE_64_BIT_ALL
USE_64_BIT_INT
USE_LARGE_FILES
USE_LOCALE
USE_LOCALE_COLLATE
USE_LOCALE_CTYPE
USE_LOCALE_NUMERIC
USE_LOCALE_TIME
USE_PERLIO
USE_PERL_ATOF
Locally applied patches:
Devel::PatchPerl 1.48
Built under darwin
Compiled at Oct 21 2017 10:50:50
%ENV:
PERL_CPANM_OPT="--skip-installed --prompt"
@INC:
/opt/plenv/versions/5.27.5/lib/perl5/site_perl/5.27.5/darwin-2level
/opt/plenv/versions/5.27.5/lib/perl5/site_perl/5.27.5
/opt/plenv/versions/5.27.5/lib/perl5/5.27.5/darwin-2level
/opt/plenv/versions/5.27.5/lib/perl5/5.27.5