JPList v0.05 Perl 5 v5.27.3 x86_64-linux-multi
        
            - Status
- Pass
- From
- Serguei Trouchelle (STRO)
- Dist
- 
                JPList v0.05
            
- Platform
- Perl 5 v5.27.3 x86_64-linux-multi
- Date
- 2017-09-27 11:23:38
- ID
- 4f33f160-a376-11e7-ba7c-a9d16bd455be
This distribution has been tested as part of the CPAN Testers
project, supporting the Perl programming language.  See
http://wiki.cpantesters.org/ for more information or email
questions to cpan-testers-discuss@perl.org
--
Dear Sheeju Alex,
This is a computer-generated report for JPList-0.05
on perl 5.27.3, created by CPAN-Reporter-1.2018.
Thank you for uploading your work to CPAN.  Congratulations!
All tests were successful.
Sections of this report:
    * Tester comments
    * Program output
    * Prerequisites
    * Environment and other context
------------------------------
TESTER COMMENTS
------------------------------
Additional comments from tester:
this report is from an automated smoke testing program
and was not reviewed by a human for accuracy
------------------------------
PROGRAM OUTPUT
------------------------------
Output from '/usr/bin/make test':
PERL_DL_NONLAZY=1 "/home/stro/perl/5.27.3m/bin/perl" "-MExtUtils::Command::MM" "-MTest::Harness" "-e" "undef *Test::Harness::Switches; test_harness(0, 'blib/lib', 'blib/arch')" t/*.t
t/00-load.t ... ok
[jplist info] SELECT * FROM "Items" LIMIT ? OFFSET ?
[jplist info] bind_vals 10 0 
[jplist info] SELECT * FROM "Items" LIMIT ? OFFSET ?
[jplist info] bind_vals 10 10 
[jplist info] SELECT * FROM "Items" WHERE ( "Title" LIKE ? ) LIMIT ? OFFSET ?
[jplist info] bind_vals %Arch% 10 0 
t/01-run.t .... ok
t/manifest.t .. skipped: Author tests not required for installation
All tests successful.
Files=3, Tests=51,  2 wallclock secs ( 0.02 usr  0.00 sys +  0.44 cusr  0.02 csys =  0.48 CPU)
Result: PASS
------------------------------
PREREQUISITES
------------------------------
Prerequisite modules loaded:
requires:
    Module               Need   Have    
    -------------------- ------ --------
    JSON                 2.90   2.94    
    Moose                2.1604 2.2006  
    namespace::autoclean 0.28   0.28    
    perl                 5.006  5.027003
    SQL::Abstract        1.81   1.84    
    URI::Escape          1.72   3.31    
build_requires:
    Module               Need   Have    
    -------------------- ------ --------
    DBI                  1.630  1.637   
    FindBin              0      1.51    
    Test::Class          0.50   0.50    
    Test::Exception      0      0.43    
    Test::More           0      1.302096
    Test::Most           0.34   0.35    
configure_requires:
    Module               Need   Have    
    -------------------- ------ --------
    ExtUtils::MakeMaker  0      7.30    
------------------------------
ENVIRONMENT AND OTHER CONTEXT
------------------------------
Environment variables:
    AUTOMATED_TESTING = 1
    LANG = en_US.UTF-8
    PATH = /usr/local/bin:/usr/bin:/bin:/usr/local/games:/usr/games
    PERL5LIB = 
    PERL5OPT = 
    PERL5_CPANPLUS_IS_RUNNING = 8871
    PERL5_CPAN_IS_RUNNING = 8871
    PERL5_CPAN_IS_RUNNING_IN_RECURSION = 31132,8871
    PERL_CR_SMOKER_CURRENT = JPList-0.05
    PERL_EXTUTILS_AUTOINSTALL = --defaultdeps
    PERL_MM_USE_DEFAULT = 1
    PERL_USE_UNSAFE_INC = 1
    SHELL = /bin/bash
    TERM = xterm-256color
Perl special variables (and OS-specific diagnostics, for MSWin32):
    $^X = /home/stro/perl/5.27.3m/bin/perl
    $UID/$EUID = 1000 / 1000
    $GID = 1000 24 25 29 30 44 46 108 114 1000
    $EGID = 1000 24 25 29 30 44 46 108 114 1000
Perl module toolchain versions installed:
    Module              Have    
    ------------------- --------
    CPAN                2.18    
    CPAN::Meta          2.150010
    Cwd                 3.68    
    ExtUtils::CBuilder  0.280228
    ExtUtils::Command   7.30    
    ExtUtils::Install   2.14    
    ExtUtils::MakeMaker 7.30    
    ExtUtils::Manifest  1.70    
    ExtUtils::ParseXS   3.35    
    File::Spec          3.68    
    JSON                2.94    
    JSON::PP            2.94    
    Module::Build       0.4224  
    Module::Signature   0.81    
    Parse::CPAN::Meta   2.150010
    Test::Harness       3.39    
    Test::More          1.302096
    YAML                1.23    
    YAML::Syck          1.30    
    version             0.9918  
--
Summary of my perl5 (revision 5 version 27 subversion 3) configuration:
   
  Platform:
    osname=linux
    osvers=3.16.0-4-amd64
    archname=x86_64-linux-multi
    uname='linux vm-debian-001 3.16.0-4-amd64 #1 smp debian 3.16.7-ckt11-1 (2015-05-24) x86_64 gnulinux '
    config_args=''
    hint=recommended
    useposix=true
    d_sigaction=define
    useithreads=undef
    usemultiplicity=define
    use64bitint=define
    use64bitall=define
    uselongdouble=undef
    usemymalloc=n
    default_inc_excludes_dot=define
    bincompat5005=undef
  Compiler:
    cc='cc'
    ccflags ='-fwrapv -fno-strict-aliasing -pipe -fstack-protector-strong -I/usr/local/include -D_LARGEFILE_SOURCE -D_FILE_OFFSET_BITS=64 -D_FORTIFY_SOURCE=2'
    optimize='-O2'
    cppflags='-fwrapv -fno-strict-aliasing -pipe -fstack-protector-strong -I/usr/local/include'
    ccversion=''
    gccversion='4.9.2'
    gccosandvers=''
    intsize=4
    longsize=8
    ptrsize=8
    doublesize=8
    byteorder=12345678
    doublekind=3
    d_longlong=define
    longlongsize=8
    d_longdbl=define
    longdblsize=16
    longdblkind=3
    ivtype='long'
    ivsize=8
    nvtype='double'
    nvsize=8
    Off_t='off_t'
    lseeksize=8
    alignbytes=8
    prototype=define
  Linker and Libraries:
    ld='cc'
    ldflags =' -fstack-protector-strong -L/usr/local/lib'
    libpth=/usr/local/lib /usr/lib/gcc/x86_64-linux-gnu/4.9/include-fixed /usr/include/x86_64-linux-gnu /usr/lib /lib/x86_64-linux-gnu /lib/../lib /usr/lib/x86_64-linux-gnu /usr/lib/../lib /lib
    libs=-lpthread -lnsl -ldl -lm -lcrypt -lutil -lc
    perllibs=-lpthread -lnsl -ldl -lm -lcrypt -lutil -lc
    libc=libc-2.19.so
    so=so
    useshrplib=false
    libperl=libperl.a
    gnulibc_version='2.19'
  Dynamic Linking:
    dlsrc=dl_dlopen.xs
    dlext=so
    d_dlsymun=undef
    ccdlflags='-Wl,-E'
    cccdlflags='-fPIC'
    lddlflags='-shared -O2 -L/usr/local/lib -fstack-protector-strong'
Characteristics of this binary (from libperl): 
  Compile-time options:
    HAS_TIMES
    MULTIPLICITY
    PERLIO_LAYERS
    PERL_COPY_ON_WRITE
    PERL_DONT_CREATE_GVSV
    PERL_IMPLICIT_CONTEXT
    PERL_MALLOC_WRAP
    PERL_OP_PARENT
    PERL_PRESERVE_IVUV
    USE_64_BIT_ALL
    USE_64_BIT_INT
    USE_LARGE_FILES
    USE_LOCALE
    USE_LOCALE_COLLATE
    USE_LOCALE_CTYPE
    USE_LOCALE_NUMERIC
    USE_LOCALE_TIME
    USE_PERLIO
    USE_PERL_ATOF
  Built under linux
  Compiled at Sep 17 2017 07:09:44
  %ENV:
    PERL5LIB=""
    PERL5OPT=""
    PERL5_CPANPLUS_IS_RUNNING="8871"
    PERL5_CPAN_IS_RUNNING="8871"
    PERL5_CPAN_IS_RUNNING_IN_RECURSION="31132,8871"
    PERL_CR_SMOKER_CURRENT="JPList-0.05"
    PERL_EXTUTILS_AUTOINSTALL="--defaultdeps"
    PERL_MM_USE_DEFAULT="1"
    PERL_USE_UNSAFE_INC="1"
  @INC:
    /home/stro/perl/5.27.3m/lib/site_perl/5.27.3/x86_64-linux-multi
    /home/stro/perl/5.27.3m/lib/site_perl/5.27.3
    /home/stro/perl/5.27.3m/lib/5.27.3/x86_64-linux-multi
    /home/stro/perl/5.27.3m/lib/5.27.3
    .