Test-Class-Moose v0.91 Perl 5 v5.14.4 amd64-freebsd

Status
Pass
From
Slaven Rezić (SREZIC)
Dist
Test-Class-Moose v0.91
Platform
Perl 5 v5.14.4 amd64-freebsd
Date
2017-12-08 00:32:44
ID
4edde380-dbaf-11e7-88e4-baf32c27abaa
This distribution has been tested as part of the CPAN Testers
project, supporting the Perl programming language.  See
http://wiki.cpantesters.org/ for more information or email
questions to cpan-testers-discuss@perl.org


--
Dear Dave Rolsky,

This is a computer-generated report for Test-Class-Moose-0.91
on perl 5.14.4, created by CPAN-Reporter-1.2018.

Thank you for uploading your work to CPAN.  Congratulations!
All tests were successful.

Sections of this report:

    * Tester comments
    * Program output
    * Prerequisites
    * Environment and other context

------------------------------
TESTER COMMENTS
------------------------------

Additional comments from tester:

none provided

------------------------------
PROGRAM OUTPUT
------------------------------

Output from '/usr/bin/make test':

PERL_DL_NONLAZY=1 "/usr/local/bin/perl5.14.4" "-MExtUtils::Command::MM" "-MTest::Harness" "-e" "undef *Test::Harness::Switches; test_harness(0, 'blib/lib', 'blib/arch')" t/*.t
# 
# Versions for all modules listed in MYMETA.json (including optional ones):
# 
# === Configure Requires ===
# 
#     Module              Want Have
#     ------------------- ---- ----
#     ExtUtils::MakeMaker  any 7.30
# 
# === Build Requires ===
# 
#     Module              Want Have
#     ------------------- ---- ----
#     ExtUtils::MakeMaker  any 7.30
# 
# === Test Requires ===
# 
#     Module                    Want     Have
#     --------------------- -------- --------
#     ExtUtils::MakeMaker        any     7.30
#     File::Spec                 any     3.62
#     File::Temp                 any   0.2304
#     Test2::Tools::Basic        any 0.000094
#     Test2::Tools::Class        any 0.000094
#     Test2::Tools::Compare      any 0.000094
#     Test2::Tools::Subtest      any 0.000094
#     Test2::V0                  any 0.000094
#     Test::More            1.302015 1.302120
#     Test::Requires             any     0.10
#     Test::Warnings             any    0.026
#     lib                        any     0.63
# 
# === Test Recommends ===
# 
#     Module           Want     Have
#     ------------ -------- --------
#     CPAN::Meta   2.120900 2.150010
#     Test::Output   0.0005    1.031
# 
# === Runtime Requires ===
# 
#     Module                            Want     Have
#     ---------------------------- --------- --------
#     Benchmark                          any     1.12
#     Carp                               any     1.38
#     Class::MOP                         any   2.2008
#     Exporter                           any     5.72
#     File::Find                         any     1.19
#     File::Spec                         any     3.62
#     Import::Into                       any 1.002005
#     JSON                               any     2.94
#     List::SomeUtils                    any     0.56
#     List::Util                         any     1.49
#     Module::Runtime                    any    0.016
#     Module::Util                       any     1.09
#     Moose                           2.0000   2.2008
#     Moose::Role                     2.0000   2.2008
#     Moose::Util::TypeConstraints       any   2.2008
#     MooseX::Getopt                    0.71     0.71
#     MooseX::Getopt::Dashes             any     0.71
#     Package::DeprecationManager       0.16     0.17
#     Parallel::ForkManager              any     1.19
#     Scalar::Util                       any     1.49
#     Sub::Attribute                     any     0.06
#     TAP::Formatter::Color             3.29     3.39
#     Test2                        1.1302118 1.302120
#     Test2::API                         any 1.302120
#     Test2::AsyncSubtest           0.000018 0.000094
#     Test2::IPC                         any 1.302120
#     Test2::Tools::AsyncSubtest         any 0.000094
#     Test::Most                         any     0.35
#     Try::Tiny                          any     0.28
#     namespace::autoclean               any     0.28
#     strict                             any     1.04
#     warnings                           any     1.12
# 
# === Runtime Recommends ===
# 
#     Module                  Want Have
#     --------------------- ------ ----
#     Parallel::ForkManager v0.7.6 1.19
# 
t/00-report-prereqs.t .......... ok
t/autouse.t .................... ok
t/bare.t ....................... ok
t/basic.t ...................... ok
t/cli.t ........................ ok
t/environment.t ................ ok
t/include_classes.t ............ ok
t/include_exclude.t ............ ok
t/load.t ....................... ok
t/no_tests_run.t ............... ok
t/non_randomize_classes.t ...... ok
.......................t/parallel.t ................... ok
t/parameterized.t .............. ok
t/plans.t ...................... ok
t/process_name.t ............... ok
t/reportpassed.t ............... ok
t/skip.t ....................... ok
t/tags.t ....................... ok
t/test_class_is_not_loaded.t ... ok
t/test_control_methods.t ....... ok
t/test_control_methods_skip.t .. ok
t/timing.t ..................... ok
All tests successful.
Files=22, Tests=204, 22 wallclock secs ( 0.27 usr  0.08 sys + 12.02 cusr  2.85 csys = 15.22 CPU)
Result: PASS

------------------------------
PREREQUISITES
------------------------------

Prerequisite modules loaded:

requires:

    Module                       Need      Have    
    ---------------------------- --------- --------
    Benchmark                    0         1.12    
    Carp                         0         1.38    
    Class::MOP                   0         2.2008  
    Exporter                     0         5.72    
    File::Find                   0         1.19    
    File::Spec                   0         3.62    
    Import::Into                 0         1.002005
    JSON                         0         2.94    
    List::SomeUtils              0         0.56    
    List::Util                   0         1.49    
    Module::Runtime              0         0.016   
    Module::Util                 0         1.09    
    Moose                        2.0000    2.2008  
    Moose::Role                  2.0000    2.2008  
    Moose::Util::TypeConstraints 0         2.2008  
    MooseX::Getopt               0.71      0.71    
    MooseX::Getopt::Dashes       0         0.71    
    namespace::autoclean         0         0.28    
    Package::DeprecationManager  0.16      0.17    
    Parallel::ForkManager        0         1.19    
    perl                         5.010000  5.014004
    Scalar::Util                 0         1.49    
    strict                       0         1.04    
    Sub::Attribute               0         0.06    
    TAP::Formatter::Color        3.29      3.39    
    Test2                        1.1302118 1.302120
    Test2::API                   0         1.302120
    Test2::AsyncSubtest          0.000018  0.000094
    Test2::IPC                   0         1.302120
    Test2::Tools::AsyncSubtest   0         0.000094
    Test::Most                   0         0.35    
    Try::Tiny                    0         0.28    
    warnings                     0         1.12    

build_requires:

    Module                       Need      Have    
    ---------------------------- --------- --------
    ExtUtils::MakeMaker          0         7.30    
    File::Spec                   0         3.62    
    File::Temp                   0         0.2304  
    lib                          0         0.63    
    Test2::Tools::Basic          0         0.000094
    Test2::Tools::Class          0         0.000094
    Test2::Tools::Compare        0         0.000094
    Test2::Tools::Subtest        0         0.000094
    Test2::V0                    0         0.000094
    Test::More                   1.302015  1.302120
    Test::Requires               0         0.10    
    Test::Warnings               0         0.026   

configure_requires:

    Module                       Need      Have    
    ---------------------------- --------- --------
    ExtUtils::MakeMaker          0         7.30    


------------------------------
ENVIRONMENT AND OTHER CONTEXT
------------------------------

Environment variables:

    PATH = /usr/local/bin:/usr/bin:/bin:/usr/local/sbin:/usr/sbin:/sbin:/home/cpansand/bin/freebsd12.0:/home/cpansand/bin/sh:/home/cpansand/bin:/usr/games:/home/cpansand/devel:/home/eserte/src/srezic-misc/scripts
    PERL5LIB = /home/cpansand/.cpan/build/2017120806/Sub-Attribute-0.06-pEUGM0/blib/arch:/home/cpansand/.cpan/build/2017120806/Sub-Attribute-0.06-pEUGM0/blib/lib:/home/cpansand/.cpan/build/2017120806/Class-Trigger-0.14-AcRbTy/blib/arch:/home/cpansand/.cpan/build/2017120806/Class-Trigger-0.14-AcRbTy/blib/lib:/home/cpansand/.cpan/build/2017120806/Test2-Suite-0.000094-Totn0r/blib/arch:/home/cpansand/.cpan/build/2017120806/Test2-Suite-0.000094-Totn0r/blib/lib:/home/cpansand/.cpan/build/2017120806/Test-Simple-1.302120-fqMd1l/blib/arch:/home/cpansand/.cpan/build/2017120806/Test-Simple-1.302120-fqMd1l/blib/lib
    PERL5OPT = 
    PERL5_CPANPLUS_IS_RUNNING = 4236
    PERL5_CPAN_IS_RUNNING = 4236
    PERL5_CPAN_IS_RUNNING_IN_RECURSION = 4201,4236
    PERLDOC = -MPod::Perldoc::ToTextOverstrike
    PERL_BATCH = yes
    PERL_CANARY_STABILITY_NOPROMPT = 1
    PERL_CPAN_REPORTER_CONFIG = /var/tmp/cpansmoker-1023/2017120806/cpanreporter_000_config.ini
    PERL_EXTUTILS_AUTOINSTALL = --defaultdeps
    SHELL = /usr/local/bin/zsh
    TERM = screen
    TMPDIR = /var/tmp/cpansmoker-1023/2017120806

Perl special variables (and OS-specific diagnostics, for MSWin32):

    $^X = /usr/local/bin/perl5.14.4
    $UID/$EUID = 1023 / 1023
    $GID = 1023 1023
    $EGID = 1023 1023

Perl module toolchain versions installed:

    Module              Have     
    ------------------- ---------
    CPAN                1.9600_01
    CPAN::Meta          2.150010 
    Cwd                 3.62     
    ExtUtils::CBuilder  0.280230 
    ExtUtils::Command   7.30     
    ExtUtils::Install   2.06     
    ExtUtils::MakeMaker 7.30     
    ExtUtils::Manifest  1.70     
    ExtUtils::ParseXS   3.35     
    File::Spec          3.62     
    JSON                2.94     
    JSON::PP            2.94     
    Module::Build       0.4224   
    Module::Signature   n/a      
    Parse::CPAN::Meta   2.150010 
    Test::Harness       3.39     
    Test::More          1.302120 
    YAML                1.24     
    YAML::Syck          1.30     
    version             0.9918   


--

Summary of my perl5 (revision 5 version 14 subversion 4) configuration:
   
  Platform:
    osname=freebsd, osvers=12.0-current, archname=amd64-freebsd
    uname='freebsd ali1.bbbike.org 12.0-current freebsd 12.0-current #0 bd8385a990e(master)-dirty: fri nov 17 03:13:11 utc 2017 root@ali1.bbbike.org:usrobjhomeprojectsfreebsdamd64.amd64sysgeneric-nodebug amd64 '
    config_args='-ds -e -Dprefix=/usr/perl5.14.4p -Dcf_email=srezic@cpan.org -Doptimize=-O2 -pipe'
    hint=recommended, useposix=true, d_sigaction=define
    useithreads=undef, usemultiplicity=undef
    useperlio=define, d_sfio=undef, uselargefiles=define, usesocks=undef
    use64bitint=define, use64bitall=define, uselongdouble=undef
    usemymalloc=n, bincompat5005=undef
  Compiler:
    cc='cc', ccflags ='-DHAS_FPSETMASK -DHAS_FLOATINGPOINT_H -fno-strict-aliasing -pipe -fstack-protector -I/usr/local/include',
    optimize='-O2 -pipe',
    cppflags='-DHAS_FPSETMASK -DHAS_FLOATINGPOINT_H -fno-strict-aliasing -pipe -fstack-protector -I/usr/local/include'
    ccversion='', gccversion='4.2.1 Compatible FreeBSD Clang 5.0.0 (tags/RELEASE_500/final 312559)', gccosandvers=''
    intsize=4, longsize=8, ptrsize=8, doublesize=8, byteorder=12345678
    d_longlong=define, longlongsize=8, d_longdbl=define, longdblsize=16
    ivtype='long', ivsize=8, nvtype='double', nvsize=8, Off_t='off_t', lseeksize=8
    alignbytes=8, prototype=define
  Linker and Libraries:
    ld='cc', ldflags ='-pthread -Wl,-E  -fstack-protector -L/usr/local/lib'
    libpth=/usr/lib /usr/local/lib
    libs=-lgdbm -lm -lcrypt -lutil -lc
    perllibs=-lm -lcrypt -lutil -lc
    libc=, so=so, useshrplib=false, libperl=libperl.a
    gnulibc_version=''
  Dynamic Linking:
    dlsrc=dl_dlopen.xs, dlext=so, d_dlsymun=undef, ccdlflags=' '
    cccdlflags='-DPIC -fPIC', lddlflags='-shared  -L/usr/local/lib -fstack-protector'


Characteristics of this binary (from libperl): 
  Compile-time options: PERL_DONT_CREATE_GVSV PERL_MALLOC_WRAP
                        PERL_PRESERVE_IVUV USE_64_BIT_ALL USE_64_BIT_INT
                        USE_LARGE_FILES USE_PERLIO USE_PERL_ATOF
  Built under freebsd
  Compiled at Nov 17 2017 07:31:56
  %ENV:
    PERL5LIB="/home/cpansand/.cpan/build/2017120806/Sub-Attribute-0.06-pEUGM0/blib/arch:/home/cpansand/.cpan/build/2017120806/Sub-Attribute-0.06-pEUGM0/blib/lib:/home/cpansand/.cpan/build/2017120806/Class-Trigger-0.14-AcRbTy/blib/arch:/home/cpansand/.cpan/build/2017120806/Class-Trigger-0.14-AcRbTy/blib/lib:/home/cpansand/.cpan/build/2017120806/Test2-Suite-0.000094-Totn0r/blib/arch:/home/cpansand/.cpan/build/2017120806/Test2-Suite-0.000094-Totn0r/blib/lib:/home/cpansand/.cpan/build/2017120806/Test-Simple-1.302120-fqMd1l/blib/arch:/home/cpansand/.cpan/build/2017120806/Test-Simple-1.302120-fqMd1l/blib/lib"
    PERL5OPT=""
    PERL5_CPANPLUS_IS_RUNNING="4236"
    PERL5_CPAN_IS_RUNNING="4236"
    PERL5_CPAN_IS_RUNNING_IN_RECURSION="4201,4236"
    PERLDOC="-MPod::Perldoc::ToTextOverstrike"
    PERL_BATCH="yes"
    PERL_CANARY_STABILITY_NOPROMPT="1"
    PERL_CPAN_REPORTER_CONFIG="/var/tmp/cpansmoker-1023/2017120806/cpanreporter_000_config.ini"
    PERL_EXTUTILS_AUTOINSTALL="--defaultdeps"
  @INC:
    /home/cpansand/.cpan/build/2017120806/Sub-Attribute-0.06-pEUGM0/blib/arch
    /home/cpansand/.cpan/build/2017120806/Sub-Attribute-0.06-pEUGM0/blib/lib
    /home/cpansand/.cpan/build/2017120806/Class-Trigger-0.14-AcRbTy/blib/arch
    /home/cpansand/.cpan/build/2017120806/Class-Trigger-0.14-AcRbTy/blib/lib
    /home/cpansand/.cpan/build/2017120806/Test2-Suite-0.000094-Totn0r/blib/arch
    /home/cpansand/.cpan/build/2017120806/Test2-Suite-0.000094-Totn0r/blib/lib
    /home/cpansand/.cpan/build/2017120806/Test-Simple-1.302120-fqMd1l/blib/arch
    /home/cpansand/.cpan/build/2017120806/Test-Simple-1.302120-fqMd1l/blib/lib
    /usr/perl5.14.4p/lib/site_perl/5.14.4/amd64-freebsd
    /usr/perl5.14.4p/lib/site_perl/5.14.4
    /usr/perl5.14.4p/lib/5.14.4/amd64-freebsd
    /usr/perl5.14.4p/lib/5.14.4
    .