Report for Data-FormValidator-4.84

Back
From: metabase:user:314402c4-2aae-11df-837a-5e0a49663a4f
Subject: PASS Data-FormValidator-4.84 v5.24.1 FreeBSD
Date: 2017-02-25T16:20:22Z

This distribution has been tested as part of the CPAN Testers
project, supporting the Perl programming language.  See
http://wiki.cpantesters.org/ for more information or email
questions to cpan-testers-discuss@perl.org


--
Dear David Farrell,

This is a computer-generated report for Data-FormValidator-4.84
on perl 5.24.1, created by CPAN-Reporter-1.2018.

Thank you for uploading your work to CPAN.  Congratulations!
All tests were successful.

Sections of this report:

    * Tester comments
    * Program output
    * Prerequisites
    * Environment and other context

------------------------------
TESTER COMMENTS
------------------------------

Additional comments from tester:

none provided

------------------------------
PROGRAM OUTPUT
------------------------------

Output from '/usr/bin/make test':

PERL_DL_NONLAZY=1 "/usr/perl5.24.1p/bin/perl" "-MExtUtils::Command::MM" "-MTest::Harness" "-e" "undef *Test::Harness::Switches; test_harness(0, 'blib/lib', 'blib/arch')" t/*.t
t/00_base.t .............................. ok
t/02_code_ref.t .......................... ok
t/03_dependency.t ........................ ok
t/04_arrayify_undef.t .................... ok
t/05_valid_ip_address.t .................. ok
t/06_regexp_map.t ........................ ok
t/09_require_some.t ...................... ok
t/11_procedural_match.t .................. ok
t/13_validator_packages.t ................ ok
t/15_literal_param_constraints.t ......... ok
t/16_cgi_object.t ........................ ok
t/17_multi_valued_keys.t ................. ok
t/18_constraint_refs.t ................... ok
t/19_refs_as_values.t .................... ok
t/20_careful_exception_handling.t ........ ok
t/21_multiple_fields.t ................... ok
t/25_results.t ........................... ok
t/26_qr.t ................................ ok
t/27_qualify_ref_happy_death.t ........... ok
t/28_defaults_for_new.t .................. ok
t/30_filter_definedness.t ................ ok
t/any_errors.t ........................... ok
t/check_profile_syntax.t ................. ok
t/closure_msgs.t ......................... ok
t/constraint_method.t .................... ok
t/constraint_method_string.t ............. ok
t/constraint_method_zero.t ............... ok
t/constraint_regexp_map_profile_reuse.t .. ok
t/constraints_builtin.t .................. ok
t/constraints_builtin_closure.t .......... ok
t/constraints_factory.t .................. ok
t/constraints_invalid_once_only.t ........ ok
t/constraints_num_values.t ............... ok
t/constraints_regexp_map_interaction.t ... ok
t/constraints_reuse.t .................... ok
t/credit_card.t .......................... ok
t/dates.t ................................ ok
t/dates_closure.t ........................ ok
t/dependency_coderef.t ................... ok
t/dependency_groups.t .................... ok
t/filter_constraints.t ................... ok
t/filters_builtin.t ...................... ok
t/filters_shouldnt_modify.t .............. ok
t/FV_length.t ............................ ok
t/get_filtered_data.t .................... ok
t/get_input_data.t ....................... ok
t/missing_optional.t ..................... ok
t/msgs.t ................................. ok
t/multiple_constraints.t ................. ok
t/params_not_mentioned.t ................. ok
t/pod.t .................................. ok
t/procedural_valid.t ..................... ok
t/profile_checking.t ..................... ok
t/regexp_common.t ........................ ok
t/regexp_common_closure.t ................ ok
t/rename_builtin_constraints.t ........... ok
t/results_success.t ...................... ok
t/simple.t ............................... ok
t/tt_and_overload.t ...................... ok
t/undefined_arrayref.t ................... ok
t/unknown.t .............................. ok
t/untaint.t .............................. ok
# Adding CGI::Simple tests
# testing with CGI.pm version: 4.35
# testing with CGI::Simple version: 1.115
# Running tests with CGI
# Running tests with CGI::Simple
t/upload.t ............................... ok
# testing with CGI.pm version: 4.35
t/upload_closure.t ....................... ok
t/upload_mime_types.t .................... ok
All tests successful.
Files=65, Tests=632,  5 wallclock secs ( 0.00 usr  0.27 sys +  0.70 cusr  3.55 csys =  4.52 CPU)
Result: PASS

------------------------------
PREREQUISITES
------------------------------

Prerequisite modules loaded:

requires:

    Module              Need  Have      
    ------------------- ----- ----------
    Date::Calc          5     6.4       
    Email::Valid        0     1.202     
    File::MMagic        1.17  1.30      
    Image::Size         0     3.300     
    MIME::Types         1.005 2.13      
    perl                5.008 5.024001  
    Regexp::Common      0.03  2016060801
    Scalar::Util        0     1.47      
    Test::More          0     1.302075  

build_requires:

    Module              Need  Have      
    ------------------- ----- ----------
    ExtUtils::MakeMaker 0     7.24      

configure_requires:

    Module              Need  Have      
    ------------------- ----- ----------
    ExtUtils::MakeMaker 0     7.24      


------------------------------
ENVIRONMENT AND OTHER CONTEXT
------------------------------

Environment variables:

    LC_ALL = de_DE.ISO8859-1
    PATH = /usr/local/bin:/usr/bin:/bin:/usr/local/sbin:/usr/sbin:/sbin:/home/cpansand/bin/freebsd10.3:/home/cpansand/bin/sh:/home/cpansand/bin:/usr/games:/home/cpansand/devel:/home/eserte/src/srezic-misc/scripts
    PERL5LIB = 
    PERL5OPT = 
    PERL5_CPANPLUS_IS_RUNNING = 33944
    PERL5_CPAN_IS_RUNNING = 33944
    PERL5_CPAN_IS_RUNNING_IN_RECURSION = 33905,33944
    PERLDOC = -MPod::Perldoc::ToTextOverstrike
    PERL_BATCH = yes
    PERL_CANARY_STABILITY_NOPROMPT = 1
    PERL_CPAN_REPORTER_CONFIG = /var/tmp/cpansmoker-1023/2017022515/cpanreporter_000_config.ini
    PERL_EXTUTILS_AUTOINSTALL = --defaultdeps
    SHELL = /usr/local/bin/zsh
    TERM = screen
    TMPDIR = /var/tmp/cpansmoker-1023/2017022515

Perl special variables (and OS-specific diagnostics, for MSWin32):

    $^X = /usr/perl5.24.1p/bin/perl
    $UID/$EUID = 1023 / 1023
    $GID = 1023 1023
    $EGID = 1023 1023

Perl module toolchain versions installed:

    Module              Have      
    ------------------- ----------
    CPAN                2.16      
    CPAN::Meta          2.150005  
    Cwd                 3.63_01   
    ExtUtils::CBuilder  0.280225  
    ExtUtils::Command   7.24      
    ExtUtils::Install   2.04      
    ExtUtils::MakeMaker 7.24      
    ExtUtils::Manifest  1.70      
    ExtUtils::ParseXS   3.31      
    File::Spec          3.63_01   
    JSON                2.90      
    JSON::PP            2.27400   
    Module::Build       0.4220    
    Module::Signature   n/a       
    Parse::CPAN::Meta   1.4417_001
    Test::Harness       3.36_01   
    Test::More          1.302075  
    YAML                1.22      
    YAML::Syck          1.29      
    version             0.9916    


--

Summary of my perl5 (revision 5 version 24 subversion 1) configuration:
   
  Platform:
    osname=freebsd, osvers=10.1-release, archname=amd64-freebsd
    uname='freebsd cvrsnica-freebsd-101.herceg.de 10.1-release freebsd 10.1-release #0 r274401: tue nov 11 21:02:49 utc 2014 root@releng1.nyi.freebsd.org:usrobjusrsrcsysgeneric amd64 '
    config_args='-ds -e -Dprefix=/usr/perl5.24.1p -Dcf_email=srezic@cpan.org -Doptimize=-O2 -pipe'
    hint=recommended, useposix=true, d_sigaction=define
    useithreads=undef, usemultiplicity=undef
    use64bitint=define, use64bitall=define, uselongdouble=undef
    usemymalloc=n, bincompat5005=undef
  Compiler:
    cc='cc', ccflags ='-DHAS_FPSETMASK -DHAS_FLOATINGPOINT_H -fno-strict-aliasing -pipe -fstack-protector -I/usr/local/include -D_FORTIFY_SOURCE=2',
    optimize='-O2 -pipe',
    cppflags='-DHAS_FPSETMASK -DHAS_FLOATINGPOINT_H -fno-strict-aliasing -pipe -fstack-protector -I/usr/local/include'
    ccversion='', gccversion='4.2.1 Compatible FreeBSD Clang 3.4.1 (tags/RELEASE_34/dot1-final 208032)', gccosandvers=''
    intsize=4, longsize=8, ptrsize=8, doublesize=8, byteorder=12345678, doublekind=3
    d_longlong=define, longlongsize=8, d_longdbl=define, longdblsize=16, longdblkind=3
    ivtype='long', ivsize=8, nvtype='double', nvsize=8, Off_t='off_t', lseeksize=8
    alignbytes=8, prototype=define
  Linker and Libraries:
    ld='cc', ldflags ='-pthread -Wl,-E  -fstack-protector -L/usr/local/lib'
    libpth=/usr/lib /usr/local/lib /usr/include/clang/3.4.1 /usr/lib
    libs=-lpthread -lgdbm -lm -lcrypt -lutil -lc
    perllibs=-lpthread -lm -lcrypt -lutil -lc
    libc=, so=so, useshrplib=false, libperl=libperl.a
    gnulibc_version=''
  Dynamic Linking:
    dlsrc=dl_dlopen.xs, dlext=so, d_dlsymun=undef, ccdlflags=' '
    cccdlflags='-DPIC -fPIC', lddlflags='-shared  -L/usr/local/lib -fstack-protector'


Characteristics of this binary (from libperl): 
  Compile-time options: HAS_TIMES PERLIO_LAYERS PERL_COPY_ON_WRITE
                        PERL_DONT_CREATE_GVSV
                        PERL_HASH_FUNC_ONE_AT_A_TIME_HARD PERL_MALLOC_WRAP
                        PERL_PRESERVE_IVUV USE_64_BIT_ALL USE_64_BIT_INT
                        USE_LARGE_FILES USE_LOCALE USE_LOCALE_COLLATE
                        USE_LOCALE_CTYPE USE_LOCALE_NUMERIC USE_LOCALE_TIME
                        USE_PERLIO USE_PERL_ATOF
  Built under freebsd
  Compiled at Jan 15 2017 11:45:26
  %ENV:
    PERL5LIB=""
    PERL5OPT=""
    PERL5_CPANPLUS_IS_RUNNING="33944"
    PERL5_CPAN_IS_RUNNING="33944"
    PERL5_CPAN_IS_RUNNING_IN_RECURSION="33905,33944"
    PERLDOC="-MPod::Perldoc::ToTextOverstrike"
    PERL_BATCH="yes"
    PERL_CANARY_STABILITY_NOPROMPT="1"
    PERL_CPAN_REPORTER_CONFIG="/var/tmp/cpansmoker-1023/2017022515/cpanreporter_000_config.ini"
    PERL_EXTUTILS_AUTOINSTALL="--defaultdeps"
  @INC:
    /usr/perl5.24.1p/lib/site_perl/5.24.1/amd64-freebsd
    /usr/perl5.24.1p/lib/site_perl/5.24.1
    /usr/perl5.24.1p/lib/5.24.1/amd64-freebsd
    /usr/perl5.24.1p/lib/5.24.1
    .