Report for KiokuDB-0.57

Back
From: metabase:user:68a9c4ac-1ec7-11e0-bf29-9c4bfeb2ac3f
Subject: PASS KiokuDB-0.57 v5.21.9 GNU/Linux
Date: 2015-02-25T15:38:11Z

This distribution has been tested as part of the CPAN Testers
project, supporting the Perl programming language.  See
http://wiki.cpantesters.org/ for more information or email
questions to cpan-testers-discuss@perl.org


--
Dear Jesse Luehrs,

This is a computer-generated report for KiokuDB-0.57
on perl 5.21.9, created by CPAN-Reporter-1.2011.

Thank you for uploading your work to CPAN.  Congratulations!
All tests were successful.

Sections of this report:

    * Tester comments
    * Program output
    * Prerequisites
    * Environment and other context

------------------------------
TESTER COMMENTS
------------------------------

Additional comments from tester:

none provided

------------------------------
PROGRAM OUTPUT
------------------------------

Output from '/usr/bin/make test':

PERL_DL_NONLAZY=1 "/home/rando/perl5/perlbrew/perls/21.9/bin/perl5.21.9" "-MExtUtils::Command::MM" "-MTest::Harness" "-e" "undef *Test::Harness::Switches; test_harness(0, 'blib/lib', 'blib/arch')" t/*.t
t/00-compile.t ................. ok
t/coderefs.t ................... ok
t/collapser.t .................. ok
t/digest.t ..................... ok
t/directory.t .................. ok
t/entry.t ...................... ok
t/gc_naive.t ................... ok
t/gin.t ........................ ok
t/hash.t ....................... ok
t/hash_backend.t ............... ok
t/jspon_serialization.t ........ ok
t/kiokudb_class_native.t ....... ok
t/lazy.t ....................... ok
t/link_checker.t ............... ok
t/link_checker_real.t .......... ok
t/live_objs.t .................. ok
t/moose_triggers.t ............. ok
t/ref.t ........................ ok
t/scaling.t .................... ok
t/serializer.t ................. ok
t/stream.t ..................... ok
t/tied.t ....................... ok
t/typemap.t .................... ok
t/typemap_default_json.t ....... ok
t/typemap_default_storable.t ... ok
t/typemap_entry_callback.t ..... ok
t/typemap_entry_mop.t .......... ok
t/typemap_entry_naive.t ........ ok
t/typemap_entry_passthrough.t .. ok
t/typemap_entry_storable.t ..... ok
t/typemap_extra.t .............. ok
t/typemap_resolver.t ........... ok
t/typemap_values.t ............. ok
t/uuid.t ....................... ok
t/versioning.t ................. ok
All tests successful.
Files=35, Tests=23892, 99 wallclock secs ( 2.27 usr  0.18 sys + 94.09 cusr  3.89 csys = 100.43 CPU)
Result: PASS

------------------------------
PREREQUISITES
------------------------------

Prerequisite modules loaded:

requires:

    Module                                         Need   Have        
    ---------------------------------------------- ------ ------------
    B                                              0      1.56        
    B::Deparse                                     0      1.33        
    Cache::Ref                                     0.02   0.04        
    Carp                                           0      1.35        
    Class::Load                                    0      0.22        
    constant                                       0      1.33        
    Data::Stream::Bulk                             0.08   0.11        
    Data::Stream::Bulk::Util                       0      0.11        
    Data::Swap                                     0      0.08        
    Data::UUID                                     1.203  1.220       
    Data::Visitor                                  0.24   0.30        
    Digest::SHA                                    0      5.95        
    Encode                                         0      2.70        
    Hash::Util::FieldHash::Compat                  0      0.08        
    IO::Handle                                     0      1.35        
    JSON                                           2.12   2.90        
    JSON::XS                                       2.231  3.01        
    List::Util                                     0      1.41        
    Module::Pluggable::Object                      0      5.1         
    Moose                                          2.0000 2.1403      
    Moose::Exporter                                0      2.1403      
    Moose::Role                                    0      2.1403      
    Moose::Util                                    0      2.1403      
    Moose::Util::MetaRole                          0      2.1403      
    Moose::Util::TypeConstraints                   0      2.1403      
    MooseX::Clone                                  0.04   0.05        
    MooseX::Clone::Meta::Attribute::Trait::NoClone 0      0           
    MooseX::Role::Parameterized                    0.10   1.08        
    MooseX::YAML                                   0.04   0.04        
    namespace::clean                               0.08   0.25        
    overload                                       0      1.25        
    PadWalker                                      1.9    2.0         
    Path::Class                                    0      0.35        
    POSIX                                          0      1.51        
    Scalar::Util                                   0      1.41        
    Scope::Guard                                   0      0.20        
    Search::GIN::Driver                            0      0.09        
    Search::GIN::Extract                           0      0.09        
    Search::GIN::Query::Class                      0.03   0.09        
    Set::Object                                    1.26   1.34        
    Storable                                       0      2.53        
    strict                                         0      1.09        
    Sub::Exporter                                  0      0.987       
    Symbol                                         0      1.07        
    Test::Exception                                0      0.36        
    Test::Moose                                    0      2.1403      
    Test::More                                     0.88   1.301001_098
    Throwable                                      0      0.200012    
    Tie::RefHash                                   0      1.39        
    Tie::ToObject                                  0      0.03        
    Try::Tiny                                      0      0.22        
    utf8                                           0      1.14        
    warnings                                       0      1.31        
    YAML::XS                                       0.30   0.59        

build_requires:

    Module                                         Need   Have        
    ---------------------------------------------- ------ ------------
    base                                           0      2.22        
    Cache::Ref::CART                               0      0.04        
    Cache::Ref::CLOCK                              0      0.04        
    Data::Dumper                                   0      2.157       
    Data::Stream::Bulk::Callback                   0      0.11        
    File::Spec                                     0      3.53        
    if                                             0      0.0603      
    IO::Handle                                     0      1.35        
    IPC::Open3                                     0      1.18        
    Search::GIN::Driver::Hash                      0      0.09        
    Search::GIN::Extract::Class                    0      0.09        
    Search::GIN::Extract::Delegate                 0      0.09        
    Test::More                                     0.88   1.301001_098

configure_requires:

    Module                                         Need   Have        
    ---------------------------------------------- ------ ------------
    ExtUtils::MakeMaker                            6.30   7.04        


------------------------------
ENVIRONMENT AND OTHER CONTEXT
------------------------------

Environment variables:

    HARNESS_SUBCLASS = TAP::Harness::Restricted
    LANG = en_US.UTF-8
    LANGUAGE = en_US.UTF-8
    LC_ALL = en_US.UTF-8
    LC_CTYPE = en_US.UTF-8
    PATH = /home/rando/perl5/perlbrew/bin:/home/rando/perl5/perlbrew/perls/21.9/bin:/home/rando/data/devel/linux:/home/rando/scala/sbt/bin:/home/rando/scala/local/bin:/home/rando/.rvm/gems/ruby-1.9.3-p286/bin:/home/rando/.rvm/gems/ruby-1.9.3-p286@global/bin:/home/rando/.rvm/rubies/ruby-1.9.3-p286/bin:/home/rando/.rvm/bin:/home/rando/python/venv/2.7.3/bin:/home/rando/perl5/perlbrew/bin:/home/rando/perl5/perlbrew/perls/local/bin:/home/rando/node/global/bin:/home/rando/usr/iojs/bin:/home/rando/java/jdk1.7.0_11/bin:/home/rando/gopath/bin:/home/rando/go/bin:/home/rando/bin:/home/rando/usr/bin:/usr/lib/lightdm/lightdm:/usr/local/sbin:/usr/local/bin:/usr/sbin:/usr/bin:/sbin:/bin:/usr/games
    PERL5LIB = 
    PERL5OPT = 
    PERL5_CPANPLUS_IS_RUNNING = 6339
    PERL5_CPAN_IS_RUNNING = 6339
    PERLBREW_BASHRC_VERSION = 0.73
    PERLBREW_HOME = /home/rando/.perlbrew
    PERLBREW_LIB = 
    PERLBREW_MANPATH = /home/rando/perl5/perlbrew/perls/21.9/man
    PERLBREW_PATH = /home/rando/perl5/perlbrew/bin:/home/rando/perl5/perlbrew/perls/21.9/bin
    PERLBREW_PERL = 21.9
    PERLBREW_ROOT = /home/rando/perl5/perlbrew
    PERLBREW_VERSION = 0.73
    PERL_LOCAL_LIB_ROOT = 
    SHELL = /usr/bin/zsh
    TERM = screen-256color

Perl special variables (and OS-specific diagnostics, for MSWin32):

    $^X = /home/rando/perl5/perlbrew/perls/21.9/bin/perl5.21.9
    $UID/$EUID = 1000 / 1000
    $GID = 1000 4 24 27 30 46 105 110 123 127 1000 1002
    $EGID = 1000 4 24 27 30 46 105 110 123 127 1000 1002

Perl module toolchain versions installed:

    Module              Have        
    ------------------- ------------
    CPAN                2.05        
    CPAN::Meta          2.143240    
    Cwd                 3.54        
    ExtUtils::CBuilder  0.280221    
    ExtUtils::Command   1.20        
    ExtUtils::Install   2.04        
    ExtUtils::MakeMaker 7.04        
    ExtUtils::Manifest  1.70        
    ExtUtils::ParseXS   3.27        
    File::Spec          3.53        
    JSON                2.90        
    JSON::PP            2.27300     
    Module::Build       0.4211      
    Module::Signature   0.73        
    Parse::CPAN::Meta   1.4414      
    Test::Harness       3.35        
    Test::More          1.301001_098
    YAML                1.14        
    YAML::Syck          1.29        
    version             0.9912      


--

Summary of my perl5 (revision 5 version 21 subversion 9) configuration:
   
  Platform:
    osname=linux, osvers=3.2.0-76-generic, archname=x86_64-linux
    uname='linux raptor 3.2.0-76-generic #111-ubuntu smp tue jan 13 22:16:09 utc 2015 x86_64 x86_64 x86_64 gnulinux '
    config_args='-de -Dprefix=/home/rando/perl5/perlbrew/perls/21.9 -Dman1dir=none -Dman3dir=none -Dusedevel -Aeval:scriptdir=/home/rando/perl5/perlbrew/perls/21.9/bin'
    hint=recommended, useposix=true, d_sigaction=define
    useithreads=undef, usemultiplicity=undef
    use64bitint=define, use64bitall=define, uselongdouble=undef
    usemymalloc=n, bincompat5005=undef
  Compiler:
    cc='cc', ccflags ='-fwrapv -fno-strict-aliasing -pipe -fstack-protector -I/usr/local/include -D_LARGEFILE_SOURCE -D_FILE_OFFSET_BITS=64',
    optimize='-O2',
    cppflags='-fwrapv -fno-strict-aliasing -pipe -fstack-protector -I/usr/local/include'
    ccversion='', gccversion='4.6.3', gccosandvers=''
    intsize=4, longsize=8, ptrsize=8, doublesize=8, byteorder=12345678, doublekind=3
    d_longlong=define, longlongsize=8, d_longdbl=define, longdblsize=16, longdblkind=3
    ivtype='long', ivsize=8, nvtype='double', nvsize=8, Off_t='off_t', lseeksize=8
    alignbytes=8, prototype=define
  Linker and Libraries:
    ld='cc', ldflags =' -fstack-protector -L/usr/local/lib'
    libpth=/usr/local/lib /usr/lib/gcc/x86_64-linux-gnu/4.6/include-fixed /usr/include/x86_64-linux-gnu /usr/lib /lib/x86_64-linux-gnu /lib/../lib /usr/lib/x86_64-linux-gnu /usr/lib/../lib /lib
    libs=-lpthread -lnsl -ldl -lm -lcrypt -lutil -lc
    perllibs=-lpthread -lnsl -ldl -lm -lcrypt -lutil -lc
    libc=, so=so, useshrplib=false, libperl=libperl.a
    gnulibc_version='2.15'
  Dynamic Linking:
    dlsrc=dl_dlopen.xs, dlext=so, d_dlsymun=undef, ccdlflags='-Wl,-E'
    cccdlflags='-fPIC', lddlflags='-shared -O2 -L/usr/local/lib -fstack-protector'


Characteristics of this binary (from libperl): 
  Compile-time options: HAS_TIMES PERLIO_LAYERS PERL_DONT_CREATE_GVSV
                        PERL_HASH_FUNC_ONE_AT_A_TIME_HARD PERL_MALLOC_WRAP
                        PERL_NEW_COPY_ON_WRITE PERL_PRESERVE_IVUV
                        PERL_USE_DEVEL USE_64_BIT_ALL USE_64_BIT_INT
                        USE_LARGE_FILES USE_LOCALE USE_LOCALE_COLLATE
                        USE_LOCALE_CTYPE USE_LOCALE_NUMERIC USE_LOCALE_TIME
                        USE_PERLIO USE_PERL_ATOF
  Built under linux
  Compiled at Feb 24 2015 19:23:03
  %ENV:
    PERL5LIB=""
    PERL5OPT=""
    PERL5_CPANPLUS_IS_RUNNING="6339"
    PERL5_CPAN_IS_RUNNING="6339"
    PERLBREW_BASHRC_VERSION="0.73"
    PERLBREW_HOME="/home/rando/.perlbrew"
    PERLBREW_LIB=""
    PERLBREW_MANPATH="/home/rando/perl5/perlbrew/perls/21.9/man"
    PERLBREW_PATH="/home/rando/perl5/perlbrew/bin:/home/rando/perl5/perlbrew/perls/21.9/bin"
    PERLBREW_PERL="21.9"
    PERLBREW_ROOT="/home/rando/perl5/perlbrew"
    PERLBREW_VERSION="0.73"
    PERL_LOCAL_LIB_ROOT=""
  @INC:
    /home/rando/perl5/perlbrew/perls/21.9/lib/site_perl/5.21.9/x86_64-linux
    /home/rando/perl5/perlbrew/perls/21.9/lib/site_perl/5.21.9
    /home/rando/perl5/perlbrew/perls/21.9/lib/5.21.9/x86_64-linux
    /home/rando/perl5/perlbrew/perls/21.9/lib/5.21.9
    .