Report for Net-Jabber-2.0

Back
From: metabase:user:322078bc-2aae-11df-837a-5e0a49663a4f
Subject: PASS Net-Jabber-2.0 v5.14.0 OpenBSD
Date: 2011-06-26T23:16:21Z

This distribution has been tested as part of the CPAN Testers
project, supporting the Perl programming language.  See
http://wiki.cpantesters.org/ for more information or email
questions to cpan-testers-discuss@perl.org


--

Dear Ryan Eatmon,

This is a computer-generated error report created automatically by
CPANPLUS, version 0.9105. Testers personal comments may appear
at the end of this report.

MAKE TEST passed: PERL_DL_NONLAZY=1 /home/cpan/pit/bare/perl-5.14.0/bin/perl "-MExtUtils::Command::MM" "-e" "test_harness(0, 'blib/lib', 'blib/arch')" t/*.t
Use of uninitialized value $args{"file"} in lc at /home/cpan/pit/bare/conf/perl-5.14.0/.cpanplus/5.14.0/build/Net-XMPP-1.02/blib/lib/Net/XMPP/Debug.pm line 154.
t/1_load.t .................... ok
Use of uninitialized value $args{"file"} in lc at /home/cpan/pit/bare/conf/perl-5.14.0/.cpanplus/5.14.0/build/Net-XMPP-1.02/blib/lib/Net/XMPP/Debug.pm line 154.
t/2_client.t .................. ok
Use of uninitialized value $args{"file"} in lc at /home/cpan/pit/bare/conf/perl-5.14.0/.cpanplus/5.14.0/build/Net-XMPP-1.02/blib/lib/Net/XMPP/Debug.pm line 154.
t/iq.t ........................ ok
Use of uninitialized value $args{"file"} in lc at /home/cpan/pit/bare/conf/perl-5.14.0/.cpanplus/5.14.0/build/Net-XMPP-1.02/blib/lib/Net/XMPP/Debug.pm line 154.
t/jid.t ....................... ok
Use of uninitialized value $args{"file"} in lc at /home/cpan/pit/bare/conf/perl-5.14.0/.cpanplus/5.14.0/build/Net-XMPP-1.02/blib/lib/Net/XMPP/Debug.pm line 154.
t/message.t ................... ok
Use of uninitialized value $args{"file"} in lc at /home/cpan/pit/bare/conf/perl-5.14.0/.cpanplus/5.14.0/build/Net-XMPP-1.02/blib/lib/Net/XMPP/Debug.pm line 154.
t/oldadd.t .................... ok
Use of uninitialized value $args{"file"} in lc at /home/cpan/pit/bare/conf/perl-5.14.0/.cpanplus/5.14.0/build/Net-XMPP-1.02/blib/lib/Net/XMPP/Debug.pm line 154.
t/parse_x_data.t .............. ok
Use of uninitialized value $args{"file"} in lc at /home/cpan/pit/bare/conf/perl-5.14.0/.cpanplus/5.14.0/build/Net-XMPP-1.02/blib/lib/Net/XMPP/Debug.pm line 154.
t/parse_x_delay.t ............. ok
Use of uninitialized value $args{"file"} in lc at /home/cpan/pit/bare/conf/perl-5.14.0/.cpanplus/5.14.0/build/Net-XMPP-1.02/blib/lib/Net/XMPP/Debug.pm line 154.
t/presence.t .................. ok
Use of uninitialized value $args{"file"} in lc at /home/cpan/pit/bare/conf/perl-5.14.0/.cpanplus/5.14.0/build/Net-XMPP-1.02/blib/lib/Net/XMPP/Debug.pm line 154.
t/protocol_definenamespace.t .. ok
Use of uninitialized value $args{"file"} in lc at /home/cpan/pit/bare/conf/perl-5.14.0/.cpanplus/5.14.0/build/Net-XMPP-1.02/blib/lib/Net/XMPP/Debug.pm line 154.
t/protocol_muc.t .............. ok
Use of uninitialized value $args{"file"} in lc at /home/cpan/pit/bare/conf/perl-5.14.0/.cpanplus/5.14.0/build/Net-XMPP-1.02/blib/lib/Net/XMPP/Debug.pm line 154.
t/protocol_rpc.t .............. ok
Use of uninitialized value $args{"file"} in lc at /home/cpan/pit/bare/conf/perl-5.14.0/.cpanplus/5.14.0/build/Net-XMPP-1.02/blib/lib/Net/XMPP/Debug.pm line 154.
t/query_agent.t ............... ok
Use of uninitialized value $args{"file"} in lc at /home/cpan/pit/bare/conf/perl-5.14.0/.cpanplus/5.14.0/build/Net-XMPP-1.02/blib/lib/Net/XMPP/Debug.pm line 154.
t/query_agents.t .............. ok
Use of uninitialized value $args{"file"} in lc at /home/cpan/pit/bare/conf/perl-5.14.0/.cpanplus/5.14.0/build/Net-XMPP-1.02/blib/lib/Net/XMPP/Debug.pm line 154.
t/query_autoupdate.t .......... ok
Use of uninitialized value $args{"file"} in lc at /home/cpan/pit/bare/conf/perl-5.14.0/.cpanplus/5.14.0/build/Net-XMPP-1.02/blib/lib/Net/XMPP/Debug.pm line 154.
t/query_browse.t .............. ok
Use of uninitialized value $args{"file"} in lc at /home/cpan/pit/bare/conf/perl-5.14.0/.cpanplus/5.14.0/build/Net-XMPP-1.02/blib/lib/Net/XMPP/Debug.pm line 154.
t/query_bytestreams.t ......... ok
Use of uninitialized value $args{"file"} in lc at /home/cpan/pit/bare/conf/perl-5.14.0/.cpanplus/5.14.0/build/Net-XMPP-1.02/blib/lib/Net/XMPP/Debug.pm line 154.
t/query_commands.t ............ ok
Use of uninitialized value $args{"file"} in lc at /home/cpan/pit/bare/conf/perl-5.14.0/.cpanplus/5.14.0/build/Net-XMPP-1.02/blib/lib/Net/XMPP/Debug.pm line 154.
t/query_conference.t .......... ok
Use of uninitialized value $args{"file"} in lc at /home/cpan/pit/bare/conf/perl-5.14.0/.cpanplus/5.14.0/build/Net-XMPP-1.02/blib/lib/Net/XMPP/Debug.pm line 154.
t/query_disco_info.t .......... ok
Use of uninitialized value $args{"file"} in lc at /home/cpan/pit/bare/conf/perl-5.14.0/.cpanplus/5.14.0/build/Net-XMPP-1.02/blib/lib/Net/XMPP/Debug.pm line 154.
t/query_disco_items.t ......... ok
Use of uninitialized value $args{"file"} in lc at /home/cpan/pit/bare/conf/perl-5.14.0/.cpanplus/5.14.0/build/Net-XMPP-1.02/blib/lib/Net/XMPP/Debug.pm line 154.
t/query_featureneg.t .......... ok
Use of uninitialized value $args{"file"} in lc at /home/cpan/pit/bare/conf/perl-5.14.0/.cpanplus/5.14.0/build/Net-XMPP-1.02/blib/lib/Net/XMPP/Debug.pm line 154.
t/query_filter.t .............. ok
Use of uninitialized value $args{"file"} in lc at /home/cpan/pit/bare/conf/perl-5.14.0/.cpanplus/5.14.0/build/Net-XMPP-1.02/blib/lib/Net/XMPP/Debug.pm line 154.
t/query_gateway.t ............. ok
Use of uninitialized value $args{"file"} in lc at /home/cpan/pit/bare/conf/perl-5.14.0/.cpanplus/5.14.0/build/Net-XMPP-1.02/blib/lib/Net/XMPP/Debug.pm line 154.
t/query_last.t ................ ok
Use of uninitialized value $args{"file"} in lc at /home/cpan/pit/bare/conf/perl-5.14.0/.cpanplus/5.14.0/build/Net-XMPP-1.02/blib/lib/Net/XMPP/Debug.pm line 154.
t/query_muc_admin.t ........... ok
Use of uninitialized value $args{"file"} in lc at /home/cpan/pit/bare/conf/perl-5.14.0/.cpanplus/5.14.0/build/Net-XMPP-1.02/blib/lib/Net/XMPP/Debug.pm line 154.
t/query_oob.t ................. ok
Use of uninitialized value $args{"file"} in lc at /home/cpan/pit/bare/conf/perl-5.14.0/.cpanplus/5.14.0/build/Net-XMPP-1.02/blib/lib/Net/XMPP/Debug.pm line 154.
t/query_pass.t ................ ok
Use of uninitialized value $args{"file"} in lc at /home/cpan/pit/bare/conf/perl-5.14.0/.cpanplus/5.14.0/build/Net-XMPP-1.02/blib/lib/Net/XMPP/Debug.pm line 154.
t/query_pubsub.t .............. ok
Use of uninitialized value $args{"file"} in lc at /home/cpan/pit/bare/conf/perl-5.14.0/.cpanplus/5.14.0/build/Net-XMPP-1.02/blib/lib/Net/XMPP/Debug.pm line 154.
t/query_pubsub_event.t ........ ok
Use of uninitialized value $args{"file"} in lc at /home/cpan/pit/bare/conf/perl-5.14.0/.cpanplus/5.14.0/build/Net-XMPP-1.02/blib/lib/Net/XMPP/Debug.pm line 154.
t/query_pubsub_owner.t ........ ok
Use of uninitialized value $args{"file"} in lc at /home/cpan/pit/bare/conf/perl-5.14.0/.cpanplus/5.14.0/build/Net-XMPP-1.02/blib/lib/Net/XMPP/Debug.pm line 154.
t/query_rpc.t ................. ok
Use of uninitialized value $args{"file"} in lc at /home/cpan/pit/bare/conf/perl-5.14.0/.cpanplus/5.14.0/build/Net-XMPP-1.02/blib/lib/Net/XMPP/Debug.pm line 154.
t/query_search.t .............. ok
Use of uninitialized value $args{"file"} in lc at /home/cpan/pit/bare/conf/perl-5.14.0/.cpanplus/5.14.0/build/Net-XMPP-1.02/blib/lib/Net/XMPP/Debug.pm line 154.
t/query_si.t .................. ok
Use of uninitialized value $args{"file"} in lc at /home/cpan/pit/bare/conf/perl-5.14.0/.cpanplus/5.14.0/build/Net-XMPP-1.02/blib/lib/Net/XMPP/Debug.pm line 154.
t/query_si_filetrans.t ........ ok
Use of uninitialized value $args{"file"} in lc at /home/cpan/pit/bare/conf/perl-5.14.0/.cpanplus/5.14.0/build/Net-XMPP-1.02/blib/lib/Net/XMPP/Debug.pm line 154.
t/query_time.t ................ ok
Use of uninitialized value $args{"file"} in lc at /home/cpan/pit/bare/conf/perl-5.14.0/.cpanplus/5.14.0/build/Net-XMPP-1.02/blib/lib/Net/XMPP/Debug.pm line 154.
t/query_version.t ............. ok
Use of uninitialized value $args{"file"} in lc at /home/cpan/pit/bare/conf/perl-5.14.0/.cpanplus/5.14.0/build/Net-XMPP-1.02/blib/lib/Net/XMPP/Debug.pm line 154.
t/rawxml.t .................... ok
Use of uninitialized value $args{"file"} in lc at /home/cpan/pit/bare/conf/perl-5.14.0/.cpanplus/5.14.0/build/Net-XMPP-1.02/blib/lib/Net/XMPP/Debug.pm line 154.
t/x_autoupdate.t .............. ok
Use of uninitialized value $args{"file"} in lc at /home/cpan/pit/bare/conf/perl-5.14.0/.cpanplus/5.14.0/build/Net-XMPP-1.02/blib/lib/Net/XMPP/Debug.pm line 154.
t/x_conference.t .............. ok
Use of uninitialized value $args{"file"} in lc at /home/cpan/pit/bare/conf/perl-5.14.0/.cpanplus/5.14.0/build/Net-XMPP-1.02/blib/lib/Net/XMPP/Debug.pm line 154.
t/x_data.t .................... ok
Use of uninitialized value $args{"file"} in lc at /home/cpan/pit/bare/conf/perl-5.14.0/.cpanplus/5.14.0/build/Net-XMPP-1.02/blib/lib/Net/XMPP/Debug.pm line 154.
t/x_delay.t ................... ok
Use of uninitialized value $args{"file"} in lc at /home/cpan/pit/bare/conf/perl-5.14.0/.cpanplus/5.14.0/build/Net-XMPP-1.02/blib/lib/Net/XMPP/Debug.pm line 154.
t/x_encrypted.t ............... ok
Use of uninitialized value $args{"file"} in lc at /home/cpan/pit/bare/conf/perl-5.14.0/.cpanplus/5.14.0/build/Net-XMPP-1.02/blib/lib/Net/XMPP/Debug.pm line 154.
t/x_expire.t .................. ok
Use of uninitialized value $args{"file"} in lc at /home/cpan/pit/bare/conf/perl-5.14.0/.cpanplus/5.14.0/build/Net-XMPP-1.02/blib/lib/Net/XMPP/Debug.pm line 154.
t/x_muc.t ..................... ok
Use of uninitialized value $args{"file"} in lc at /home/cpan/pit/bare/conf/perl-5.14.0/.cpanplus/5.14.0/build/Net-XMPP-1.02/blib/lib/Net/XMPP/Debug.pm line 154.
t/x_muc_user.t ................ ok
Use of uninitialized value $args{"file"} in lc at /home/cpan/pit/bare/conf/perl-5.14.0/.cpanplus/5.14.0/build/Net-XMPP-1.02/blib/lib/Net/XMPP/Debug.pm line 154.
t/x_oob.t ..................... ok
Use of uninitialized value $args{"file"} in lc at /home/cpan/pit/bare/conf/perl-5.14.0/.cpanplus/5.14.0/build/Net-XMPP-1.02/blib/lib/Net/XMPP/Debug.pm line 154.
t/x_roster.t .................. ok
Use of uninitialized value $args{"file"} in lc at /home/cpan/pit/bare/conf/perl-5.14.0/.cpanplus/5.14.0/build/Net-XMPP-1.02/blib/lib/Net/XMPP/Debug.pm line 154.
t/x_signed.t .................. ok
All tests successful.
Files=49, Tests=3376, 10 wallclock secs ( 0.45 usr  0.09 sys +  7.89 cusr  1.55 csys =  9.98 CPU)
Result: PASS

[MSG] [Mon Jun 27 00:16:21 2011] Sending test report for 'Net-Jabber-2.0'

This report was machine-generated by CPANPLUS::Dist::YACSmoke 0.64.
Powered by minismokebox version 0.54

------------------------------
ENVIRONMENT AND OTHER CONTEXT
------------------------------

Environment variables:

    AUTOMATED_TESTING = 1
    PATH = /home/cpan/bin:/bin:/sbin:/usr/bin:/usr/sbin:/usr/X11R6/bin:/usr/local/bin:/usr/local/sbin:/usr/games:.
    PERL5LIB = :/home/cpan/pit/bare/conf/perl-5.14.0/.cpanplus/5.14.0/build/Digest-SHA1-2.13/blib/lib:/home/cpan/pit/bare/conf/perl-5.14.0/.cpanplus/5.14.0/build/Digest-SHA1-2.13/blib/arch:/home/cpan/pit/bare/conf/perl-5.14.0/.cpanplus/5.14.0/build/Digest-HMAC-1.02/blib/lib:/home/cpan/pit/bare/conf/perl-5.14.0/.cpanplus/5.14.0/build/Digest-HMAC-1.02/blib/arch:/home/cpan/pit/bare/conf/perl-5.14.0/.cpanplus/5.14.0/build/Authen-SASL-2.15/blib/lib:/home/cpan/pit/bare/conf/perl-5.14.0/.cpanplus/5.14.0/build/Authen-SASL-2.15/blib/arch:/home/cpan/pit/bare/conf/perl-5.14.0/.cpanplus/5.14.0/build/XML-Stream-1.23/blib/lib:/home/cpan/pit/bare/conf/perl-5.14.0/.cpanplus/5.14.0/build/XML-Stream-1.23/blib/arch:/home/cpan/pit/bare/conf/perl-5.14.0/.cpanplus/5.14.0/build/Net-XMPP-1.02/blib/lib:/home/cpan/pit/bare/conf/perl-5.14.0/.cpanplus/5.14.0/build/Net-XMPP-1.02/blib/arch:/home/cpan/pit/bare/conf/perl-5.14.0/.cpanplus/5.14.0/build/Net-Jabber-2.0/blib/lib:/home/cpan/pit/bare/conf/perl-5.14.0/.cpanplus/5.14.0/build/Net-Jabber-2.0/blib/arch
    PERL5_CPANPLUS_IS_RUNNING = 22830
    PERL5_CPANPLUS_IS_VERSION = 0.9105
    PERL5_MINISMOKEBOX = 0.54
    PERL5_YACSMOKE_BASE = /home/cpan/pit/bare/conf/perl-5.14.0
    PERL_EXTUTILS_AUTOINSTALL = --defaultdeps
    PERL_MM_USE_DEFAULT = 1
    SHELL = /usr/local/bin/bash
    TERM = screen

Perl special variables (and OS-specific diagnostics, for MSWin32):

    Perl: $^X = /home/cpan/pit/bare/perl-5.14.0/bin/perl
    UID:  $<  = 1001
    EUID: $>  = 1001
    GID:  $(  = 1001 1001
    EGID: $)  = 1001 1001


-------------------------------


--

Summary of my perl5 (revision 5 version 14 subversion 0) configuration:
   
  Platform:
    osname=openbsd, osvers=4.9, archname=OpenBSD.amd64-openbsd
    uname='openbsd ostrich.bingosnet.co.uk 4.9 generic#477 amd64 '
    config_args='-des -Dprefix=/home/cpan/pit/bare/perl-5.14.0'
    hint=recommended, useposix=true, d_sigaction=define
    useithreads=undef, usemultiplicity=undef
    useperlio=define, d_sfio=undef, uselargefiles=define, usesocks=undef
    use64bitint=define, use64bitall=define, uselongdouble=undef
    usemymalloc=y, bincompat5005=undef
  Compiler:
    cc='cc', ccflags ='-fno-strict-aliasing -pipe -fstack-protector -I/usr/local/include',
    optimize='-O2',
    cppflags='-fno-strict-aliasing -pipe -fstack-protector -I/usr/local/include'
    ccversion='', gccversion='4.2.1 20070719 ', gccosandvers='openbsd4.9'
    intsize=4, longsize=8, ptrsize=8, doublesize=8, byteorder=12345678
    d_longlong=define, longlongsize=8, d_longdbl=define, longdblsize=16
    ivtype='long', ivsize=8, nvtype='double', nvsize=8, Off_t='off_t', lseeksize=8
    alignbytes=8, prototype=define
  Linker and Libraries:
    ld='cc', ldflags ='-Wl,-E  -fstack-protector -L/usr/local/lib'
    libpth=/usr/local/lib /usr/lib
    libs=-lgdbm -lm -lutil -lc
    perllibs=-lm -lutil -lc
    libc=/usr/lib/libc.so.58.0, so=so, useshrplib=false, libperl=libperl.a
    gnulibc_version=''
  Dynamic Linking:
    dlsrc=dl_dlopen.xs, dlext=so, d_dlsymun=undef, ccdlflags=' '
    cccdlflags='-DPIC -fPIC ', lddlflags='-shared -fPIC  -L/usr/local/lib -fstack-protector'


Characteristics of this binary (from libperl): 
  Compile-time options: MYMALLOC PERL_DONT_CREATE_GVSV PERL_MALLOC_WRAP
                        PERL_PRESERVE_IVUV USE_64_BIT_ALL USE_64_BIT_INT
                        USE_LARGE_FILES USE_PERLIO USE_PERL_ATOF
  Built under openbsd
  Compiled at May 16 2011 12:49:10
  %ENV:
    PERL5LIB=":/home/cpan/pit/bare/conf/perl-5.14.0/.cpanplus/5.14.0/build/Digest-SHA1-2.13/blib/lib:/home/cpan/pit/bare/conf/perl-5.14.0/.cpanplus/5.14.0/build/Digest-SHA1-2.13/blib/arch:/home/cpan/pit/bare/conf/perl-5.14.0/.cpanplus/5.14.0/build/Digest-HMAC-1.02/blib/lib:/home/cpan/pit/bare/conf/perl-5.14.0/.cpanplus/5.14.0/build/Digest-HMAC-1.02/blib/arch:/home/cpan/pit/bare/conf/perl-5.14.0/.cpanplus/5.14.0/build/Authen-SASL-2.15/blib/lib:/home/cpan/pit/bare/conf/perl-5.14.0/.cpanplus/5.14.0/build/Authen-SASL-2.15/blib/arch:/home/cpan/pit/bare/conf/perl-5.14.0/.cpanplus/5.14.0/build/XML-Stream-1.23/blib/lib:/home/cpan/pit/bare/conf/perl-5.14.0/.cpanplus/5.14.0/build/XML-Stream-1.23/blib/arch:/home/cpan/pit/bare/conf/perl-5.14.0/.cpanplus/5.14.0/build/Net-XMPP-1.02/blib/lib:/home/cpan/pit/bare/conf/perl-5.14.0/.cpanplus/5.14.0/build/Net-XMPP-1.02/blib/arch:/home/cpan/pit/bare/conf/perl-5.14.0/.cpanplus/5.14.0/build/Net-Jabber-2.0/blib/lib:/home/cpan/pit/bare/conf/perl-5.14.0/.cpanplus/5.14.0/build/Net-Jabber-2.0/blib/arch"
    PERL5_CPANPLUS_IS_RUNNING="22830"
    PERL5_CPANPLUS_IS_VERSION="0.9105"
    PERL5_MINISMOKEBOX="0.54"
    PERL5_YACSMOKE_BASE="/home/cpan/pit/bare/conf/perl-5.14.0"
    PERL_EXTUTILS_AUTOINSTALL="--defaultdeps"
    PERL_MM_USE_DEFAULT="1"
  @INC:
    /home/cpan/pit/bare/conf/perl-5.14.0/.cpanplus/5.14.0/build/Digest-SHA1-2.13/blib/lib
    /home/cpan/pit/bare/conf/perl-5.14.0/.cpanplus/5.14.0/build/Digest-SHA1-2.13/blib/arch
    /home/cpan/pit/bare/conf/perl-5.14.0/.cpanplus/5.14.0/build/Digest-HMAC-1.02/blib/lib
    /home/cpan/pit/bare/conf/perl-5.14.0/.cpanplus/5.14.0/build/Digest-HMAC-1.02/blib/arch
    /home/cpan/pit/bare/conf/perl-5.14.0/.cpanplus/5.14.0/build/Authen-SASL-2.15/blib/lib
    /home/cpan/pit/bare/conf/perl-5.14.0/.cpanplus/5.14.0/build/Authen-SASL-2.15/blib/arch
    /home/cpan/pit/bare/conf/perl-5.14.0/.cpanplus/5.14.0/build/XML-Stream-1.23/blib/lib
    /home/cpan/pit/bare/conf/perl-5.14.0/.cpanplus/5.14.0/build/XML-Stream-1.23/blib/arch
    /home/cpan/pit/bare/conf/perl-5.14.0/.cpanplus/5.14.0/build/Net-XMPP-1.02/blib/lib
    /home/cpan/pit/bare/conf/perl-5.14.0/.cpanplus/5.14.0/build/Net-XMPP-1.02/blib/arch
    /home/cpan/pit/bare/conf/perl-5.14.0/.cpanplus/5.14.0/build/Net-Jabber-2.0/blib/lib
    /home/cpan/pit/bare/conf/perl-5.14.0/.cpanplus/5.14.0/build/Net-Jabber-2.0/blib/arch
    /home/cpan/pit/bare/perl-5.14.0/lib/site_perl/5.14.0/OpenBSD.amd64-openbsd
    /home/cpan/pit/bare/perl-5.14.0/lib/site_perl/5.14.0
    /home/cpan/pit/bare/perl-5.14.0/lib/5.14.0/OpenBSD.amd64-openbsd
    /home/cpan/pit/bare/perl-5.14.0/lib/5.14.0
    .