WebService-Annict v0.02 Perl 5 v5.37.10 x86_64-linux-ld
        
            - Status
- Pass
- From
- Andreas J. König (ANDK)
- Dist
- 
                WebService-Annict v0.02
            
- Platform
- Perl 5 v5.37.10 x86_64-linux-ld
- Date
- 2023-03-25 06:35:59
- ID
- 4dffb7c8-cad7-11ed-a078-b4d7ed7f54a7
This distribution has been tested as part of the CPAN Testers
project, supporting the Perl programming language.  See
http://wiki.cpantesters.org/ for more information or email
questions to cpan-testers-discuss@perl.org
--
Dear nuko suke,
This is a computer-generated report for WebService-Annict-0.02
on perl 5.37.10, created by CPAN-Reporter-1.2018.
Thank you for uploading your work to CPAN.  Congratulations!
All tests were successful.
Sections of this report:
    * Tester comments
    * Program output
    * Prerequisites
    * Environment and other context
------------------------------
TESTER COMMENTS
------------------------------
Additional comments from tester:
this report is from an automated smoke testing program
and was not reviewed by a human for accuracy
------------------------------
PROGRAM OUTPUT
------------------------------
Output from './Build test':
t/00_compile.t ... ok
Use of uninitialized value $access_token in concatenation (.) or string at /tmp/loop_over_bdir-1601045-niXMfj/WebService-Annict-0.02-0/blib/lib/WebService/Annict.pm line 18.
t/10_annict.t .... ok
t/20_works.t ..... ok
t/30_episodes.t .. ok
t/40_records.t ... ok
All tests successful.
Files=5, Tests=9,  1 wallclock secs ( 0.01 usr  0.02 sys +  0.37 cusr  0.15 csys =  0.55 CPU)
Result: PASS
------------------------------
PREREQUISITES
------------------------------
Prerequisite modules loaded:
requires:
    Module               Need     Have    
    -------------------- -------- --------
    HTTP::Message        6.11     6.44    
    JSON                 2.90     4.10    
    LWP::Protocol::https 6.06     6.10    
    LWP::UserAgent       6.15     6.68    
    perl                 5.008001 5.037010
    URI                  1.71     5.17    
build_requires:
    Module               Need     Have    
    -------------------- -------- --------
    Test::More           0.98     1.302194
configure_requires:
    Module               Need     Have    
    -------------------- -------- --------
    Module::Build::Tiny  0.035    0.039   
------------------------------
ENVIRONMENT AND OTHER CONTEXT
------------------------------
Environment variables:
    AUTOMATED_TESTING = 1
    LANG = en_US.UTF-8
    LC_ADDRESS = de_DE.UTF-8
    LC_IDENTIFICATION = de_DE.UTF-8
    LC_MEASUREMENT = de_DE.UTF-8
    LC_MONETARY = de_DE.UTF-8
    LC_NAME = de_DE.UTF-8
    LC_NUMERIC = de_DE.UTF-8
    LC_PAPER = de_DE.UTF-8
    LC_TELEPHONE = de_DE.UTF-8
    LC_TIME = de_DE.UTF-8
    PATH = /home/sand/bin:/usr/local/bin:/usr/local/sbin:/usr/sbin:/usr/bin:/sbin:/bin:/usr/games:/usr/local/games:/snap/bin:/usr/local/perl/bin:/usr/X11/bin
    PERL = /tmp/basesmoker-reloperl-niLM/bin/perl
    PERL5LIB = /tmp/loop_over_bdir-1601045-niXMfj/Lingua-BioYaTeA-0.11-0/blib/arch:/tmp/loop_over_bdir-1601045-niXMfj/Lingua-BioYaTeA-0.11-0/blib/lib:/tmp/loop_over_bdir-1601045-niXMfj/Lingua-YaTeA-0.626-0/blib/arch:/tmp/loop_over_bdir-1601045-niXMfj/Lingua-YaTeA-0.626-0/blib/lib:/tmp/loop_over_bdir-1601045-niXMfj/Dpkg-1.21.19-0/blib/arch:/tmp/loop_over_bdir-1601045-niXMfj/Dpkg-1.21.19-0/blib/lib:/tmp/loop_over_bdir-1601045-niXMfj/App-oo_modulino_zsh_completion_helper-0.04-0/blib/arch:/tmp/loop_over_bdir-1601045-niXMfj/App-oo_modulino_zsh_completion_helper-0.04-0/blib/lib:/tmp/loop_over_bdir-1601045-niXMfj/ProjectBuilder-0.14.1-0/blib/arch:/tmp/loop_over_bdir-1601045-niXMfj/ProjectBuilder-0.14.1-0/blib/lib:/tmp/loop_over_bdir-1601045-niXMfj/Lemonldap-NG-Cli-0.2-0/blib/arch:/tmp/loop_over_bdir-1601045-niXMfj/Lemonldap-NG-Cli-0.2-0/blib/lib
    PERL5OPT = 
    PERL5_CPANPLUS_IS_RUNNING = 1601116
    PERL5_CPAN_IS_RUNNING = 1601116
    PERL_CANARY_STABILITY_NOPROMPT = 1
    PERL_MM_USE_DEFAULT = 1
    PERL_USE_UNSAFE_INC = 1
    SHELL = /usr/bin/zsh
    TERM = screen
Perl special variables (and OS-specific diagnostics, for MSWin32):
    $^X = /tmp/basesmoker-reloperl-niLM/bin/perl
    $UID/$EUID = 1005 / 1005
    $GID = 1005 1005
    $EGID = 1005 1005
Perl module toolchain versions installed:
    Module              Have    
    ------------------- --------
    CPAN                2.34    
    CPAN::Meta          2.150010
    Cwd                 3.89    
    ExtUtils::CBuilder  0.280238
    ExtUtils::Command   7.68    
    ExtUtils::Install   2.22    
    ExtUtils::MakeMaker 7.68    
    ExtUtils::Manifest  1.73    
    ExtUtils::ParseXS   3.49    
    File::Spec          3.88    
    JSON                4.10    
    JSON::PP            4.16    
    Module::Build       0.4232  
    Module::Signature   0.88    
    Parse::CPAN::Meta   2.150010
    Test::Harness       3.44    
    Test::More          1.302194
    YAML                1.30    
    YAML::Syck          1.34    
    version             0.9929  
--
Summary of my perl5 (revision 5 version 37 subversion 10) configuration:
  Commit id: d62f5d9eddd273f5a82c0dbad932a8f4d18f9488
  Platform:
    osname=linux
    osvers=5.19.0-35-generic
    archname=x86_64-linux-ld
    uname='linux k93jammy 5.19.0-35-generic #36~22.04.1-ubuntu smp preempt_dynamic fri feb 17 15:17:25 utc 2 x86_64 x86_64 x86_64 gnulinux '
    config_args='-Dprefix=/home/sand/src/perl/repoperls/installed-perls/host/k93jammy/v5.37.10/5674 -Dmyhostname=k93jammy -Dinstallusrbinperl=n -Uversiononly -Dusedevel -des -Ui_db -Dlibswanted=cl pthread socket inet nsl gdbm dbm malloc dl ld sun m crypt sec util c cposix posix ucb BSD gdbm_compat -Uuseithreads -Duselongdouble -DEBUGGING=-g'
    hint=recommended
    useposix=true
    d_sigaction=define
    useithreads=undef
    usemultiplicity=undef
    use64bitint=define
    use64bitall=define
    uselongdouble=define
    usemymalloc=n
    default_inc_excludes_dot=define
  Compiler:
    cc='cc'
    ccflags ='-fwrapv -fno-strict-aliasing -pipe -fstack-protector-strong -I/usr/local/include -D_LARGEFILE_SOURCE -D_FILE_OFFSET_BITS=64'
    optimize='-O2 -g'
    cppflags='-fwrapv -fno-strict-aliasing -pipe -fstack-protector-strong -I/usr/local/include'
    ccversion=''
    gccversion='11.3.0'
    gccosandvers=''
    intsize=4
    longsize=8
    ptrsize=8
    doublesize=8
    byteorder=12345678
    doublekind=3
    d_longlong=define
    longlongsize=8
    d_longdbl=define
    longdblsize=16
    longdblkind=3
    ivtype='long'
    ivsize=8
    nvtype='long double'
    nvsize=16
    Off_t='off_t'
    lseeksize=8
    alignbytes=16
    prototype=define
  Linker and Libraries:
    ld='cc'
    ldflags =' -fstack-protector-strong -L/usr/local/lib'
    libpth=/usr/local/lib /usr/lib/x86_64-linux-gnu /usr/lib /usr/lib64
    libs=-lpthread -lnsl -ldl -lm -lcrypt -lutil -lc
    perllibs=-lpthread -lnsl -ldl -lm -lcrypt -lutil -lc
    libc=/lib/x86_64-linux-gnu/libc.so.6
    so=so
    useshrplib=false
    libperl=libperl.a
    gnulibc_version='2.35'
  Dynamic Linking:
    dlsrc=dl_dlopen.xs
    dlext=so
    d_dlsymun=undef
    ccdlflags='-Wl,-E'
    cccdlflags='-fPIC'
    lddlflags='-shared -O2 -g -L/usr/local/lib -fstack-protector-strong'
Characteristics of this binary (from libperl): 
  Compile-time options:
    HAS_TIMES
    PERLIO_LAYERS
    PERL_COPY_ON_WRITE
    PERL_DONT_CREATE_GVSV
    PERL_HASH_FUNC_SIPHASH13
    PERL_HASH_USE_SBOX32
    PERL_MALLOC_WRAP
    PERL_OP_PARENT
    PERL_PRESERVE_IVUV
    PERL_USE_DEVEL
    PERL_USE_SAFE_PUTENV
    USE_64_BIT_ALL
    USE_64_BIT_INT
    USE_LARGE_FILES
    USE_LOCALE
    USE_LOCALE_COLLATE
    USE_LOCALE_CTYPE
    USE_LOCALE_NUMERIC
    USE_LOCALE_TIME
    USE_LONG_DOUBLE
    USE_PERLIO
    USE_PERL_ATOF
  Built under linux
  Compiled at Mar 21 2023 11:44:29
  %ENV:
    PERL="/tmp/basesmoker-reloperl-niLM/bin/perl"
    PERL5LIB="/tmp/loop_over_bdir-1601045-niXMfj/Lingua-BioYaTeA-0.11-0/blib/arch:/tmp/loop_over_bdir-1601045-niXMfj/Lingua-BioYaTeA-0.11-0/blib/lib:/tmp/loop_over_bdir-1601045-niXMfj/Lingua-YaTeA-0.626-0/blib/arch:/tmp/loop_over_bdir-1601045-niXMfj/Lingua-YaTeA-0.626-0/blib/lib:/tmp/loop_over_bdir-1601045-niXMfj/Dpkg-1.21.19-0/blib/arch:/tmp/loop_over_bdir-1601045-niXMfj/Dpkg-1.21.19-0/blib/lib:/tmp/loop_over_bdir-1601045-niXMfj/App-oo_modulino_zsh_completion_helper-0.04-0/blib/arch:/tmp/loop_over_bdir-1601045-niXMfj/App-oo_modulino_zsh_completion_helper-0.04-0/blib/lib:/tmp/loop_over_bdir-1601045-niXMfj/ProjectBuilder-0.14.1-0/blib/arch:/tmp/loop_over_bdir-1601045-niXMfj/ProjectBuilder-0.14.1-0/blib/lib:/tmp/loop_over_bdir-1601045-niXMfj/Lemonldap-NG-Cli-0.2-0/blib/arch:/tmp/loop_over_bdir-1601045-niXMfj/Lemonldap-NG-Cli-0.2-0/blib/lib"
    PERL5OPT=""
    PERL5_CPANPLUS_IS_RUNNING="1601116"
    PERL5_CPAN_IS_RUNNING="1601116"
    PERL_CANARY_STABILITY_NOPROMPT="1"
    PERL_MM_USE_DEFAULT="1"
    PERL_USE_UNSAFE_INC="1"
  @INC:
    /tmp/loop_over_bdir-1601045-niXMfj/Lingua-BioYaTeA-0.11-0/blib/arch
    /tmp/loop_over_bdir-1601045-niXMfj/Lingua-BioYaTeA-0.11-0/blib/lib
    /tmp/loop_over_bdir-1601045-niXMfj/Lingua-YaTeA-0.626-0/blib/arch
    /tmp/loop_over_bdir-1601045-niXMfj/Lingua-YaTeA-0.626-0/blib/lib
    /tmp/loop_over_bdir-1601045-niXMfj/Dpkg-1.21.19-0/blib/arch
    /tmp/loop_over_bdir-1601045-niXMfj/Dpkg-1.21.19-0/blib/lib
    /tmp/loop_over_bdir-1601045-niXMfj/App-oo_modulino_zsh_completion_helper-0.04-0/blib/arch
    /tmp/loop_over_bdir-1601045-niXMfj/App-oo_modulino_zsh_completion_helper-0.04-0/blib/lib
    /tmp/loop_over_bdir-1601045-niXMfj/ProjectBuilder-0.14.1-0/blib/arch
    /tmp/loop_over_bdir-1601045-niXMfj/ProjectBuilder-0.14.1-0/blib/lib
    /tmp/loop_over_bdir-1601045-niXMfj/Lemonldap-NG-Cli-0.2-0/blib/arch
    /tmp/loop_over_bdir-1601045-niXMfj/Lemonldap-NG-Cli-0.2-0/blib/lib
    /home/sand/src/perl/repoperls/installed-perls/host/k93jammy/v5.37.10/5674/lib/site_perl/5.37.10/x86_64-linux-ld
    /home/sand/src/perl/repoperls/installed-perls/host/k93jammy/v5.37.10/5674/lib/site_perl/5.37.10
    /home/sand/src/perl/repoperls/installed-perls/host/k93jammy/v5.37.10/5674/lib/5.37.10/x86_64-linux-ld
    /home/sand/src/perl/repoperls/installed-perls/host/k93jammy/v5.37.10/5674/lib/5.37.10
    .