Report for HTML-Shakan-2.00

Back
From: metabase:user:8286d1fc-3d52-11e2-9ec4-cb9cdd236785
Subject: PASS HTML-Shakan-2.00 v5.19.11 GNU/Linux
Date: 2014-04-01T11:18:06Z

This distribution has been tested as part of the CPAN Testers
project, supporting the Perl programming language.  See
http://wiki.cpantesters.org/ for more information or email
questions to cpan-testers-discuss@perl.org


--
Dear Masayuki Matsuki,

This is a computer-generated report for HTML-Shakan-2.00
on perl 5.19.11, created by CPAN-Reporter-1.2011.

Thank you for uploading your work to CPAN.  Congratulations!
All tests were successful.

Sections of this report:

    * Tester comments
    * Program output
    * Prerequisites
    * Environment and other context

------------------------------
TESTER COMMENTS
------------------------------

Additional comments from tester:

this report is from an automated smoke testing program
and was not reviewed by a human for accuracy

------------------------------
PROGRAM OUTPUT
------------------------------

Output from './Build test':

t/00_compile.t ............................. ok
t/010_core/001_render.t .................... ok
# FVL: 0.37
t/010_core/002_validator.t ................. ok
t/010_core/003_widgets.t ................... ok
t/010_core/004_filter.t .................... ok
t/010_core/005_bind_filter.t ............... ok
t/010_core/006_fillin_form.t ............... ok
t/010_core/007_fillin_date.t ............... ok
t/010_core/008_declare.t ................... ok
t/010_core/009_validator_message.t ......... ok
t/010_core/010_submitted.t ................. ok
t/010_core/011_custom_validation_form.t .... ok
t/010_core/012_custom_validation_field.t ... ok
t/010_core/013_render_field.t .............. ok
t/010_core/014_multi_value.t ............... ok
t/020_inflator/001_datetime.t .............. skipped: Test requires module 'DateTime::Format::HTTP' but it's not found
t/020_inflator/002_dt_join.t ............... skipped: Test requires module 'DateTime::Format::HTTP' but it's not found
# FVL: 0.37
t/030_field/001_file.t ..................... ok
# FVL: 0.37
t/030_field/002_image.t .................... ok
t/030_field/003_duplication.t .............. ok
t/040_model/001_datamodel.t ................ skipped: Test requires module 'Data::Model' but it's not found
t/040_model/002_skinny.t ................... skipped: Test requires module 'DBIx::Skinny' but it's not found
t/999_regression/001_destructive_widget.t .. ok
t/upload_submitted.t ....................... ok
All tests successful.
Files=24, Tests=85, 18 wallclock secs ( 0.21 usr  0.09 sys + 13.19 cusr  1.52 csys = 15.01 CPU)
Result: PASS

------------------------------
PREREQUISITES
------------------------------

Prerequisite modules loaded:

requires:

    Module              Need     Have    
    ------------------- -------- --------
    Email::Valid::Loose 0.05     0.05    
    FormValidator::Lite 0.24     0.37    
    Hash::MultiValue    0        0.15    
    HTML::Escape        0        1.08    
    List::MoreUtils     0.22     0.33    
    List::Util          1.32     1.38    
    Mouse               0.9      2.1.1   
    parent              0        0.228   
    perl                5.008001 5.019011

build_requires:

    Module              Need     Have    
    ------------------- -------- --------
    CGI                 0        3.65    
    ExtUtils::CBuilder  0        0.280216
    Test::More          0.98     1.001003
    Test::Requires      0.06     0.07    

configure_requires:

    Module              Need     Have    
    ------------------- -------- --------
    CPAN::Meta          0        2.140640
    CPAN::Meta::Prereqs 0        2.140640
    Module::Build       0.38     0.4205  


------------------------------
ENVIRONMENT AND OTHER CONTEXT
------------------------------

Environment variables:

    AUTOMATED_TESTING = 1
    LANG = en_US.UTF-8
    LD_LIBRARY_PATH = /usr/local/lib
    PATH = /usr/lib/qt-3.3/bin:/usr/kerberos/sbin:/usr/kerberos/bin:/usr/lib/ccache:/usr/local/sbin:/usr/local/bin:/sbin:/bin:/usr/sbin:/usr/bin:/usr/X11R6/bin:/usr/lib/alliance/bin:/opt/real/RealPlayer:/root/bin:/usr/lib/alliance/bin:/opt/real/RealPlayer
    PERL5LIB = 
    PERL5OPT = 
    PERL5_CPANPLUS_IS_RUNNING = 28009
    PERL5_CPAN_IS_RUNNING = 28009
    PERL_MM_USE_DEFAULT = 1
    SHELL = /bin/bash
    TERM = xterm

Perl special variables (and OS-specific diagnostics, for MSWin32):

    $^X = /opt/perl445-27-no-5.19.11/bin/perl
    $UID/$EUID = 0 / 0
    $GID = 0 0 1 2 3 4 6 10
    $EGID = 0 0 1 2 3 4 6 10

Perl module toolchain versions installed:

    Module              Have    
    ------------------- --------
    CPAN                2.04    
    CPAN::Meta          2.140640
    Cwd                 3.47    
    ExtUtils::CBuilder  0.280216
    ExtUtils::Command   1.18    
    ExtUtils::Install   1.64    
    ExtUtils::MakeMaker 6.94    
    ExtUtils::Manifest  1.63    
    ExtUtils::ParseXS   3.24    
    File::Spec          3.47    
    JSON                2.90    
    JSON::PP            2.27203 
    Module::Build       0.4205  
    Module::Signature   0.73    
    Parse::CPAN::Meta   1.4414  
    Test::Harness       3.30    
    Test::More          1.001003
    YAML                0.90    
    YAML::Syck          1.27    
    version             0.9908  


--

Summary of my perl5 (revision 5 version 19 subversion 11) configuration:
  Snapshot of: b776cec1883eef3d02b83a6efba6c604b30478af
  Platform:
    osname=linux, osvers=2.6.27-repin.1, archname=i686-linux
    uname='linux localhost.localdomain 2.6.27-repin.1 #1 smp tue jan 25 20:07:21 msk 2011 i686 i686 i386 gnulinux '
    config_args='-Dcc=/opt/445/bin/gcc -Dprefix=/opt/perl445-27-no-5.19.11 -DDEBUGGING'
    hint=recommended, useposix=true, d_sigaction=define
    useithreads=undef, usemultiplicity=undef
    use64bitint=undef, use64bitall=undef, uselongdouble=undef
    usemymalloc=y, bincompat5005=undef
  Compiler:
    cc='/opt/445/bin/gcc', ccflags ='-DDEBUGGING -fno-strict-aliasing -pipe -fstack-protector -I/usr/local/include -I/opt/gnu/include -D_LARGEFILE_SOURCE -D_FILE_OFFSET_BITS=64',
    optimize='-O2 -g',
    cppflags='-DDEBUGGING -fno-strict-aliasing -pipe -fstack-protector -I/usr/local/include -I/opt/gnu/include'
    ccversion='', gccversion='4.4.5', gccosandvers=''
    intsize=4, longsize=4, ptrsize=4, doublesize=8, byteorder=1234
    d_longlong=define, longlongsize=8, d_longdbl=define, longdblsize=12
    ivtype='long', ivsize=4, nvtype='double', nvsize=8, Off_t='off_t', lseeksize=8
    alignbytes=4, prototype=define
  Linker and Libraries:
    ld='/opt/445/bin/gcc', ldflags =' -fstack-protector -L/usr/local/lib'
    libpth=/usr/local/lib /opt/445/lib /opt/445/lib/gcc/i686-pc-linux-gnu/4.4.5/include-fixed /usr/lib /lib
    libs=-lnsl -lgdbm -ldb -ldl -lm -lcrypt -lutil -lc
    perllibs=-lnsl -ldl -lm -lcrypt -lutil -lc
    libc=libc-2.5.so, so=so, useshrplib=false, libperl=libperl.a
    gnulibc_version='2.5'
  Dynamic Linking:
    dlsrc=dl_dlopen.xs, dlext=so, d_dlsymun=undef, ccdlflags='-Wl,-E'
    cccdlflags='-fPIC', lddlflags='-shared -O2 -g -L/usr/local/lib -fstack-protector'


Characteristics of this binary (from libperl): 
  Compile-time options: DEBUGGING HAS_TIMES MYMALLOC PERLIO_LAYERS
                        PERL_DONT_CREATE_GVSV
                        PERL_HASH_FUNC_ONE_AT_A_TIME_HARD PERL_MAD
                        PERL_MALLOC_WRAP PERL_NEW_COPY_ON_WRITE
                        PERL_PRESERVE_IVUV USE_FAST_STDIO USE_LARGE_FILES
                        USE_LOCALE USE_LOCALE_COLLATE USE_LOCALE_CTYPE
                        USE_LOCALE_NUMERIC USE_PERLIO USE_PERL_ATOF
  Built under linux
  Compiled at Mar 22 2014 07:51:09
  %ENV:
    PERL5LIB=""
    PERL5OPT=""
    PERL5_CPANPLUS_IS_RUNNING="28009"
    PERL5_CPAN_IS_RUNNING="28009"
    PERL_MM_USE_DEFAULT="1"
  @INC:
    /opt/perl445-27-no-5.19.11/lib/site_perl/5.19.11/i686-linux
    /opt/perl445-27-no-5.19.11/lib/site_perl/5.19.11
    /opt/perl445-27-no-5.19.11/lib/5.19.11/i686-linux
    /opt/perl445-27-no-5.19.11/lib/5.19.11
    .