Tags-HTML-Element v0.15 Perl 5 v5.40.0 x86_64-linux
- Status
- Pass
- From
- David Cantrell (DCANTRELL)
- Dist
-
Tags-HTML-Element v0.15
- Platform
- Perl 5 v5.40.0 x86_64-linux
- Date
- 2024-06-26 05:38:21
- ID
- 4c85d09c-337e-11ef-8624-88694aa7b6d4
This distribution has been tested as part of the CPAN Testers
project, supporting the Perl programming language. See
http://wiki.cpantesters.org/ for more information or email
questions to cpan-testers-discuss@perl.org
--
Dear Michal Josef Spacek,
This is a computer-generated report for Tags-HTML-Element-0.15
on perl 5.40.0, created by CPAN-Reporter-1.2019.
Thank you for uploading your work to CPAN. Congratulations!
All tests were successful.
Sections of this report:
* Tester comments
* Program output
* Prerequisites
* Environment and other context
------------------------------
TESTER COMMENTS
------------------------------
Additional comments from tester:
this report is from an automated smoke testing program
and was not reviewed by a human for accuracy
------------------------------
PROGRAM OUTPUT
------------------------------
Output from '/usr/bin/make test':
PERL_DL_NONLAZY=1 "/home/david/cpantesting/perl-5.40.0/bin/perl" "-MExtUtils::Command::MM" "-MTest::Harness" "-e" "undef *Test::Harness::Switches; test_harness(0, 'inc', 'blib/lib', 'blib/arch')" t/Tags-HTML-Element-A/*.t t/Tags-HTML-Element-Button/*.t t/Tags-HTML-Element-Form/*.t t/Tags-HTML-Element-Input/*.t t/Tags-HTML-Element-Option/*.t t/Tags-HTML-Element-Select/*.t t/Tags-HTML-Element-Textarea/*.t t/Tags-HTML-Element-Utils/*.t t/Tags-HTML-Element/*.t
t/Tags-HTML-Element-A/01-use.t ................. ok
t/Tags-HTML-Element-A/02-version.t ............. ok
t/Tags-HTML-Element-A/03-new.t ................. ok
t/Tags-HTML-Element-A/04-cleanup.t ............. ok
t/Tags-HTML-Element-A/05-init.t ................ ok
t/Tags-HTML-Element-A/06-process.t ............. ok
t/Tags-HTML-Element-A/07-process_css.t ......... ok
t/Tags-HTML-Element-Button/01-use.t ............ ok
t/Tags-HTML-Element-Button/02-version.t ........ ok
t/Tags-HTML-Element-Button/03-new.t ............ ok
t/Tags-HTML-Element-Button/04-cleanup.t ........ ok
t/Tags-HTML-Element-Button/05-init.t ........... ok
t/Tags-HTML-Element-Button/06-process.t ........ ok
t/Tags-HTML-Element-Button/07-process_css.t .... ok
t/Tags-HTML-Element-Form/01-use.t .............. ok
t/Tags-HTML-Element-Form/02-version.t .......... ok
t/Tags-HTML-Element-Form/03-new.t .............. ok
t/Tags-HTML-Element-Form/04-cleanup.t .......... ok
t/Tags-HTML-Element-Form/05-init.t ............. ok
t/Tags-HTML-Element-Form/06-process.t .......... ok
t/Tags-HTML-Element-Form/07-process_css.t ...... ok
t/Tags-HTML-Element-Input/01-use.t ............. ok
t/Tags-HTML-Element-Input/02-version.t ......... ok
t/Tags-HTML-Element-Input/03-new.t ............. ok
t/Tags-HTML-Element-Input/04-init.t ............ ok
t/Tags-HTML-Element-Input/05-process.t ......... ok
t/Tags-HTML-Element-Input/06-process_css.t ..... ok
t/Tags-HTML-Element-Option/01-use.t ............ ok
t/Tags-HTML-Element-Option/02-version.t ........ ok
t/Tags-HTML-Element-Option/03-new.t ............ ok
t/Tags-HTML-Element-Option/04-cleanup.t ........ ok
t/Tags-HTML-Element-Option/05-init.t ........... ok
t/Tags-HTML-Element-Option/06-process.t ........ ok
t/Tags-HTML-Element-Option/07-process_css.t .... ok
t/Tags-HTML-Element-Select/01-use.t ............ ok
t/Tags-HTML-Element-Select/02-version.t ........ ok
t/Tags-HTML-Element-Select/03-new.t ............ ok
t/Tags-HTML-Element-Select/04-cleanup.t ........ ok
t/Tags-HTML-Element-Select/05-init.t ........... ok
t/Tags-HTML-Element-Select/06-process.t ........ ok
t/Tags-HTML-Element-Select/07-process_css.t .... ok
t/Tags-HTML-Element-Textarea/01-use.t .......... ok
t/Tags-HTML-Element-Textarea/02-version.t ...... ok
t/Tags-HTML-Element-Textarea/03-new.t .......... ok
t/Tags-HTML-Element-Textarea/04-cleanup.t ...... ok
t/Tags-HTML-Element-Textarea/05-init.t ......... ok
t/Tags-HTML-Element-Textarea/06-process.t ...... ok
t/Tags-HTML-Element-Textarea/07-process_css.t .. ok
t/Tags-HTML-Element-Utils/01-use.t ............. ok
t/Tags-HTML-Element-Utils/02-version.t ......... ok
t/Tags-HTML-Element-Utils/03-tags_boolean.t .... ok
t/Tags-HTML-Element-Utils/04-tags_data.t ....... ok
t/Tags-HTML-Element-Utils/05-tags_label.t ...... ok
t/Tags-HTML-Element-Utils/06-tags_value.t ...... ok
t/Tags-HTML-Element/01-use.t ................... ok
t/Tags-HTML-Element/02-version.t ............... ok
All tests successful.
Files=56, Tests=243, 10 wallclock secs ( 0.16 usr 0.09 sys + 5.17 cusr 0.84 csys = 6.26 CPU)
Result: PASS
------------------------------
PREREQUISITES
------------------------------
Prerequisite modules loaded:
requires:
Module Need Have
------------------------------ ----- ----------
Class::Utils 0 0.14
Error::Pure 0 0.34
perl 5.008 5.040000
Scalar::Util 0 1.63
Tags::HTML 0.06 0.1
build_requires:
Module Need Have
------------------------------ ----- ----------
CSS::Struct::Output::Structure 0.03 0.04
Data::HTML::Element::Button 0.1 0.17
Data::HTML::Element::Form 0.1 0.17
Data::HTML::Element::Input 0.13 0.17
Data::HTML::Element::Select 0.14 0.17
Data::HTML::Element::Textarea 0.1 0.17
English 0 1.11
Error::Pure::Utils 0 0.34
ExtUtils::MakeMaker 6.59 7.71_01
Tags::Output::Structure 0 0.08
Test::MockObject 0 1.20200122
Test::More 0 1.302199
Test::NoWarnings 0 1.06
configure_requires:
Module Need Have
------------------------------ ----- ----------
ExtUtils::MakeMaker 6.59 7.71_01
------------------------------
ENVIRONMENT AND OTHER CONTEXT
------------------------------
Environment variables:
AUTOMATED_TESTING = 1
LANG = en_GB.UTF-8
LANGUAGE = en_GB:en
LC_TERMINAL = iTerm2
LC_TERMINAL_VERSION = 3.5.0
NONINTERACTIVE_TESTING = 1
PATH = /home/david/.nvm/versions/node/v20.14.0/bin:/home/david/.cargo/bin:/home/david/perl5/perlbrew/bin:/home/david/perl5/perlbrew/perls/perl-5.30.2/bin:/home/david/bin:/usr/local/bin:/usr/bin:/bin:/usr/local/games:/usr/games
PERL = 5.40.0
PERL5LIB =
PERL5OPT =
PERL5_CPANPLUS_IS_RUNNING = 915086
PERL5_CPAN_IS_RUNNING = 915086
PERLBREW_HOME = /home/david/.perlbrew
PERLBREW_MANPATH = /home/david/perl5/perlbrew/perls/perl-5.30.2/man
PERLBREW_PATH = /home/david/perl5/perlbrew/bin:/home/david/perl5/perlbrew/perls/perl-5.30.2/bin
PERLBREW_PERL = perl-5.30.2
PERLBREW_ROOT = /home/david/perl5/perlbrew
PERLBREW_SHELLRC_VERSION = 0.98
PERLBREW_VERSION = 0.98
PERLVER = 5.40.0
PERL_INLINE_DIRECTORY = /home/david/.Inline-5.40.0
PERL_MM_USE_DEFAULT = 1
PERL_USE_UNSAFE_INC = 0
SHELL = /bin/bash
TERM = screen
Perl special variables (and OS-specific diagnostics, for MSWin32):
$^X = /home/david/cpantesting/perl-5.40.0/bin/perl
$UID/$EUID = 1000 / 1000
$GID = 1000 24 25 27 29 30 44 46 109 1000
$EGID = 1000 24 25 27 29 30 44 46 109 1000
Perl module toolchain versions installed:
Module Have
------------------- --------
CPAN 2.36
CPAN::Meta 2.150010
Cwd 3.90
ExtUtils::CBuilder 0.280240
ExtUtils::Command 7.71_01
ExtUtils::Install 2.22
ExtUtils::MakeMaker 7.71_01
ExtUtils::Manifest 1.75
ExtUtils::ParseXS 3.51
File::Spec 3.90
JSON 4.10
JSON::PP 4.16
Module::Build 0.4234
Module::Signature 0.88
Parse::CPAN::Meta 2.150010
Test2 1.302199
Test::Harness 3.48
Test::More 1.302199
YAML 1.31
YAML::Syck 1.34
version 0.9932
--
Summary of my perl5 (revision 5 version 40 subversion 0) configuration:
Platform:
osname=linux
osvers=6.1.0-11-amd64
archname=x86_64-linux
uname='linux cpantesting-linux 6.1.0-11-amd64 #1 smp preempt_dynamic debian 6.1.38-4 (2023-08-08) x86_64 gnulinux '
config_args='-de -Dprefix=/home/david/cpantesting/perl-5.40.0'
hint=recommended
useposix=true
d_sigaction=define
useithreads=undef
usemultiplicity=undef
use64bitint=define
use64bitall=define
uselongdouble=undef
usemymalloc=n
default_inc_excludes_dot=define
Compiler:
cc='cc'
ccflags ='-fwrapv -fno-strict-aliasing -pipe -fstack-protector-strong -I/usr/local/include -D_LARGEFILE_SOURCE -D_FILE_OFFSET_BITS=64 -D_FORTIFY_SOURCE=2'
optimize='-O2'
cppflags='-fwrapv -fno-strict-aliasing -pipe -fstack-protector-strong -I/usr/local/include'
ccversion=''
gccversion='12.2.0'
gccosandvers=''
intsize=4
longsize=8
ptrsize=8
doublesize=8
byteorder=12345678
doublekind=3
d_longlong=define
longlongsize=8
d_longdbl=define
longdblsize=16
longdblkind=3
ivtype='long'
ivsize=8
nvtype='double'
nvsize=8
Off_t='off_t'
lseeksize=8
alignbytes=8
prototype=define
Linker and Libraries:
ld='cc'
ldflags =' -fstack-protector-strong -L/usr/local/lib'
libpth=/usr/local/lib /usr/lib/x86_64-linux-gnu /usr/lib /usr/lib64
libs=-lpthread -ldl -lm -lcrypt -lutil -lc
perllibs=-lpthread -ldl -lm -lcrypt -lutil -lc
libc=/lib/x86_64-linux-gnu/libc.so.6
so=so
useshrplib=false
libperl=libperl.a
gnulibc_version='2.36'
Dynamic Linking:
dlsrc=dl_dlopen.xs
dlext=so
d_dlsymun=undef
ccdlflags='-Wl,-E'
cccdlflags='-fPIC'
lddlflags='-shared -O2 -L/usr/local/lib -fstack-protector-strong'
Characteristics of this binary (from libperl):
Compile-time options:
HAS_LONG_DOUBLE
HAS_STRTOLD
HAS_TIMES
PERLIO_LAYERS
PERL_COPY_ON_WRITE
PERL_DONT_CREATE_GVSV
PERL_HASH_FUNC_SIPHASH13
PERL_HASH_USE_SBOX32
PERL_MALLOC_WRAP
PERL_OP_PARENT
PERL_PRESERVE_IVUV
PERL_USE_SAFE_PUTENV
USE_64_BIT_ALL
USE_64_BIT_INT
USE_LARGE_FILES
USE_LOCALE
USE_LOCALE_COLLATE
USE_LOCALE_CTYPE
USE_LOCALE_NUMERIC
USE_LOCALE_TIME
USE_PERLIO
USE_PERL_ATOF
Built under linux
Compiled at Jun 10 2024 20:32:24
%ENV:
PERL="5.40.0"
PERL5LIB=""
PERL5OPT=""
PERL5_CPANPLUS_IS_RUNNING="915086"
PERL5_CPAN_IS_RUNNING="915086"
PERLBREW_HOME="/home/david/.perlbrew"
PERLBREW_MANPATH="/home/david/perl5/perlbrew/perls/perl-5.30.2/man"
PERLBREW_PATH="/home/david/perl5/perlbrew/bin:/home/david/perl5/perlbrew/perls/perl-5.30.2/bin"
PERLBREW_PERL="perl-5.30.2"
PERLBREW_ROOT="/home/david/perl5/perlbrew"
PERLBREW_SHELLRC_VERSION="0.98"
PERLBREW_VERSION="0.98"
PERLVER="5.40.0"
PERL_INLINE_DIRECTORY="/home/david/.Inline-5.40.0"
PERL_MM_USE_DEFAULT="1"
PERL_USE_UNSAFE_INC="0"
@INC:
/home/david/cpantesting/perl-5.40.0/lib/site_perl/5.40.0/x86_64-linux
/home/david/cpantesting/perl-5.40.0/lib/site_perl/5.40.0
/home/david/cpantesting/perl-5.40.0/lib/5.40.0/x86_64-linux
/home/david/cpantesting/perl-5.40.0/lib/5.40.0