Test-LectroTest v0.5001 Perl 5 v5.14.4 arm-freebsd-thread-multi

Status
Pass
From
Nigel Horne
Dist
Test-LectroTest v0.5001
Platform
Perl 5 v5.14.4 arm-freebsd-thread-multi
Date
2017-12-04 03:00:35
ID
4c675d7e-d89f-11e7-b8bd-809199b835e7
This distribution has been tested as part of the CPAN Testers
project, supporting the Perl programming language.  See
http://wiki.cpantesters.org/ for more information or email
questions to cpan-testers-discuss@perl.org


--
Dear Tom Moertel,

This is a computer-generated report for Test-LectroTest-0.5001
on perl 5.14.4, created by CPAN-Reporter-1.2018.

Thank you for uploading your work to CPAN.  Congratulations!
All tests were successful.

Sections of this report:

    * Tester comments
    * Program output
    * Prerequisites
    * Environment and other context

------------------------------
TESTER COMMENTS
------------------------------

Additional comments from tester:

this report is from an automated smoke testing program
and was not reviewed by a human for accuracy

------------------------------
PROGRAM OUTPUT
------------------------------

Output from '/usr/bin/make test':

PERL_DL_NONLAZY=1 "/home/njh/perl5/perlbrew/perls/perl-5.14.4/bin/perl5.14.4" "-MExtUtils::Command::MM" "-MTest::Harness" "-e" "undef *Test::Harness::Switches; test_harness(0, 'blib/lib', 'blib/arch')" t/*.t
t/docs-eg.t ............... ok
t/pod-coverage.t .......... skipped: Test::Pod::Coverage 1.00 required for testing POD coverage
t/compat.t ................ ok
t/props.t ................. ok
t/pod.t ................... ok
t/props2.t ................ ok
t/release-pod-coverage.t .. skipped: these tests are for release candidate testing
t/release-pod-syntax.t .... skipped: these tests are for release candidate testing
t/harness.t ............... ok
t/runner.t ................ ok
t/recorder.t .............. ok
t/gens.t .................. ok
All tests successful.
Files=12, Tests=337, 127 wallclock secs ( 0.98 usr  0.26 sys + 145.77 cusr  6.88 csys = 153.89 CPU)
Result: PASS

------------------------------
PREREQUISITES
------------------------------

Prerequisite modules loaded:

requires:

    Module              Need Have    
    ------------------- ---- --------
    Carp                0    1.38    
    Class::Struct       0    0.63    
    constant            0    1.21    
    Data::Dumper        0    2.130_02
    Exporter            0    5.64_03 
    Filter::Util::Call  0    1.08    
    POSIX               0    1.24    
    Scalar::Util        0    1.47    
    strict              0    1.04    
    Test::Builder       0    1.302073
    warnings            0    1.12    

build_requires:

    Module              Need Have    
    ------------------- ---- --------
    File::Temp          0    0.22    
    Test::More          0    1.302073

configure_requires:

    Module              Need Have    
    ------------------- ---- --------
    ExtUtils::MakeMaker 6.30 7.24    


------------------------------
ENVIRONMENT AND OTHER CONTEXT
------------------------------

Environment variables:

    AUTOMATED_TESTING = 1
    HARNESS_OPTIONS = j4
    PATH = /home/njh/perl5/perlbrew/bin:/home/njh/perl5/perlbrew/perls/perl-5.14.4/bin:/sbin:/bin:/usr/sbin:/usr/bin:/usr/local/sbin:/usr/local/bin:src/njh/smoker/bin
    PERL5LIB = /home/njh/.cpan/build/Devel-CheckOS-1.80-1/blib/arch:/home/njh/.cpan/build/Devel-CheckOS-1.80-1/blib/lib:/home/njh/.cpan/build/Data-Compare-1.25-1/blib/arch:/home/njh/.cpan/build/Data-Compare-1.25-1/blib/lib:/home/njh/.cpan/build/File-Find-Rule-0.34-1/blib/arch:/home/njh/.cpan/build/File-Find-Rule-0.34-1/blib/lib:/home/njh/.cpan/build/Text-Glob-0.11-1/blib/arch:/home/njh/.cpan/build/Text-Glob-0.11-1/blib/lib:/home/njh/.cpan/build/Number-Compare-0.03-1/blib/arch:/home/njh/.cpan/build/Number-Compare-0.03-1/blib/lib
    PERL5OPT = 
    PERL5_CPANPLUS_IS_RUNNING = 93180
    PERL5_CPAN_IS_RUNNING = 93180
    PERLBREW_BASHRC_VERSION = 0.80
    PERLBREW_HOME = /home/njh/.perlbrew
    PERLBREW_MANPATH = /home/njh/perl5/perlbrew/perls/perl-5.14.4/man
    PERLBREW_PATH = /home/njh/perl5/perlbrew/bin:/home/njh/perl5/perlbrew/perls/perl-5.14.4/bin
    PERLBREW_PERL = perl-5.14.4
    PERLBREW_ROOT = /home/njh/perl5/perlbrew
    PERLBREW_VERSION = 0.80
    SHELL = /bin/sh

Perl special variables (and OS-specific diagnostics, for MSWin32):

    $^X = /home/njh/perl5/perlbrew/perls/perl-5.14.4/bin/perl5.14.4
    $UID/$EUID = 1000 / 1000
    $GID = 1000 1000 0
    $EGID = 1000 1000 0

Perl module toolchain versions installed:

    Module              Have    
    ------------------- --------
    CPAN                2.16    
    CPAN::Meta          2.143240
    Cwd                 3.36    
    ExtUtils::CBuilder  0.280203
    ExtUtils::Command   7.24    
    ExtUtils::Install   1.56    
    ExtUtils::MakeMaker 7.24    
    ExtUtils::Manifest  1.70    
    ExtUtils::ParseXS   2.2210  
    File::Spec          3.33    
    JSON                2.90    
    JSON::PP            2.27400 
    Module::Build       0.4224  
    Module::Signature   n/a     
    Parse::CPAN::Meta   1.4414  
    Test::Harness       3.36    
    Test::More          1.302073
    YAML                1.23    
    YAML::Syck          1.30    
    version             0.88    


--

Summary of my perl5 (revision 5 version 14 subversion 4) configuration:
   
  Platform:
    osname=freebsd, osvers=11.0-rc1, archname=arm-freebsd-thread-multi
    uname='freebsd pi2b 11.0-rc1 freebsd 11.0-rc1 #0 r303979: fri aug 12 17:12:13 utc 2016 root@releng2.nyi.freebsd.org:usrobjarm.armv6usrsrcsysrpi2 arm '
    config_args='-de -Dprefix=/home/njh/perl5/perlbrew/perls/perl-5.14.4 -Duseithreads -Dusemultiplicity -Dusedevel -Accflags=-O2 -W -Wformat=2 -Wswitch -Wshadow -Wwrite-strings -Wuninitialized -Wall -pipe -Aeval:scriptdir=/home/njh/perl5/perlbrew/perls/perl-5.14.4/bin'
    hint=recommended, useposix=true, d_sigaction=define
    useithreads=define, usemultiplicity=define
    useperlio=define, d_sfio=undef, uselargefiles=define, usesocks=undef
    use64bitint=undef, use64bitall=undef, uselongdouble=undef
    usemymalloc=n, bincompat5005=undef
  Compiler:
    cc='cc', ccflags ='-DHAS_FPSETMASK -DHAS_FLOATINGPOINT_H -O2 -W -Wformat=2 -Wswitch -Wshadow -Wwrite-strings -Wuninitialized -Wall -pipe -fno-strict-aliasing -fstack-protector -I/usr/local/include',
    optimize='-O',
    cppflags='-DHAS_FPSETMASK -DHAS_FLOATINGPOINT_H -O2 -W -Wformat=2 -Wswitch -Wshadow -Wwrite-strings -Wuninitialized -Wall -pipe -fno-strict-aliasing -fstack-protector -I/usr/local/include'
    ccversion='', gccversion='4.2.1 Compatible FreeBSD Clang 3.8.0 (tags/RELEASE_380/final 262564)', gccosandvers=''
    intsize=4, longsize=4, ptrsize=4, doublesize=8, byteorder=1234
    d_longlong=define, longlongsize=8, d_longdbl=define, longdblsize=8
    ivtype='long', ivsize=4, nvtype='double', nvsize=8, Off_t='off_t', lseeksize=8
    alignbytes=8, prototype=define
  Linker and Libraries:
    ld='cc', ldflags ='-pthread -Wl,-E  -fstack-protector -L/usr/local/lib'
    libpth=/usr/lib /usr/local/lib
    libs=-lm -lcrypt -lutil
    perllibs=-lm -lcrypt -lutil
    libc=, so=so, useshrplib=false, libperl=libperl.a
    gnulibc_version=''
  Dynamic Linking:
    dlsrc=dl_dlopen.xs, dlext=so, d_dlsymun=undef, ccdlflags=' '
    cccdlflags='-DPIC -fPIC', lddlflags='-shared  -L/usr/local/lib -fstack-protector'


Characteristics of this binary (from libperl): 
  Compile-time options: MULTIPLICITY PERL_DONT_CREATE_GVSV
                        PERL_IMPLICIT_CONTEXT PERL_MALLOC_WRAP
                        PERL_PRESERVE_IVUV PERL_USE_DEVEL USE_ITHREADS
                        USE_LARGE_FILES USE_PERLIO USE_PERL_ATOF
                        USE_REENTRANT_API
  Locally applied patches:
	Devel::PatchPerl 1.38
  Built under freebsd
  Compiled at Aug 27 2016 00:49:06
  %ENV:
    PERL5LIB="/home/njh/.cpan/build/Devel-CheckOS-1.80-1/blib/arch:/home/njh/.cpan/build/Devel-CheckOS-1.80-1/blib/lib:/home/njh/.cpan/build/Data-Compare-1.25-1/blib/arch:/home/njh/.cpan/build/Data-Compare-1.25-1/blib/lib:/home/njh/.cpan/build/File-Find-Rule-0.34-1/blib/arch:/home/njh/.cpan/build/File-Find-Rule-0.34-1/blib/lib:/home/njh/.cpan/build/Text-Glob-0.11-1/blib/arch:/home/njh/.cpan/build/Text-Glob-0.11-1/blib/lib:/home/njh/.cpan/build/Number-Compare-0.03-1/blib/arch:/home/njh/.cpan/build/Number-Compare-0.03-1/blib/lib"
    PERL5OPT=""
    PERL5_CPANPLUS_IS_RUNNING="93180"
    PERL5_CPAN_IS_RUNNING="93180"
    PERLBREW_BASHRC_VERSION="0.80"
    PERLBREW_HOME="/home/njh/.perlbrew"
    PERLBREW_MANPATH="/home/njh/perl5/perlbrew/perls/perl-5.14.4/man"
    PERLBREW_PATH="/home/njh/perl5/perlbrew/bin:/home/njh/perl5/perlbrew/perls/perl-5.14.4/bin"
    PERLBREW_PERL="perl-5.14.4"
    PERLBREW_ROOT="/home/njh/perl5/perlbrew"
    PERLBREW_VERSION="0.80"
  @INC:
    /home/njh/.cpan/build/Devel-CheckOS-1.80-1/blib/arch
    /home/njh/.cpan/build/Devel-CheckOS-1.80-1/blib/lib
    /home/njh/.cpan/build/Data-Compare-1.25-1/blib/arch
    /home/njh/.cpan/build/Data-Compare-1.25-1/blib/lib
    /home/njh/.cpan/build/File-Find-Rule-0.34-1/blib/arch
    /home/njh/.cpan/build/File-Find-Rule-0.34-1/blib/lib
    /home/njh/.cpan/build/Text-Glob-0.11-1/blib/arch
    /home/njh/.cpan/build/Text-Glob-0.11-1/blib/lib
    /home/njh/.cpan/build/Number-Compare-0.03-1/blib/arch
    /home/njh/.cpan/build/Number-Compare-0.03-1/blib/lib
    /home/njh/perl5/perlbrew/perls/perl-5.14.4/lib/site_perl/5.14.4/arm-freebsd-thread-multi
    /home/njh/perl5/perlbrew/perls/perl-5.14.4/lib/site_perl/5.14.4
    /home/njh/perl5/perlbrew/perls/perl-5.14.4/lib/5.14.4/arm-freebsd-thread-multi
    /home/njh/perl5/perlbrew/perls/perl-5.14.4/lib/5.14.4
    .