CGI-Buffer v0.82 Perl 5 v5.20.2 x86_64-linux-thread-multi

Status
Pass
From
Nigel Horne
Dist
CGI-Buffer v0.82
Platform
Perl 5 v5.20.2 x86_64-linux-thread-multi
Date
2021-03-10 19:10:37
ID
4be4a4ba-81d4-11eb-986e-993db686f557
This distribution has been tested as part of the CPAN Testers
project, supporting the Perl programming language.  See
http://wiki.cpantesters.org/ for more information or email
questions to cpan-testers-discuss@perl.org


--
Dear Nigel Horne,

This is a computer-generated report for CGI-Buffer-0.82
on perl 5.20.2, created by CPAN-Reporter-1.2018.

Thank you for uploading your work to CPAN.  Congratulations!
All tests were successful.

Sections of this report:

    * Tester comments
    * Program output
    * Prerequisites
    * Environment and other context

------------------------------
TESTER COMMENTS
------------------------------

Additional comments from tester:

none provided

------------------------------
PROGRAM OUTPUT
------------------------------

Output from '/usr/bin/make test':

PERL_DL_NONLAZY=1 "/home/njh/perl5/perlbrew/perls/perl-5.20.2/bin/perl5.20.2" "-MExtUtils::Command::MM" "-MTest::Harness" "-e" "undef *Test::Harness::Switches; test_harness(0, 'blib/lib', 'blib/arch')" t/*.t
t/changes.t ........ skipped: Author tests not required for installation
t/apoc.t ........... skipped: Test::Apocalypse required for testing the distribution
t/critic.t ......... skipped: Author tests not required for installation
t/cv.t ............. skipped: Author tests not required for installation
t/dist.t ........... skipped: Author tests not required for installation
t/boiler.t ......... ok
t/gv.t ............. skipped: Author tests not required for installation
t/coverage.t ....... ok
# Testing CGI::Buffer 0.82, Perl 5.020002, /home/njh/perl5/perlbrew/perls/perl-5.20.2/bin/perl5.20.2
t/00-load.t ........ ok
t/kwalitee.t ....... skipped: Author tests not required for installation
t/links.t .......... skipped: Author tests not required for installation
t/js.t ............. ok
t/manifest.t ....... skipped: Author tests not required for installation
t/metrics.t ........ skipped: Author tests not required for installation
t/namespaces.t ..... skipped: Author tests not required for installation
t/no404s.t ......... skipped: Author tests not required for installation
# Using CHI 0.60
# Author tests not required for installation
t/noopentickets.t .. ok
t/noplan.t ......... skipped: Author tests not required for installation
t/is_cached.t ...... ok
t/pod.t ............ skipped: Author tests not required for installation
t/port.t ........... ok
t/prereq.t ......... skipped: Author tests not required for installation
t/snippets.t ....... skipped: Author tests not required for installation
t/spelling.t ....... skipped: Author tests not required for installation
t/strict.t ......... skipped: Author tests not required for installation
# Using CHI 0.60
# Ignore the error that it can't retrieve the given body
Error retrieving data for key xyzzy at t/too_late.t line 0.
Can't retrieve body for key xyzzy at t/too_late.t line 0.
Can't retrieve body for key xyzzy, cache_hash contains:
t/too_late.t ....... ok
t/last_mod.t ....... ok
t/unused.t ......... skipped: Author tests not required for installation
t/used.t ........... skipped: Author tests not required for installation
t/vars.t ........... skipped: Author tests not required for installation
t/pod-cm.t ......... ok
# Ignore warning about <a> is never closed
(1:59): <a> at (1:13) is never closed
(1:66): <title> tag is required
(1:66): <head> tag is required
t/output.t ......... ok
All tests successful.

Test Summary Report
-------------------
t/boiler.t       (Wstat: 0 Tests: 3 Failed: 0)
  TODO passed:   1-3
Files=32, Tests=145,  4 wallclock secs ( 0.08 usr  0.03 sys +  5.37 cusr  0.67 csys =  6.15 CPU)
Result: PASS

------------------------------
PREREQUISITES
------------------------------

Prerequisite modules loaded:

requires:

    Module               Need     Have    
    -------------------- -------- --------
    Carp                 0        1.50    
    CGI::Info            0.51     0.71    
    Compress::Zlib       0        2.101   
    CSS::Packer          0        2.05    
    Digest::MD5          0        2.58    
    Encode               0        3.08    
    File::Spec           0        3.74    
    HTML::Lint           0        2.20    
    HTML::Packer         1        2.00    
    HTTP::Date           0        6.05    
    HTTP::Status         0        6.28    
    IO::Compress::Brotli 0.003    0.004001
    IO::String           0        1.08    
    JavaScript::Packer   2        2.00    
    perl                 5.006002 5.020002
    Storable             0        2.51    
    Time::localtime      0        1.02    

build_requires:

    Module               Need     Have    
    -------------------- -------- --------
    DateTime             0        1.54    
    ExtUtils::MakeMaker  0        7.60    
    Test::Most           0        0.35    
    Test::TempDir::Tiny  0        0.016   
    WWW::RT::CPAN        0        0.002   

configure_requires:

    Module               Need     Have    
    -------------------- -------- --------
    ExtUtils::MakeMaker  0        7.60    


------------------------------
ENVIRONMENT AND OTHER CONTEXT
------------------------------

Environment variables:

    HARNESS_OPTIONS = j4:c
    LANG = en_GB.UTF-8
    LANGUAGE = en_GB:en
    LD_LIBRARY_PATH = /usr/local/lib::
    NONINTERACTIVE_TESTING = 1
    PATH = /home/njh/perl5/perlbrew/bin:/home/njh/perl5/perlbrew/perls/perl-5.20.2/bin:/home/njh/perl5/perlbrew/bin:/usr/local/bin:/usr/bin:/bin:/usr/games:/home/njh/bin:/sbin:/home/njh/go/bin
    PERL5LIB = 
    PERL5OPT = 
    PERL5_CPANPLUS_IS_RUNNING = 190458
    PERL5_CPAN_IS_RUNNING = 190458
    PERLBREW_HOME = /home/njh/.perlbrew
    PERLBREW_LIB = 
    PERLBREW_MANPATH = /home/njh/perl5/perlbrew/perls/perl-5.20.2/man
    PERLBREW_PATH = /home/njh/perl5/perlbrew/bin:/home/njh/perl5/perlbrew/perls/perl-5.20.2/bin
    PERLBREW_PERL = perl-5.20.2
    PERLBREW_ROOT = /home/njh/perl5/perlbrew
    PERLBREW_SHELLRC_VERSION = 0.86
    PERLBREW_VERSION = 0.86
    PERL_LOCAL_LIB_ROOT = 
    PERL_MM_USE_DEFAULT = 1
    PERL_USE_UNSAFE_INC = 1
    SHELL = /bin/bash
    TEMP = /tmp/user/1000
    TMPDIR = /tmp/user/1000

Perl special variables (and OS-specific diagnostics, for MSWin32):

    $^X = /home/njh/perl5/perlbrew/perls/perl-5.20.2/bin/perl5.20.2
    $UID/$EUID = 1000 / 1000
    $GID = 1000 4 24 25 29 30 44 46 108 1000
    $EGID = 1000 4 24 25 29 30 44 46 108 1000

Perl module toolchain versions installed:

    Module              Have    
    ------------------- --------
    CPAN                2.25    
    CPAN::Meta          2.150010
    Cwd                 3.74    
    ExtUtils::CBuilder  0.280236
    ExtUtils::Command   7.60    
    ExtUtils::Install   2.20    
    ExtUtils::MakeMaker 7.60    
    ExtUtils::Manifest  1.73    
    ExtUtils::ParseXS   3.35    
    File::Spec          3.74    
    JSON                4.03    
    JSON::PP            4.06    
    Module::Build       0.4214  
    Module::Signature   n/a     
    Parse::CPAN::Meta   2.150010
    Test::Harness       3.36    
    Test::More          1.302183
    YAML                1.30    
    YAML::Syck          1.32    
    version             0.9912  


--

Summary of my perl5 (revision 5 version 20 subversion 2) configuration:
   
  Platform:
    osname=linux, osvers=3.16.0-4-amd64, archname=x86_64-linux-thread-multi
    uname='linux nigelhorne.force9.co.uk 3.16.0-4-amd64 #1 smp debian 3.16.7-ckt4-3 (2015-02-03) x86_64 gnulinux '
    config_args='-de -Dprefix=/home/njh/perl5/perlbrew/perls/perl-5.20.2 -Duseithreads -Dusemultiplicity -Dusedevel -Accflags= -Aeval:scriptdir=/home/njh/perl5/perlbrew/perls/perl-5.20.2/bin'
    hint=recommended, useposix=true, d_sigaction=define
    useithreads=define, usemultiplicity=define
    use64bitint=define, use64bitall=define, uselongdouble=undef
    usemymalloc=n, bincompat5005=undef
  Compiler:
    cc='cc', ccflags ='-D_REENTRANT -D_GNU_SOURCE -fwrapv -fno-strict-aliasing -pipe -fstack-protector -I/usr/local/include -D_LARGEFILE_SOURCE -D_FILE_OFFSET_BITS=64',
    optimize='-O2',
    cppflags='-D_REENTRANT -D_GNU_SOURCE -fwrapv -fno-strict-aliasing -pipe -fstack-protector -I/usr/local/include'
    ccversion='', gccversion='4.9.2', gccosandvers=''
    intsize=4, longsize=8, ptrsize=8, doublesize=8, byteorder=12345678
    d_longlong=define, longlongsize=8, d_longdbl=define, longdblsize=16
    ivtype='long', ivsize=8, nvtype='double', nvsize=8, Off_t='off_t', lseeksize=8
    alignbytes=8, prototype=define
  Linker and Libraries:
    ld='cc', ldflags =' -fstack-protector -L/usr/local/lib'
    libpth=/usr/local/lib /usr/lib/gcc/x86_64-linux-gnu/4.9/include-fixed /usr/include/x86_64-linux-gnu /usr/lib /lib/x86_64-linux-gnu /lib/../lib /usr/lib/x86_64-linux-gnu /usr/lib/../lib /lib
    libs=-lnsl -lgdbm -ldb -ldl -lm -lcrypt -lutil -lpthread -lc -lgdbm_compat
    perllibs=-lnsl -ldl -lm -lcrypt -lutil -lpthread -lc
    libc=libc-2.19.so, so=so, useshrplib=false, libperl=libperl.a
    gnulibc_version='2.19'
  Dynamic Linking:
    dlsrc=dl_dlopen.xs, dlext=so, d_dlsymun=undef, ccdlflags='-Wl,-E'
    cccdlflags='-fPIC', lddlflags='-shared -O2 -L/usr/local/lib -fstack-protector'


Characteristics of this binary (from libperl): 
  Compile-time options: HAS_TIMES MULTIPLICITY PERLIO_LAYERS
                        PERL_DONT_CREATE_GVSV
                        PERL_HASH_FUNC_ONE_AT_A_TIME_HARD
                        PERL_IMPLICIT_CONTEXT PERL_MALLOC_WRAP
                        PERL_NEW_COPY_ON_WRITE PERL_PRESERVE_IVUV
                        PERL_USE_DEVEL USE_64_BIT_ALL USE_64_BIT_INT
                        USE_ITHREADS USE_LARGE_FILES USE_LOCALE
                        USE_LOCALE_COLLATE USE_LOCALE_CTYPE
                        USE_LOCALE_NUMERIC USE_PERLIO USE_PERL_ATOF
                        USE_REENTRANT_API
  Built under linux
  Compiled at Mar  1 2015 00:32:04
  %ENV:
    PERL5LIB=""
    PERL5OPT=""
    PERL5_CPANPLUS_IS_RUNNING="190458"
    PERL5_CPAN_IS_RUNNING="190458"
    PERLBREW_HOME="/home/njh/.perlbrew"
    PERLBREW_LIB=""
    PERLBREW_MANPATH="/home/njh/perl5/perlbrew/perls/perl-5.20.2/man"
    PERLBREW_PATH="/home/njh/perl5/perlbrew/bin:/home/njh/perl5/perlbrew/perls/perl-5.20.2/bin"
    PERLBREW_PERL="perl-5.20.2"
    PERLBREW_ROOT="/home/njh/perl5/perlbrew"
    PERLBREW_SHELLRC_VERSION="0.86"
    PERLBREW_VERSION="0.86"
    PERL_LOCAL_LIB_ROOT=""
    PERL_MM_USE_DEFAULT="1"
    PERL_USE_UNSAFE_INC="1"
  @INC:
    /home/njh/perl5/perlbrew/perls/perl-5.20.2/lib/site_perl/5.20.2/x86_64-linux-thread-multi
    /home/njh/perl5/perlbrew/perls/perl-5.20.2/lib/site_perl/5.20.2
    /home/njh/perl5/perlbrew/perls/perl-5.20.2/lib/5.20.2/x86_64-linux-thread-multi
    /home/njh/perl5/perlbrew/perls/perl-5.20.2/lib/5.20.2
    .