Report for Test-Unit-0.25

Back
From: metabase:user:314402c4-2aae-11df-837a-5e0a49663a4f
Subject: PASS Test-Unit-0.25 v5.12.0 GNU/Linux
Date: 2011-12-07T10:00:30Z

This distribution has been tested as part of the CPAN Testers
project, supporting the Perl programming language.  See
http://wiki.cpantesters.org/ for more information or email
questions to cpan-testers-discuss@perl.org


--
Dear Matthew Astley,

This is a computer-generated report for Test-Unit-0.25
on perl 5.12.0, created by CPAN-Reporter-1.1711.

Thank you for uploading your work to CPAN.  Congratulations!
All tests were successful.

Sections of this report:

    * Tester comments
    * Program output
    * Prerequisites
    * Environment and other context

------------------------------
TESTER COMMENTS
------------------------------

Additional comments from tester:

none provided

------------------------------
PROGRAM OUTPUT
------------------------------

Output from '/usr/bin/make test':

PERL_DL_NONLAZY=1 /usr/perl5.12.0/bin/perl "-MExtUtils::Command::MM" "-e" "test_harness(0, 'blib/lib', 'blib/arch')" t/*.t
t/all_tests.t ..... ok
t/assert.t ........ ok
t/try_examples.t .. ok
All tests successful.
Files=3, Tests=89,  2 wallclock secs ( 0.05 usr  0.02 sys +  2.13 cusr  0.12 csys =  2.32 CPU)
Result: PASS

------------------------------
PREREQUISITES
------------------------------

Prerequisite modules loaded:

requires:

    Module         Need Have    
    -------------- ---- --------
    base           1    2.15    
    Class::Inner   0    0.200001
    Devel::Symdump 0    2.08    
    Error          0    0.17016 


------------------------------
ENVIRONMENT AND OTHER CONTEXT
------------------------------

Environment variables:

    LANG = hr_HR.UTF-8
    PATH = /usr/local/netpbm/bin:/usr/local/bin:/usr/bin:/bin:/usr/local/sbin:/usr/sbin:/sbin:/home/slavenr/bin/linux-gnu:/home/slavenr/bin/sh:/home/slavenr/bin:/usr/X11R6/bin:/usr/X11/bin:/usr/games:/home/slavenr/devel:/usr/lib/jvm/java-1.5.0-sun/bin:/usr/java/ant/bin:/services/mobile/framework/bin/:/home/live/bin
    PERL5LIB = 
    PERL5OPT = 
    PERL5_CPANPLUS_IS_RUNNING = 19439
    PERL5_CPAN_IS_RUNNING = 19439
    PERLDOC = -MPod::Perldoc::ToTextOverstrike
    PERL_HTML_DISPLAY_CLASS = HTML::Display::Mozilla
    SHELL = /usr/bin/zsh
    STDPERL = perl
    TERM = xterm

Perl special variables (and OS-specific diagnostics, for MSWin32):

    $^X = /usr/perl5.12.0/bin/perl
    $UID/$EUID = 502 / 502
    $GID = 502 4 20 24 25 29 44 46 120 502 1004
    $EGID = 502 4 20 24 25 29 44 46 120 502 1004

Perl module toolchain versions installed:

    Module              Have  
    ------------------- ------
    CPAN                1.9800
    Cwd                 3.31  
    ExtUtils::CBuilder  0.27  
    ExtUtils::Command   1.16  
    ExtUtils::Install   1.55  
    ExtUtils::MakeMaker 6.56  
    ExtUtils::Manifest  1.57  
    ExtUtils::ParseXS   2.21  
    File::Spec          3.31  
    Module::Build       0.3603
    Module::Signature   n/a   
    Test::Harness       3.22  
    Test::More          0.98  
    YAML                0.72  
    YAML::Syck          1.15  
    version             0.82  


--

Summary of my perl5 (revision 5 version 12 subversion 0) configuration:
   
  Platform:
    osname=linux, osvers=2.6.26-2-686, archname=i686-linux
    uname='linux devpc01-debian 2.6.26-2-686 #1 smp wed aug 19 06:06:52 utc 2009 i686 gnulinux '
    config_args='-ds -e -Dprefix=/usr/perl5.12.0'
    hint=recommended, useposix=true, d_sigaction=define
    useithreads=undef, usemultiplicity=undef
    useperlio=define, d_sfio=undef, uselargefiles=define, usesocks=undef
    use64bitint=undef, use64bitall=undef, uselongdouble=undef
    usemymalloc=n, bincompat5005=undef
  Compiler:
    cc='cc', ccflags ='-fno-strict-aliasing -pipe -fstack-protector -I/usr/local/include -D_LARGEFILE_SOURCE -D_FILE_OFFSET_BITS=64',
    optimize='-O2',
    cppflags='-fno-strict-aliasing -pipe -fstack-protector -I/usr/local/include'
    ccversion='', gccversion='4.1.2 20061115 (prerelease) (Debian 4.1.1-21)', gccosandvers=''
    intsize=4, longsize=4, ptrsize=4, doublesize=8, byteorder=1234
    d_longlong=define, longlongsize=8, d_longdbl=define, longdblsize=12
    ivtype='long', ivsize=4, nvtype='double', nvsize=8, Off_t='off_t', lseeksize=8
    alignbytes=4, prototype=define
  Linker and Libraries:
    ld='cc', ldflags =' -fstack-protector -L/usr/local/lib'
    libpth=/usr/local/lib /lib /usr/lib /usr/lib64
    libs=-lnsl -lgdbm -ldb -ldl -lm -lcrypt -lutil -lc -lgdbm_compat
    perllibs=-lnsl -ldl -lm -lcrypt -lutil -lc
    libc=/lib/libc-2.9.so, so=so, useshrplib=false, libperl=libperl.a
    gnulibc_version='2.9'
  Dynamic Linking:
    dlsrc=dl_dlopen.xs, dlext=so, d_dlsymun=undef, ccdlflags='-Wl,-E'
    cccdlflags='-fPIC', lddlflags='-shared -O2 -L/usr/local/lib -fstack-protector'


Characteristics of this binary (from libperl): 
  Compile-time options: PERL_DONT_CREATE_GVSV PERL_MALLOC_WRAP
                        USE_LARGE_FILES USE_PERLIO USE_PERL_ATOF
  Built under linux
  Compiled at Apr 29 2010 16:31:49
  %ENV:
    PERL5LIB=""
    PERL5OPT=""
    PERL5_CPANPLUS_IS_RUNNING="19439"
    PERL5_CPAN_IS_RUNNING="19439"
    PERLDOC="-MPod::Perldoc::ToTextOverstrike"
    PERL_HTML_DISPLAY_CLASS="HTML::Display::Mozilla"
  @INC:
    /usr/perl5.12.0/lib/site_perl/5.12.0/i686-linux
    /usr/perl5.12.0/lib/site_perl/5.12.0
    /usr/perl5.12.0/lib/5.12.0/i686-linux
    /usr/perl5.12.0/lib/5.12.0
    .