Report for Win32-Mock-0.05

Back
From: metabase:user:775a6ef0-a30d-11e0-b928-abcd0a1a245f
Subject: PASS Win32-Mock-0.05 v5.14.1 GNU/Linux
Date: 2011-08-23T15:48:06Z

This distribution has been tested as part of the CPAN Testers
project, supporting the Perl programming language.  See
http://wiki.cpantesters.org/ for more information or email
questions to cpan-testers-discuss@perl.org


--
Dear Sebastien Aperghis-Tramoni,

This is a computer-generated report for Win32-Mock-0.05
on perl 5.14.1, created by CPAN-Reporter-1.1902.

Thank you for uploading your work to CPAN.  Congratulations!
All tests were successful.

Sections of this report:

    * Tester comments
    * Program output
    * Prerequisites
    * Environment and other context

------------------------------
TESTER COMMENTS
------------------------------

Additional comments from tester:

this report is from an automated smoke testing program
and was not reviewed by a human for accuracy

------------------------------
PROGRAM OUTPUT
------------------------------

Output from '/usr/bin/make test':

PERL_DL_NONLAZY=1 /smoker/5.14.1/perl/bin/perl "-MExtUtils::Command::MM" "-e" "test_harness(0, 'blib/lib', 'blib/arch')" t/*.t  t/*/*.t  t/*/*/*.t
Undefined value assigned to typeglob at /smoker/5.14.1/cpan/build/Devel-FakeOSName-0.01-BIOToC/blib/lib/Devel/FakeOSName.pm line 21.
# Testing Win32::Mock 0.05, Perl 5.014001, /smoker/5.14.1/perl/bin/perl
t/00-load.t .............................. ok
Undefined value assigned to typeglob at /smoker/5.14.1/cpan/build/Devel-FakeOSName-0.01-BIOToC/blib/lib/Devel/FakeOSName.pm line 21.
t/core/Win32/CopyFile.t .................. ok
Undefined value assigned to typeglob at /smoker/5.14.1/cpan/build/Devel-FakeOSName-0.01-BIOToC/blib/lib/Devel/FakeOSName.pm line 21.
Subroutine STORE redefined at /smoker/5.14.1/perl/lib/Config_heavy.pl line 1324.
t/core/Win32/CreateFile.t ................ ok
Undefined value assigned to typeglob at /smoker/5.14.1/cpan/build/Devel-FakeOSName-0.01-BIOToC/blib/lib/Devel/FakeOSName.pm line 21.
Subroutine STORE redefined at /smoker/5.14.1/perl/lib/Config_heavy.pl line 1324.
t/core/Win32/ExpandEnvironmentStrings.t .. ok
Undefined value assigned to typeglob at /smoker/5.14.1/cpan/build/Devel-FakeOSName-0.01-BIOToC/blib/lib/Devel/FakeOSName.pm line 21.
Subroutine STORE redefined at /smoker/5.14.1/perl/lib/Config_heavy.pl line 1324.
t/core/Win32/GetCurrentThreadId.t ........ skipped: Test requires fork emulation
Undefined value assigned to typeglob at /smoker/5.14.1/cpan/build/Devel-FakeOSName-0.01-BIOToC/blib/lib/Devel/FakeOSName.pm line 21.
Subroutine STORE redefined at /smoker/5.14.1/perl/lib/Config_heavy.pl line 1324.
t/core/Win32/GetFileVersion.t ............ ok
Undefined value assigned to typeglob at /smoker/5.14.1/cpan/build/Devel-FakeOSName-0.01-BIOToC/blib/lib/Devel/FakeOSName.pm line 21.
Subroutine STORE redefined at /smoker/5.14.1/perl/lib/Config_heavy.pl line 1324.
t/core/Win32/GetFolderPath.t ............. ok
t/core/Win32/GetFullPathName.t ........... skipped: because these tests are too hard to mock
t/core/Win32/GetLongPathName.t ........... skipped: because these tests are too hard to mock
Undefined value assigned to typeglob at /smoker/5.14.1/cpan/build/Devel-FakeOSName-0.01-BIOToC/blib/lib/Devel/FakeOSName.pm line 21.
Subroutine STORE redefined at /smoker/5.14.1/perl/lib/Config_heavy.pl line 1324.
t/core/Win32/GetOSVersion.t .............. ok
t/core/Win32/GetShortPathName.t .......... skipped: because these tests are too hard to mock
Undefined value assigned to typeglob at /smoker/5.14.1/cpan/build/Devel-FakeOSName-0.01-BIOToC/blib/lib/Devel/FakeOSName.pm line 21.
Subroutine STORE redefined at /smoker/5.14.1/perl/lib/Config_heavy.pl line 1324.
t/core/Win32/GuidGen.t ................... ok
Undefined value assigned to typeglob at /smoker/5.14.1/cpan/build/Devel-FakeOSName-0.01-BIOToC/blib/lib/Devel/FakeOSName.pm line 21.
t/core/Win32/Names.t ..................... ok
Undefined value assigned to typeglob at /smoker/5.14.1/cpan/build/Devel-FakeOSName-0.01-BIOToC/blib/lib/Devel/FakeOSName.pm line 21.
Subroutine STORE redefined at /smoker/5.14.1/perl/lib/Config_heavy.pl line 1324.
t/core/Win32/Unicode.t ................... skipped: Filesystem doesn't support Unicode
Undefined value assigned to typeglob at /smoker/5.14.1/cpan/build/Devel-FakeOSName-0.01-BIOToC/blib/lib/Devel/FakeOSName.pm line 21.
t/core/Win32CORE/win32core.t ............. ok
t/libwin32/APINet/test.t ................. skipped: *** NOT IMPLEMENTED
t/libwin32/Clipboard/test.t .............. skipped: *** NOT IMPLEMENTED
t/libwin32/EventLog/eventlog.t ........... skipped: *** NOT IMPLEMENTED
Undefined value assigned to typeglob at /smoker/5.14.1/cpan/build/Devel-FakeOSName-0.01-BIOToC/blib/lib/Devel/FakeOSName.pm line 21.
t/libwin32/File/file.t ................... ok
t/libwin32/NetAdmin/netadmin.t ........... skipped: *** NOT IMPLEMENTED
t/libwin32/NetResource/netresource.t ..... skipped: *** NOT IMPLEMENTED
t/libwin32/OLE/1_nls.t ................... skipped: *** NOT IMPLEMENTED
t/libwin32/OLE/2_variant.t ............... skipped: *** NOT IMPLEMENTED
t/libwin32/OLE/3_ole.t ................... skipped: *** NOT IMPLEMENTED
t/libwin32/OLE/4_compat.t ................ skipped: *** NOT IMPLEMENTED
t/libwin32/OLE/5_unicode.t ............... skipped: *** NOT IMPLEMENTED
t/libwin32/OLE/6_event.t ................. skipped: *** NOT IMPLEMENTED
t/libwin32/OLE/7_overload.t .............. skipped: *** NOT IMPLEMENTED
t/libwin32/Registry/registry.t ........... skipped: *** NOT IMPLEMENTED
Undefined value assigned to typeglob at /smoker/5.14.1/cpan/build/Devel-FakeOSName-0.01-BIOToC/blib/lib/Devel/FakeOSName.pm line 21.
dummy|dummy
	ServiceSpecificExitCode		0
	ServiceType		16
	CurrentState		7
	CheckPoint		0
	ControlsAccepted		2
	Win32ExitCode		0
	WaitHint		0
t/libwin32/Service/service.t ............. ok
t/pod-coverage.t ......................... skipped: *** disabled for now ***
t/pod.t .................................. skipped: *** disabled for now ***
All tests successful.
Files=32, Tests=59,  1 wallclock secs ( 0.10 usr  0.00 sys +  0.56 cusr  0.06 csys =  0.72 CPU)
Result: PASS

------------------------------
PREREQUISITES
------------------------------

Prerequisite modules loaded:

requires:

    Module              Need Have   
    ------------------- ---- -------
    constant            1.12 1.21   
    Data::GUID          0    0.046  
    Devel::FakeOSName   0    0.01   
    ExtUtils::Command   0    1.17   
    File::Basename      0    2.82   
    File::HomeDir       0    0.97   
    File::Spec          0.7  3.33   
    Test::More          0    0.98   

build_requires:

    Module              Need Have   
    ------------------- ---- -------
    ExtUtils::MakeMaker 0    6.57_05


------------------------------
ENVIRONMENT AND OTHER CONTEXT
------------------------------

Environment variables:

    AUTOMATED_TESTING = 1
    LANG = en_US.UTF-8
    LC_ALL = C
    PATH = /usr/local/bin:/usr/bin:/bin:/usr/local/games:/usr/games
    PERL5LIB = /smoker/5.14.1/cpan/build/Devel-FakeOSName-0.01-BIOToC/blib/arch:/smoker/5.14.1/cpan/build/Devel-FakeOSName-0.01-BIOToC/blib/lib
    PERL5OPT = 
    PERL5_CPANPLUS_IS_RUNNING = 28561
    PERL5_CPAN_IS_RUNNING = 28561
    PERL5_CPAN_IS_RUNNING_IN_RECURSION = 69139,28561
    PERL_AUTOINSTALL = --skip
    PERL_CPAN_REPORTER_CONFIG = /smoker/cpanreporter-config.ini
    PERL_CPAN_REPORTER_DIR = /smoker/5.14.1/cpanreporter
    PERL_CR_SMOKER_CURRENT = Win32-Mock-0.05
    PERL_CR_SMOKER_RUNONCE = 1
    PERL_EXTUTILS_AUTOINSTALL = --defaultdeps
    PERL_MM_USE_DEFAULT = 1
    SHELL = /bin/sh
    TERM = screen

Perl special variables (and OS-specific diagnostics, for MSWin32):

    $^X = /smoker/5.14.1/perl/bin/perl
    $UID/$EUID = 60000 / 60000
    $GID = 60000 60000
    $EGID = 60000 60000

Perl module toolchain versions installed:

    Module              Have    
    ------------------- --------
    CPAN                1.9600  
    Cwd                 3.36    
    ExtUtils::CBuilder  0.280203
    ExtUtils::Command   1.17    
    ExtUtils::Install   1.56    
    ExtUtils::MakeMaker 6.57_05 
    ExtUtils::Manifest  1.58    
    ExtUtils::ParseXS   2.2210  
    File::Spec          3.33    
    Module::Build       0.3800  
    Module::Signature   n/a     
    Test::Harness       3.23    
    Test::More          0.98    
    YAML                0.73    
    YAML::Syck          1.17    
    version             0.91    


--

Summary of my perl5 (revision 5 version 14 subversion 1) configuration:
   
  Platform:
    osname=linux, osvers=2.6.26-2-amd64, archname=i686-linux
    uname='linux rijk 2.6.26-2-amd64 #1 smp thu nov 5 02:23:12 utc 2009 i686 gnulinux '
    config_args='-Duselargefiles -Uuse64bitint -Dusemymalloc=n -Uusedl -Uusethreads -Uuseithreads -Uusemultiplicity -Uusesfio -Uuseshrplib -Uinstallusrbinperl -A ccflags= -g -DPERL_DISABLE_PMC -DPERL_ARENA_SIZE=16376 -DNO_PERL_MALLOC_ENV -D_GNU_SOURCE -DNDEBUG -Dcc=cc -Doptimize=-O2 -mpush-args -fomit-frame-pointer -march=core2 -mtune=core2 -Dldflags= -lc -lm -ldl -lpthread -Dlibs=-lm -lcrypt -Dprefix=/smoker/5.14.1/perl -Dbin=/smoker/5.14.1/perl/bin -Dprivlib=/smoker/5.14.1/perl/lib -Darchlib=/smoker/5.14.1/perl/lib -Uusevendorprefix -Dsitelib=/smoker/5.14.1/perl/lib -Dsitearch=/smoker/5.14.1/perl/lib -Uman1dir -Uman3dir -Usiteman1dir -Usiteman3dir -Dpager=/usr/bin/less -Demail=Marc Lehmann <staticperl-smoker-5.14.1@plan9.de> -Dcf_email=Marc Lehmann <staticperl-smoker-5.14.1@plan9.de> -Dcf_by=Marc Lehmann <staticperl-smoker-5.14.1@plan9.de> -Dusedl -Uusemymalloc -Duseperlio -dE'
    hint=recommended, useposix=true, d_sigaction=define
    useithreads=undef, usemultiplicity=undef
    useperlio=define, d_sfio=undef, uselargefiles=define, usesocks=undef
    use64bitint=undef, use64bitall=undef, uselongdouble=undef
    usemymalloc=n, bincompat5005=undef
  Compiler:
    cc='cc', ccflags ='-g -DPERL_DISABLE_PMC -DPERL_ARENA_SIZE=16376 -DNO_PERL_MALLOC_ENV -D_GNU_SOURCE -DNDEBUG -fno-strict-aliasing -pipe -I/usr/local/include -D_LARGEFILE_SOURCE -D_FILE_OFFSET_BITS=64',
    optimize='-O2 -mpush-args -fomit-frame-pointer -march=core2 -mtune=core2',
    cppflags='-g -DPERL_DISABLE_PMC -DPERL_ARENA_SIZE=16376 -DNO_PERL_MALLOC_ENV -D_GNU_SOURCE -DNDEBUG -fno-strict-aliasing -pipe -I/usr/local/include'
    ccversion='', gccversion='4.4.5', gccosandvers=''
    intsize=4, longsize=4, ptrsize=4, doublesize=8, byteorder=1234
    d_longlong=define, longlongsize=8, d_longdbl=define, longdblsize=12
    ivtype='long', ivsize=4, nvtype='double', nvsize=8, Off_t='off_t', lseeksize=8
    alignbytes=4, prototype=define
  Linker and Libraries:
    ld='cc', ldflags =' -lc -lm -ldl -lpthread -L/usr/local/lib'
    libpth=/usr/local/lib /lib/../lib /usr/lib/../lib /lib /usr/lib /usr/lib64
    libs=-lm -lcrypt
    perllibs=-lm -lcrypt
    libc=/lib/libc-2.11.2.so, so=so, useshrplib=false, libperl=libperl.a
    gnulibc_version='2.11.2'
  Dynamic Linking:
    dlsrc=dl_dlopen.xs, dlext=so, d_dlsymun=undef, ccdlflags='-Wl,-E'
    cccdlflags='-fPIC', lddlflags='-shared -O2 -mpush-args -fomit-frame-pointer -march=core2 -mtune=core2 -L/usr/local/lib '


Characteristics of this binary (from libperl): 
  Compile-time options: PERL_DISABLE_PMC PERL_DONT_CREATE_GVSV
                        PERL_MALLOC_WRAP PERL_PRESERVE_IVUV USE_LARGE_FILES
                        USE_PERLIO USE_PERL_ATOF
  Built under linux
  Compiled at Jul  1 2011 17:05:54
  %ENV:
    PERL5LIB="/smoker/5.14.1/cpan/build/Devel-FakeOSName-0.01-BIOToC/blib/arch:/smoker/5.14.1/cpan/build/Devel-FakeOSName-0.01-BIOToC/blib/lib"
    PERL5OPT=""
    PERL5_CPANPLUS_IS_RUNNING="28561"
    PERL5_CPAN_IS_RUNNING="28561"
    PERL5_CPAN_IS_RUNNING_IN_RECURSION="69139,28561"
    PERL_AUTOINSTALL="--skip"
    PERL_CPAN_REPORTER_CONFIG="/smoker/cpanreporter-config.ini"
    PERL_CPAN_REPORTER_DIR="/smoker/5.14.1/cpanreporter"
    PERL_CR_SMOKER_CURRENT="Win32-Mock-0.05"
    PERL_CR_SMOKER_RUNONCE="1"
    PERL_EXTUTILS_AUTOINSTALL="--defaultdeps"
    PERL_MM_USE_DEFAULT="1"
  @INC:
    /smoker/5.14.1/cpan/build/Devel-FakeOSName-0.01-BIOToC/blib/arch
    /smoker/5.14.1/cpan/build/Devel-FakeOSName-0.01-BIOToC/blib/lib
    /smoker/5.14.1/perl/lib
    .