Back
From: metabase:user:314402c4-2aae-11df-837a-5e0a49663a4f
Subject: PASS WebService-Annict-0.02 v5.8.9 GNU/Linux
Date: 2016-10-11T00:40:21Z
This distribution has been tested as part of the CPAN Testers
project, supporting the Perl programming language. See
http://wiki.cpantesters.org/ for more information or email
questions to cpan-testers-discuss@perl.org
--
Dear nuko suke,
This is a computer-generated report for WebService-Annict-0.02
on perl 5.8.9, created by CPAN-Reporter-1.2018.
Thank you for uploading your work to CPAN. Congratulations!
All tests were successful.
Sections of this report:
* Tester comments
* Program output
* Prerequisites
* Environment and other context
------------------------------
TESTER COMMENTS
------------------------------
Additional comments from tester:
none provided
------------------------------
PROGRAM OUTPUT
------------------------------
Output from './Build test':
t/00_compile.t ... ok
Use of uninitialized value in concatenation (.) or string at /tmpfs/.cpan-build-cpansand/2016101100/WebService-Annict-0.02-10/blib/lib/WebService/Annict.pm line 18.
t/10_annict.t .... ok
t/20_works.t ..... ok
t/30_episodes.t .. ok
t/40_records.t ... ok
All tests successful.
Files=5, Tests=9, 1 wallclock secs ( 0.01 usr 0.03 sys + 0.14 cusr 0.03 csys = 0.21 CPU)
Result: PASS
------------------------------
PREREQUISITES
------------------------------
Prerequisite modules loaded:
requires:
Module Need Have
-------------------- -------- --------
HTTP::Message 6.11 6.11
JSON 2.90 2.90
LWP::Protocol::https 6.06 6.06
LWP::UserAgent 6.15 6.15
perl 5.008001 5.008009
URI 1.71 1.71
build_requires:
Module Need Have
-------------------- -------- --------
Test::More 0.98 1.302059
configure_requires:
Module Need Have
-------------------- -------- --------
Module::Build::Tiny 0.035 0.039
------------------------------
ENVIRONMENT AND OTHER CONTEXT
------------------------------
Environment variables:
LANG = C
LC_ALL = de_DE.UTF-8
PATH = /usr/local/bin:/usr/bin:/bin:/usr/local/sbin:/usr/sbin:/sbin:/home/cpansand/bin/linux-gnu:/home/cpansand/bin/sh:/home/cpansand/bin:/usr/games:/home/cpansand/devel:/home/eserte/src/srezic-misc/scripts
PERL5LIB = /home/cpansand/.cpan/build/2016101100/Test-Routine-0.020-7/blib/arch:/home/cpansand/.cpan/build/2016101100/Test-Routine-0.020-7/blib/lib:/home/cpansand/.cpan/build/2016101100/Software-License-OrLaterPack-v0.10.2-11/blib/arch:/home/cpansand/.cpan/build/2016101100/Software-License-OrLaterPack-v0.10.2-11/blib/lib:/home/cpansand/.cpan/build/2016101100/Test-DiagINC-0.006-8/blib/arch:/home/cpansand/.cpan/build/2016101100/Test-DiagINC-0.006-8/blib/lib
PERL5OPT =
PERL5_CPANPLUS_IS_RUNNING = 1910
PERL5_CPAN_IS_RUNNING = 1910
PERL5_CPAN_IS_RUNNING_IN_RECURSION = 1851,1910
PERLDOC = -MPod::Perldoc::ToTextOverstrike
PERL_BATCH = yes
PERL_CANARY_STABILITY_NOPROMPT = 1
PERL_CPAN_REPORTER_CONFIG = /run/user/1023/cpansmoker/2016101100/cpanreporter_000_config.ini
PERL_EXTUTILS_AUTOINSTALL = --defaultdeps
PERL_PARALLEL_SMOKER = yes
PERL_USE_UNSAFE_INC = 1
SHELL = /bin/zsh
TERM = screen
TMPDIR = /run/user/1023/cpansmoker/2016101100
Perl special variables (and OS-specific diagnostics, for MSWin32):
$^X = /bbbike/perl-5.8.9/bin/perl5.8.9
$UID/$EUID = 1023 / 1023
$GID = 1023 1023
$EGID = 1023 1023
Perl module toolchain versions installed:
Module Have
------------------- --------
CPAN 2.14
CPAN::Meta 2.150010
Cwd 3.62
ExtUtils::CBuilder 0.280224
ExtUtils::Command 7.24
ExtUtils::Install 1.54
ExtUtils::MakeMaker 7.24
ExtUtils::Manifest 1.70
ExtUtils::ParseXS 3.30
File::Spec 3.62
JSON 2.90
JSON::PP 2.27400
Module::Build 0.4220
Module::Signature 0.80
Parse::CPAN::Meta 2.150010
Test::Harness 3.36
Test::More 1.302059
YAML 1.15
YAML::Syck 1.29
version 0.9916
--
Summary of my perl5 (revision 5 version 8 subversion 9) configuration:
Platform:
osname=linux, osvers=3.16.0-4-amd64, archname=x86_64-linux
uname='linux eserte 3.16.0-4-amd64 #1 smp debian 3.16.7-ckt25-2 (2016-04-08) x86_64 gnulinux '
config_args='-ds -e -Dprefix=/opt/perl-5.8.9 -Dcf_email=srezic@cpan.org'
hint=recommended, useposix=true, d_sigaction=define
usethreads=undef use5005threads=undef useithreads=undef usemultiplicity=undef
useperlio=define d_sfio=undef uselargefiles=define usesocks=undef
use64bitint=define use64bitall=define uselongdouble=undef
usemymalloc=n, bincompat5005=undef
Compiler:
cc='cc', ccflags ='-fno-strict-aliasing -pipe -I/usr/local/include -D_LARGEFILE_SOURCE -D_FILE_OFFSET_BITS=64',
optimize='-O2',
cppflags='-fno-strict-aliasing -pipe -I/usr/local/include'
ccversion='', gccversion='4.9.2', gccosandvers=''
intsize=4, longsize=8, ptrsize=8, doublesize=8, byteorder=12345678
d_longlong=define, longlongsize=8, d_longdbl=define, longdblsize=16
ivtype='long', ivsize=8, nvtype='double', nvsize=8, Off_t='off_t', lseeksize=8
alignbytes=8, prototype=define
Linker and Libraries:
ld='cc', ldflags =' -L/usr/local/lib'
libpth=/usr/local/lib /lib/x86_64-linux-gnu /lib/../lib /usr/lib/x86_64-linux-gnu /usr/lib/../lib /lib /usr/lib
libs=-lnsl -ldl -lm -lcrypt -lutil -lc
perllibs=-lnsl -ldl -lm -lcrypt -lutil -lc
libc=libc-2.19.so, so=so, useshrplib=false, libperl=libperl.a
gnulibc_version='2.19'
Dynamic Linking:
dlsrc=dl_dlopen.xs, dlext=so, d_dlsymun=undef, ccdlflags='-Wl,-E'
cccdlflags='-fPIC', lddlflags='-shared -O2 -L/usr/local/lib'
Characteristics of this binary (from libperl):
Compile-time options: PERL_MALLOC_WRAP USE_64_BIT_ALL USE_64_BIT_INT
USE_FAST_STDIO USE_LARGE_FILES USE_PERLIO
Locally applied patches:
Devel::PatchPerl 1.42
Built under linux
Compiled at May 7 2016 09:05:30
%ENV:
PERL5LIB="/home/cpansand/.cpan/build/2016101100/Test-Routine-0.020-7/blib/arch:/home/cpansand/.cpan/build/2016101100/Test-Routine-0.020-7/blib/lib:/home/cpansand/.cpan/build/2016101100/Software-License-OrLaterPack-v0.10.2-11/blib/arch:/home/cpansand/.cpan/build/2016101100/Software-License-OrLaterPack-v0.10.2-11/blib/lib:/home/cpansand/.cpan/build/2016101100/Test-DiagINC-0.006-8/blib/arch:/home/cpansand/.cpan/build/2016101100/Test-DiagINC-0.006-8/blib/lib"
PERL5OPT=""
PERL5_CPANPLUS_IS_RUNNING="1910"
PERL5_CPAN_IS_RUNNING="1910"
PERL5_CPAN_IS_RUNNING_IN_RECURSION="1851,1910"
PERLDOC="-MPod::Perldoc::ToTextOverstrike"
PERL_BATCH="yes"
PERL_CANARY_STABILITY_NOPROMPT="1"
PERL_CPAN_REPORTER_CONFIG="/run/user/1023/cpansmoker/2016101100/cpanreporter_000_config.ini"
PERL_EXTUTILS_AUTOINSTALL="--defaultdeps"
PERL_PARALLEL_SMOKER="yes"
PERL_USE_UNSAFE_INC="1"
@INC:
/home/cpansand/.cpan/build/2016101100/Test-Routine-0.020-7/blib/arch
/home/cpansand/.cpan/build/2016101100/Test-Routine-0.020-7/blib/lib
/home/cpansand/.cpan/build/2016101100/Software-License-OrLaterPack-v0.10.2-11/blib/arch
/home/cpansand/.cpan/build/2016101100/Software-License-OrLaterPack-v0.10.2-11/blib/lib
/home/cpansand/.cpan/build/2016101100/Test-DiagINC-0.006-8/blib/arch
/home/cpansand/.cpan/build/2016101100/Test-DiagINC-0.006-8/blib/lib
/opt/perl-5.8.9/lib/5.8.9/x86_64-linux
/opt/perl-5.8.9/lib/5.8.9
/opt/perl-5.8.9/lib/site_perl/5.8.9/x86_64-linux
/opt/perl-5.8.9/lib/site_perl/5.8.9
.