Report for Rose-DB-Object-0.815

Back
From: metabase:user:5bbb2efa-715f-11e3-8cc1-b2993ff2e0c7
Subject: PASS Rose-DB-Object-0.815 v5.16.2 Windows (Cygwin)
Date: 2015-06-05T06:29:51Z

This distribution has been tested as part of the CPAN Testers
project, supporting the Perl programming language.  See
http://wiki.cpantesters.org/ for more information or email
questions to cpan-testers-discuss@perl.org


--
Dear JSIRACUSA,

This is a computer-generated report for Rose-DB-Object-0.815
on perl 5.16.2, created by NX::cpanminus::reporter 0.10 (1.7034).

Thank you for uploading your work to CPAN.  Congratulations!
All tests were successful.

Sections of this report:

    * Tester comments
    * Program output
    * Prerequisites
    * Environment and other context

------------------------------
TESTER COMMENTS
------------------------------

Additional comments from tester:

none provided

------------------------------
PROGRAM OUTPUT
------------------------------

Output from '':

Building and testing Rose-DB-Object-0.815
cp lib/Rose/DB/Object/Metadata/Column/Set.pm blib/lib/Rose/DB/Object/Metadata/Column/Set.pm
cp lib/Rose/DB/Object/Metadata/Column/Pg/Bytea.pm blib/lib/Rose/DB/Object/Metadata/Column/Pg/Bytea.pm
cp lib/Rose/DB/Object/Metadata/Relationship/ManyToMany.pm blib/lib/Rose/DB/Object/Metadata/Relationship/ManyToMany.pm
cp lib/Rose/DB/Object/Metadata/Auto/SQLite.pm blib/lib/Rose/DB/Object/Metadata/Auto/SQLite.pm
cp lib/Rose/DB/Object/Metadata/Auto/Generic.pm blib/lib/Rose/DB/Object/Metadata/Auto/Generic.pm
cp lib/Rose/DB/Object/Metadata/Column/Date.pm blib/lib/Rose/DB/Object/Metadata/Column/Date.pm
cp lib/Rose/DB/Object/Metadata/Column/Epoch/HiRes.pm blib/lib/Rose/DB/Object/Metadata/Column/Epoch/HiRes.pm
cp lib/Rose/DB/Object/Metadata/Column/Blob.pm blib/lib/Rose/DB/Object/Metadata/Column/Blob.pm
cp lib/Rose/DB/Object/Metadata/Relationship.pm blib/lib/Rose/DB/Object/Metadata/Relationship.pm
cp lib/Rose/DB/Object/Metadata/Column/DatetimeYearToFraction5.pm blib/lib/Rose/DB/Object/Metadata/Column/DatetimeYearToFraction5.pm
cp lib/Rose/DB/Object/Metadata/Column/Varchar.pm blib/lib/Rose/DB/Object/Metadata/Column/Varchar.pm
cp lib/Rose/DB/Object/Metadata/Auto.pm blib/lib/Rose/DB/Object/Metadata/Auto.pm
cp lib/Rose/DB/Object/Metadata/Column/Text.pm blib/lib/Rose/DB/Object/Metadata/Column/Text.pm
cp lib/Rose/DB/Object/Metadata/Relationship/OneToOne.pm blib/lib/Rose/DB/Object/Metadata/Relationship/OneToOne.pm
cp lib/Rose/DB/Object/Util.pm blib/lib/Rose/DB/Object/Util.pm
cp lib/Rose/DB/Object/Std/Metadata.pm blib/lib/Rose/DB/Object/Std/Metadata.pm
cp lib/Rose/DB/Object/Metadata/Column/DatetimeYearToMinute.pm blib/lib/Rose/DB/Object/Metadata/Column/DatetimeYearToMinute.pm
cp lib/Rose/DB/Object/Metadata/Column/Numeric.pm blib/lib/Rose/DB/Object/Metadata/Column/Numeric.pm
cp lib/Rose/DB/Object/Metadata/Column/Integer.pm blib/lib/Rose/DB/Object/Metadata/Column/Integer.pm
cp lib/Rose/DB/Object/Metadata/Column/DatetimeYearToFraction2.pm blib/lib/Rose/DB/Object/Metadata/Column/DatetimeYearToFraction2.pm
cp lib/Rose/DB/Object/MakeMethods/Date.pm blib/lib/Rose/DB/Object/MakeMethods/Date.pm
cp lib/Rose/DB/Object/Metadata/Column/DatetimeYearToMonth.pm blib/lib/Rose/DB/Object/Metadata/Column/DatetimeYearToMonth.pm
cp lib/Rose/DB/Object/Metadata/Column/Time.pm blib/lib/Rose/DB/Object/Metadata/Column/Time.pm
cp lib/Rose/DB/Object/Metadata/Auto/MySQL.pm blib/lib/Rose/DB/Object/Metadata/Auto/MySQL.pm
cp lib/Rose/DB/Object/Metadata/Auto/Pg.pm blib/lib/Rose/DB/Object/Metadata/Auto/Pg.pm
cp lib/Rose/DB/Object/Helpers.pm blib/lib/Rose/DB/Object/Helpers.pm
cp lib/Rose/DB/Object/Metadata/Column/Bitfield.pm blib/lib/Rose/DB/Object/Metadata/Column/Bitfield.pm
cp lib/Rose/DB/Object/Metadata/ForeignKey.pm blib/lib/Rose/DB/Object/Metadata/ForeignKey.pm
cp lib/Rose/DB/Object/Metadata/Relationship/ManyToOne.pm blib/lib/Rose/DB/Object/Metadata/Relationship/ManyToOne.pm
cp lib/Rose/DB/Object/MakeMethods/Generic.pm blib/lib/Rose/DB/Object/MakeMethods/Generic.pm
cp lib/Rose/DB/Object/QueryBuilder.pm blib/lib/Rose/DB/Object/QueryBuilder.pm
cp lib/Rose/DB/Object/Metadata/Column/Epoch.pm blib/lib/Rose/DB/Object/Metadata/Column/Epoch.pm
cp lib/Rose/DB/Object/ConventionManager/Null.pm blib/lib/Rose/DB/Object/ConventionManager/Null.pm
cp lib/Rose/DB/Object/MakeMethods/BigNum.pm blib/lib/Rose/DB/Object/MakeMethods/BigNum.pm
cp lib/Rose/DB/Object/Metadata/PrimaryKey.pm blib/lib/Rose/DB/Object/Metadata/PrimaryKey.pm
cp lib/Rose/DB/Object/Metadata/Column/DatetimeYearToSecond.pm blib/lib/Rose/DB/Object/Metadata/Column/DatetimeYearToSecond.pm
cp lib/Rose/DB/Object/MakeMethods/Time.pm blib/lib/Rose/DB/Object/MakeMethods/Time.pm
cp lib/Rose/DB/Object/Loader.pm blib/lib/Rose/DB/Object/Loader.pm
cp lib/Rose/DB/Object/Metadata/Column/Datetime.pm blib/lib/Rose/DB/Object/Metadata/Column/Datetime.pm
cp lib/Rose/DB/Object/Exception.pm blib/lib/Rose/DB/Object/Exception.pm
cp lib/Rose/DB/Object/Metadata/Column/DoublePrecision.pm blib/lib/Rose/DB/Object/Metadata/Column/DoublePrecision.pm
cp lib/Rose/DB/Object/Metadata/Column/Interval.pm blib/lib/Rose/DB/Object/Metadata/Column/Interval.pm
cp lib/Rose/DB/Object/Metadata/Column/Timestamp.pm blib/lib/Rose/DB/Object/Metadata/Column/Timestamp.pm
cp lib/Rose/DB/Object/Metadata/Object.pm blib/lib/Rose/DB/Object/Metadata/Object.pm
cp lib/Rose/DB/Object/MakeMethods/Pg.pm blib/lib/Rose/DB/Object/MakeMethods/Pg.pm
cp lib/Rose/DB/Object/Tutorial.pod blib/lib/Rose/DB/Object/Tutorial.pod
cp lib/Rose/DB/Object/MakeMethods/Std.pm blib/lib/Rose/DB/Object/MakeMethods/Std.pm
cp lib/Rose/DB/Object/Metadata/Column/Decimal.pm blib/lib/Rose/DB/Object/Metadata/Column/Decimal.pm
cp lib/Rose/DB/Object/Metadata/Column/Boolean.pm blib/lib/Rose/DB/Object/Metadata/Column/Boolean.pm
cp lib/Rose/DB/Object/Metadata/Column/DatetimeYearToFraction.pm blib/lib/Rose/DB/Object/Metadata/Column/DatetimeYearToFraction.pm
cp lib/Rose/DB/Object/Cached.pm blib/lib/Rose/DB/Object/Cached.pm
cp lib/Rose/DB/Object/Metadata/Column/Scalar.pm blib/lib/Rose/DB/Object/Metadata/Column/Scalar.pm
cp lib/Rose/DB/Object/Metadata/Column/Character.pm blib/lib/Rose/DB/Object/Metadata/Column/Character.pm
cp lib/Rose/DB/Object/Std.pm blib/lib/Rose/DB/Object/Std.pm
cp lib/Rose/DB/Object/MixIn.pm blib/lib/Rose/DB/Object/MixIn.pm
cp lib/Rose/DB/Object/Metadata/Column/Array.pm blib/lib/Rose/DB/Object/Metadata/Column/Array.pm
cp lib/Rose/DB/Object/Metadata/Column/BigSerial.pm blib/lib/Rose/DB/Object/Metadata/Column/BigSerial.pm
cp lib/Rose/DB/Object/Metadata/Column.pm blib/lib/Rose/DB/Object/Metadata/Column.pm
cp lib/Rose/DB/Object/Metadata/ColumnList.pm blib/lib/Rose/DB/Object/Metadata/ColumnList.pm
cp lib/Rose/DB/Object/Metadata/Column/BigInt.pm blib/lib/Rose/DB/Object/Metadata/Column/BigInt.pm
cp lib/Rose/DB/Object/Metadata.pm blib/lib/Rose/DB/Object/Metadata.pm
cp lib/Rose/DB/Object/Metadata/Util.pm blib/lib/Rose/DB/Object/Metadata/Util.pm
cp lib/Rose/DB/Object/Metadata/Column/DatetimeYearToFraction1.pm blib/lib/Rose/DB/Object/Metadata/Column/DatetimeYearToFraction1.pm
cp lib/Rose/DB/Object/Metadata/Column/Enum.pm blib/lib/Rose/DB/Object/Metadata/Column/Enum.pm
cp lib/Rose/DB/Object/Metadata/Column/Float.pm blib/lib/Rose/DB/Object/Metadata/Column/Float.pm
cp lib/Rose/DB/Object/Metadata/Column/DatetimeYearToFraction4.pm blib/lib/Rose/DB/Object/Metadata/Column/DatetimeYearToFraction4.pm
cp lib/Rose/DB/Object/Metadata/Auto/Informix.pm blib/lib/Rose/DB/Object/Metadata/Auto/Informix.pm
cp lib/Rose/DB/Object/Manager.pm blib/lib/Rose/DB/Object/Manager.pm
cp lib/Rose/DB/Object/ConventionManager.pm blib/lib/Rose/DB/Object/ConventionManager.pm
cp lib/Rose/DB/Object/Metadata/Column/Serial.pm blib/lib/Rose/DB/Object/Metadata/Column/Serial.pm
cp lib/Rose/DB/Object/Std/Cached.pm blib/lib/Rose/DB/Object/Std/Cached.pm
cp lib/Rose/DB/Object.pm blib/lib/Rose/DB/Object.pm
cp lib/Rose/DB/Object/Metadata/Auto/Oracle.pm blib/lib/Rose/DB/Object/Metadata/Auto/Oracle.pm
cp lib/Rose/DB/Object/Constants.pm blib/lib/Rose/DB/Object/Constants.pm
cp lib/Rose/DB/Object/Metadata/Column/Pg/Chkpass.pm blib/lib/Rose/DB/Object/Metadata/Column/Pg/Chkpass.pm
cp lib/Rose/DB/Object/Metadata/Relationship/OneToMany.pm blib/lib/Rose/DB/Object/Metadata/Relationship/OneToMany.pm
cp lib/Rose/DB/Object/Iterator.pm blib/lib/Rose/DB/Object/Iterator.pm
cp lib/Rose/DB/Object/Metadata/Column/DatetimeYearToFraction3.pm blib/lib/Rose/DB/Object/Metadata/Column/DatetimeYearToFraction3.pm
cp lib/Rose/DB/Object/Metadata/Column/TimestampWithTimeZone.pm blib/lib/Rose/DB/Object/Metadata/Column/TimestampWithTimeZone.pm
cp lib/Rose/DB/Object/Metadata/MethodMaker.pm blib/lib/Rose/DB/Object/Metadata/MethodMaker.pm
cp lib/Rose/DB/Object/Metadata/UniqueKey.pm blib/lib/Rose/DB/Object/Metadata/UniqueKey.pm
Manifying 68 pod documents
PERL_DL_NONLAZY=1 "/home/ollisg/opt/perl/5.16.2/bin/perl.exe" "-MExtUtils::Command::MM" "-MTest::Harness" "-e" "undef *Test::Harness::Switches; test_harness(0, 'blib/lib', 'blib/arch')" t/*.t

##
## DBI             1.633
## DBD::SQLite     1.46
## JSON            2.90
##
## WARNING: Almost all the tests in this module distribution need to connect
## to a database in order to run.  The tests need full privileges on this
## database: the ability to create and drop tables, insert, update, and delete
## rows, create schemas, sequences, functions, triggers, the works.
## 
## By default, the tests will try to connect to the database named "test"
## running on "localhost" using the default superuser username for each
## database type and an empty password.
## 
## If you have setup your database in a secure manner, these connection
## attempts will fail, and the tests will be skipped.  If you want to override
## these values, set the following environment variables before running tests.
## (The current values are shown in parentheses.)
## 
## PostgreSQL:
## 
##     RDBO_PG_DSN      (dbi:Pg:dbname=test;host=localhost)
##     RDBO_PG_USER     (postgres)
##     RDBO_PG_PASS     (<none>)
## 
## MySQL:
## 
##     RDBO_MYSQL_DSN   (dbi:mysql:database=test;host=localhost)
##     RDBO_MYSQL_USER  (root)
##     RDBO_MYSQL_PASS  (<none>)
##
## Oracle:
## 
##     RDBO_ORACLE_DSN  (dbi:Oracle:dbname=test)
##     RDBO_ORACLE_USER (<none>)
##     RDBO_ORACLE_PASS (<none>)
##
## Informix:
## 
##     RDBO_INFORMIX_DSN   (dbi:Informix:test@test)
##     RDBO_INFORMIX_USER  (<none>)
##     RDBO_INFORMIX_PASS  (<none>)
## 
## SQLite: To disable the SQLite tests, set this environment varible
##
##     RDBO_NO_SQLITE  (<undef>)
##
## Press return to continue (or wait 60 seconds)
t/00-warning.t ..................... ok
t/as-tree.t ........................ ok
t/auto-setup.t ..................... ok
t/bind-param.t ..................... ok
t/column-triggers.t ................ ok
t/column-values.t .................. ok
t/db-migration.t ................... ok
t/db-object-auto.t ................. ok
t/db-object-cached.t ............... ok
t/db-object-changes-only-1.t ....... ok
t/db-object-changes-only-2.t ....... ok
t/db-object-convention.t ........... ok
t/db-object-foreign-key-auto.t ..... ok
t/db-object-foreign-key.t .......... ok
t/db-object-helpers.t .............. ok
t/db-object-loader-2.t ............. ok
t/db-object-loader-3.t ............. ok
t/db-object-loader-4.t ............. ok
t/db-object-loader-5.t ............. ok
t/db-object-loader-6.t ............. ok
t/db-object-loader-7.t ............. ok
t/db-object-loader-8.t ............. ok
t/db-object-loader-9.t ............. ok
t/db-object-loader.t ............... ok
t/db-object-manager-bulk-ops.t ..... ok
t/db-object-manager.t .............. ok
t/db-object-mapper.t ............... ok
t/db-object-metadata.t ............. ok
t/db-object-relationship-auto-2.t .. ok
t/db-object-relationship-auto.t .... ok
t/db-object-relationship.t ......... ok
t/db-object-std-cached.t ........... ok
t/db-object-std.t .................. ok
t/db-object.t ...................... ok
t/deep-joins.t ..................... ok
t/inheritance.t .................... ok
t/lazy-columns.t ................... ok
t/leaks.t .......................... ok
t/make-modules.t ................... ok
t/makemethods-db.t ................. ok
t/makemethods.t .................... ok
t/multi-many-the-hard-way.t ........ ok
t/multi-pk-sequences.t ............. ok
t/nested-joins.t ................... ok
t/one-to-many-reset.t .............. ok
t/pk-fk-columns.t .................. ok
t/pod.t ............................ ok
t/query-builder.t .................. ok
t/rt-cpan-45836.t .................. ok
t/save-cascade.t ................... ok
t/schema-override.t ................ ok
t/spot-check-01.t .................. ok
t/spot-check-02.t .................. ok
t/spot-check-03.t .................. ok
t/spot-check-04.t .................. ok
t/spot-check-05.t .................. ok
t/spot-check-06.t .................. ok
t/spot-check-07.t .................. ok
t/spot-check-08.t .................. ok
t/spot-check-09.t .................. ok
t/spot-check-10.t .................. ok
t/spot-check-11.t .................. ok
t/spot-check-12.t .................. ok
t/spot-check-13.t .................. ok
t/spot-check-14.t .................. ok
t/undef-overrides-default.t ........ ok
t/unique-key-prefs.t ............... ok
All tests successful.
Files=67, Tests=15335, 49 wallclock secs ( 0.52 usr  0.06 sys + 20.05 cusr  6.59 csys = 27.22 CPU)
Result: PASS

------------------------------
PREREQUISITES
------------------------------

Prerequisite modules loaded:

    No requirements found

------------------------------
ENVIRONMENT AND OTHER CONTEXT
------------------------------

Environment variables:

    COMSPEC = C:\Windows\system32\cmd.exe
    LANG = en_US.UTF-8
    LC_COLLATE = C
    PATH = /home/ollisg/opt/perl/5.16.2/my/bin:/home/ollisg/opt/perl/5.16.2/bin:/home/ollisg/bin:/usr/local/bin:/usr/bin:/bin
    PERL5LIB = /home/ollisg/opt/perl/5.16.2/my/lib/perl5
    PERL_CPANM_OPT = --mirror http://mirror.sydney.wdlabs.com/cpan/ --mirror-only
    PERL_LOCAL_LIB_ROOT = /home/ollisg/opt/perl/5.16.2/my
    PERL_MB_OPT = --install_base "/home/ollisg/opt/perl/5.16.2/my"
    PERL_MM_OPT = INSTALL_BASE=/home/ollisg/opt/perl/5.16.2/my
    SHELL = /bin/tcsh
    TERM = screen

Perl special variables (and OS-specific diagnostics, for MSWin32):

    EGID = 513 513 559 545 14 4 11 15 113 4095 66048 262154 401408
    EUID = 1001
    EXECUTABLE_NAME = /home/ollisg/opt/perl/5.16.2/bin/perl
    GID = 513 513 559 545 14 4 11 15 113 4095 66048 262154 401408
    UID = 1001

Perl module toolchain versions installed:

    Module              Have    
    ------------------- --------
    CPAN                2.10    
    CPAN::Meta          2.150001
    Cwd                 3.47    
    ExtUtils::CBuilder  0.280223
    ExtUtils::Command   1.20    
    ExtUtils::Install   2.04    
    ExtUtils::MakeMaker 7.04    
    ExtUtils::Manifest  1.70    
    ExtUtils::ParseXS   3.24    
    File::Spec          3.47    
    JSON                2.90    
    JSON::PP            2.27300 
    Module::Build       0.4212  
    Module::Signature   n/a     
    Parse::CPAN::Meta   1.4414  
    Test::Harness       3.35    
    Test::More          1.001014
    YAML                1.15    
    YAML::Syck          n/a     
    version             0.9912  


--

Summary of my perl5 (revision 5 version 16 subversion 2) configuration:
   
  Platform:
    osname=cygwin, osvers=2.0.2(0.28753), archname=cygwin-thread-multi
    uname='cygwin_nt-6.1 xian 2.0.2(0.28753) 2015-05-08 17:00 x86_64 cygwin '
    config_args='-de -Dprefix=/home/ollisg/opt/perl/5.16.2/ -Aeval:scriptdir=/home/ollisg/opt/perl/5.16.2/bin'
    hint=recommended, useposix=true, d_sigaction=define
    useithreads=define, usemultiplicity=define
    useperlio=define, d_sfio=undef, uselargefiles=define, usesocks=undef
    use64bitint=define, use64bitall=define, uselongdouble=undef
    usemymalloc=n, bincompat5005=undef
  Compiler:
    cc='gcc', ccflags ='-DPERL_USE_SAFE_PUTENV -U__STRICT_ANSI__ -fno-strict-aliasing -pipe -fstack-protector',
    optimize='-O3',
    cppflags='-DPERL_USE_SAFE_PUTENV -U__STRICT_ANSI__ -fno-strict-aliasing -pipe -fstack-protector'
    ccversion='', gccversion='4.9.2', gccosandvers=''
    intsize=4, longsize=8, ptrsize=8, doublesize=8, byteorder=12345678
    d_longlong=define, longlongsize=8, d_longdbl=define, longdblsize=16
    ivtype='long', ivsize=8, nvtype='double', nvsize=8, Off_t='off_t', lseeksize=8
    alignbytes=8, prototype=define
  Linker and Libraries:
    ld='g++', ldflags =' -Wl,--enable-auto-import -Wl,--export-all-symbols -Wl,--enable-auto-image-base -fstack-protector -L/usr/local/lib'
    libpth=/usr/local/lib /usr/lib /lib
    libs=-ldb -ldl -lcrypt
    perllibs=-ldl -lcrypt
    libc=/usr/lib/libc.a, so=dll, useshrplib=true, libperl=cygperl5_16_2.dll
    gnulibc_version=''
  Dynamic Linking:
    dlsrc=dl_dlopen.xs, dlext=dll, d_dlsymun=undef, ccdlflags=' '
    cccdlflags=' ', lddlflags=' --shared  -Wl,--enable-auto-import -Wl,--export-all-symbols -Wl,--enable-auto-image-base -L/usr/local/lib -fstack-protector'


Characteristics of this binary (from libperl): 
  Compile-time options: HAS_TIMES MULTIPLICITY PERLIO_LAYERS
                        PERL_DONT_CREATE_GVSV PERL_IMPLICIT_CONTEXT
                        PERL_PRESERVE_IVUV PERL_USE_SAFE_PUTENV
                        USE_64_BIT_ALL USE_64_BIT_INT USE_ITHREADS
                        USE_LARGE_FILES USE_LOCALE USE_LOCALE_COLLATE
                        USE_LOCALE_CTYPE USE_LOCALE_NUMERIC USE_PERLIO
                        USE_PERL_ATOF USE_REENTRANT_API
  Built under cygwin
  Compiled at May 18 2015 16:40:59
  %ENV:
    PERL5LIB="/home/ollisg/opt/perl/5.16.2/my/lib/perl5"
    PERL_CPANM_OPT="--mirror http://mirror.sydney.wdlabs.com/cpan/ --mirror-only"
    PERL_LOCAL_LIB_ROOT="/home/ollisg/opt/perl/5.16.2/my"
    PERL_MB_OPT="--install_base "/home/ollisg/opt/perl/5.16.2/my""
    PERL_MM_OPT="INSTALL_BASE=/home/ollisg/opt/perl/5.16.2/my"
  @INC:
    /home/ollisg/opt/perl/5.16.2/my/lib/perl5/cygwin-thread-multi
    /home/ollisg/opt/perl/5.16.2/my/lib/perl5
    /home/ollisg/opt/perl/5.16.2/lib/site_perl/5.16.2/cygwin-thread-multi
    /home/ollisg/opt/perl/5.16.2/lib/site_perl/5.16.2
    /home/ollisg/opt/perl/5.16.2/lib/5.16.2/cygwin-thread-multi
    /home/ollisg/opt/perl/5.16.2/lib/5.16.2
    .