Report for Dist-Zilla-Plugin-CheckExtraTests-0.026

Back
From: metabase:user:eb3b89c8-2eb3-11e4-a050-59a278db3b59
Subject: PASS Dist-Zilla-Plugin-CheckExtraTests-0.026 v5.20.1 GNU/Linux
Date: 2015-04-09T10:07:53Z

This distribution has been tested as part of the CPAN Testers
project, supporting the Perl programming language.  See
http://wiki.cpantesters.org/ for more information or email
questions to cpan-testers-discuss@perl.org


--
Dear DAGOLDEN,

This is a computer-generated report for Dist-Zilla-Plugin-CheckExtraTests-0.026
on perl 5.20.1, created by App::cpanminus::reporter 0.12 (1.7001).

Thank you for uploading your work to CPAN.  Congratulations!
All tests were successful.

Sections of this report:

    * Tester comments
    * Program output
    * Prerequisites
    * Environment and other context

------------------------------
TESTER COMMENTS
------------------------------

Additional comments from tester:

none provided

------------------------------
PROGRAM OUTPUT
------------------------------

Output from '':

Building and testing Dist-Zilla-Plugin-CheckExtraTests-0.026
cp lib/Dist/Zilla/Plugin/RunExtraTests.pm blib/lib/Dist/Zilla/Plugin/RunExtraTests.pm
cp lib/Dist/Zilla/Plugin/CheckExtraTests.pm blib/lib/Dist/Zilla/Plugin/CheckExtraTests.pm
cp lib/Dist/Zilla/App/Command/xtest.pm blib/lib/Dist/Zilla/App/Command/xtest.pm
Manifying 3 pod documents
PERL_DL_NONLAZY=1 "/home/basiliscos/perl5/perlbrew/perls/perl-5.20.1/bin/perl" "-MExtUtils::Command::MM" "-MTest::Harness" "-e" "undef *Test::Harness::Switches; test_harness(0, 'blib/lib', 'blib/arch')" t/*.t
# 
# Versions for all modules listed in MYMETA.json (including optional ones):
# 
# === Configure Requires ===
# 
#     Module              Want Have
#     ------------------- ---- ----
#     ExtUtils::MakeMaker 6.17 7.04
# 
# === Build Requires ===
# 
#     Module              Want Have
#     ------------------- ---- ----
#     ExtUtils::MakeMaker  any 7.04
# 
# === Test Requires ===
# 
#     Module                   Want     Have
#     ------------------------ ---- --------
#     Capture::Tiny             any     0.28
#     Dist::Zilla::App::Tester  any    5.034
#     Dist::Zilla::Tester       any    5.034
#     ExtUtils::MakeMaker       any     7.04
#     File::Spec                any     3.48
#     Params::Util              any     1.07
#     Sub::Exporter             any    0.987
#     Test::More               0.88 1.001014
#     Test::Requires            any     0.08
#     Try::Tiny                 any     0.22
#     lib                       any     0.63
# 
# === Test Recommends ===
# 
#     Module         Want     Have
#     ---------- -------- --------
#     CPAN::Meta 2.120900 2.150001
# 
# === Runtime Requires ===
# 
#     Module                            Want   Have
#     -------------------------------- ----- ------
#     App::Prove                        3.00   3.35
#     Archive::Tar                       any   2.04
#     Dist::Zilla                        4.3  5.034
#     Dist::Zilla::App                   any  5.034
#     Dist::Zilla::Role::BeforeRelease   any  5.034
#     Dist::Zilla::Role::TestRunner      any  5.034
#     File::pushd                        any  1.009
#     Moose                                2 2.1403
#     Path::Iterator::Rule               any  1.008
#     Path::Tiny                       0.013  0.061
#     namespace::autoclean              0.09   0.24
#     strict                             any   1.08
#     warnings                           any   1.23
# 
t/00-report-prereqs.t .. ok
t/checkxt.t ............ ok
t/runxt.t .............. ok
t/withblib.t ........... ok
All tests successful.
Files=4, Tests=16, 24 wallclock secs ( 0.08 usr  0.03 sys + 17.93 cusr  4.30 csys = 22.34 CPU)
Result: PASS

------------------------------
PREREQUISITES
------------------------------

Prerequisite modules loaded:

    No requirements found

------------------------------
ENVIRONMENT AND OTHER CONTEXT
------------------------------

Environment variables:

    LANG = en_GB.UTF-8
    PATH = /usr/lib/ccache/bin:/home/basiliscos/perl5/perlbrew/bin:/home/basiliscos/perl5/perlbrew/perls/perl-5.20.1/bin:/usr/local/bin:/usr/bin:/bin:/opt/bin:/usr/x86_64-pc-linux-gnu/gcc-bin/4.8.4:/usr/x86_64-pc-linux-gnu/arm-unknown-linux-gnueabi/gcc-bin/4.8.3:~/applications/bin/:/home/basiliscos/development/perl/group-profundus/callas_pdfToolbox_CLI_7_x64/:/usr/sbin/:/home/basiliscos/applications/bin/
    PERLBREW_BASHRC_VERSION = 0.72
    PERLBREW_HOME = /home/basiliscos/.perlbrew
    PERLBREW_MANPATH = /home/basiliscos/perl5/perlbrew/perls/perl-5.20.1/man
    PERLBREW_PATH = /home/basiliscos/perl5/perlbrew/bin:/home/basiliscos/perl5/perlbrew/perls/perl-5.20.1/bin
    PERLBREW_PERL = perl-5.20.1
    PERLBREW_ROOT = /home/basiliscos/perl5/perlbrew
    PERLBREW_VERSION = 0.72
    SHELL = /bin/zsh
    TERM = screen

Perl special variables (and OS-specific diagnostics, for MSWin32):

    EGID = 1000 6 10 16 18 19 27 35 78 80 85 232 239 241 242 1000
    EUID = 1000
    EXECUTABLE_NAME = /home/basiliscos/perl5/perlbrew/perls/perl-5.20.1/bin/perl
    GID = 1000 6 10 16 18 19 27 35 78 80 85 232 239 241 242 1000
    UID = 1000

Perl module toolchain versions installed:

    Module              Have    
    ------------------- --------
    CPAN                2.10    
    CPAN::Meta          2.150001
    Cwd                 3.48    
    ExtUtils::CBuilder  0.280220
    ExtUtils::Command   1.20    
    ExtUtils::Install   2.04    
    ExtUtils::MakeMaker 7.04    
    ExtUtils::Manifest  1.70    
    ExtUtils::ParseXS   3.24    
    File::Spec          3.48    
    JSON                2.90    
    JSON::PP            2.27300 
    Module::Build       0.4211  
    Module::Signature   n/a     
    Parse::CPAN::Meta   1.4414  
    Test::Harness       3.35    
    Test::More          1.001014
    YAML                1.14    
    YAML::Syck          n/a     
    version             0.9912  


--

Summary of my perl5 (revision 5 version 20 subversion 1) configuration:
   
  Platform:
    osname=linux, osvers=3.14.17, archname=x86_64-linux
    uname='linux chimaera 3.14.17 #7 smp preempt sun nov 9 14:00:58 fet 2014 x86_64 amd e-350 processor authenticamd gnulinux '
    config_args='-de -Dprefix=/home/basiliscos/perl5/perlbrew/perls/perl-5.20.1 -Aeval:scriptdir=/home/basiliscos/perl5/perlbrew/perls/perl-5.20.1/bin'
    hint=recommended, useposix=true, d_sigaction=define
    useithreads=undef, usemultiplicity=undef
    use64bitint=define, use64bitall=define, uselongdouble=undef
    usemymalloc=n, bincompat5005=undef
  Compiler:
    cc='cc', ccflags ='-fwrapv -fno-strict-aliasing -pipe -fstack-protector -D_LARGEFILE_SOURCE -D_FILE_OFFSET_BITS=64',
    optimize='-O2',
    cppflags='-fwrapv -fno-strict-aliasing -pipe -fstack-protector'
    ccversion='', gccversion='4.8.3', gccosandvers=''
    intsize=4, longsize=8, ptrsize=8, doublesize=8, byteorder=12345678
    d_longlong=define, longlongsize=8, d_longdbl=define, longdblsize=16
    ivtype='long', ivsize=8, nvtype='double', nvsize=8, Off_t='off_t', lseeksize=8
    alignbytes=8, prototype=define
  Linker and Libraries:
    ld='cc', ldflags =' -fstack-protector -L/usr/local/lib'
    libpth=/usr/lib/gcc/x86_64-pc-linux-gnu/4.8.3/include-fixed /usr/lib /usr/local/lib /lib/../lib64 /usr/lib/../lib64 /lib /lib64 /usr/lib64 /usr/local/lib64
    libs=-lnsl -lgdbm -ldb -ldl -lm -lcrypt -lutil -lc -lgdbm_compat
    perllibs=-lnsl -ldl -lm -lcrypt -lutil -lc
    libc=libc-2.19.so, so=so, useshrplib=false, libperl=libperl.a
    gnulibc_version='2.19'
  Dynamic Linking:
    dlsrc=dl_dlopen.xs, dlext=so, d_dlsymun=undef, ccdlflags='-Wl,-E'
    cccdlflags='-fPIC', lddlflags='-shared -O2 -L/usr/local/lib -fstack-protector'


Characteristics of this binary (from libperl): 
  Compile-time options: HAS_TIMES PERLIO_LAYERS PERL_DONT_CREATE_GVSV
                        PERL_HASH_FUNC_ONE_AT_A_TIME_HARD PERL_MALLOC_WRAP
                        PERL_NEW_COPY_ON_WRITE PERL_PRESERVE_IVUV
                        USE_64_BIT_ALL USE_64_BIT_INT USE_LARGE_FILES
                        USE_LOCALE USE_LOCALE_COLLATE USE_LOCALE_CTYPE
                        USE_LOCALE_NUMERIC USE_PERLIO USE_PERL_ATOF
  Built under linux
  Compiled at Nov 12 2014 16:26:56
  %ENV:
    PERLBREW_BASHRC_VERSION="0.72"
    PERLBREW_HOME="/home/basiliscos/.perlbrew"
    PERLBREW_MANPATH="/home/basiliscos/perl5/perlbrew/perls/perl-5.20.1/man"
    PERLBREW_PATH="/home/basiliscos/perl5/perlbrew/bin:/home/basiliscos/perl5/perlbrew/perls/perl-5.20.1/bin"
    PERLBREW_PERL="perl-5.20.1"
    PERLBREW_ROOT="/home/basiliscos/perl5/perlbrew"
    PERLBREW_VERSION="0.72"
  @INC:
    /home/basiliscos/perl5/perlbrew/perls/perl-5.20.1/lib/site_perl/5.20.1/x86_64-linux
    /home/basiliscos/perl5/perlbrew/perls/perl-5.20.1/lib/site_perl/5.20.1
    /home/basiliscos/perl5/perlbrew/perls/perl-5.20.1/lib/5.20.1/x86_64-linux
    /home/basiliscos/perl5/perlbrew/perls/perl-5.20.1/lib/5.20.1
    .