Treex-Core v2.20210102 Perl 5 v5.28.1 amd64-freebsd-ld

Status
Pass
From
Slaven Rezić
Dist
Treex-Core v2.20210102
Platform
Perl 5 v5.28.1 amd64-freebsd-ld
Date
2021-01-02 21:34:24
ID
488a4bd8-4d42-11eb-b339-6e321f24ea8f
This distribution has been tested as part of the CPAN Testers
project, supporting the Perl programming language.  See
http://wiki.cpantesters.org/ for more information or email
questions to cpan-testers-discuss@perl.org


--
Dear Martin Popel,

This is a computer-generated report for Treex-Core-2.20210102
on perl 5.28.1, created by CPAN-Reporter-1.2018.

Thank you for uploading your work to CPAN.  Congratulations!
All tests were successful.

Sections of this report:

    * Tester comments
    * Program output
    * Prerequisites
    * Environment and other context

------------------------------
TESTER COMMENTS
------------------------------

Additional comments from tester:

none provided

------------------------------
PROGRAM OUTPUT
------------------------------

Output from '/usr/bin/make test':

Skip blib/lib/auto/share/dist/Treex-Core/tred_extension/treex/resources/treex_subschema_p_layer.xml (unchanged)
Skip blib/lib/auto/share/dist/Treex-Core/tred_extension/treex/resources/treex_subschema_w_layer.xml (unchanged)
Skip blib/lib/auto/share/dist/Treex-Core/tred_extension/treex/resources/treex_subschema_bbn.xml (unchanged)
Skip blib/lib/auto/share/dist/Treex-Core/tred_extension/extensions.lst (unchanged)
Skip blib/lib/auto/share/dist/Treex-Core/tred_extension/treex/resources/treex_subschema_t_layer.xml (unchanged)
Skip blib/lib/auto/share/dist/Treex-Core/tred_extension/treex/stylesheets/Treex_stylesheet (unchanged)
Skip blib/lib/auto/share/dist/Treex-Core/tred_extension/treex/contrib/treex/contrib.mac (unchanged)
Skip blib/lib/auto/share/dist/Treex-Core/tred_extension/treex/resources/pmlbackend_conf.xml (unchanged)
Skip blib/lib/auto/share/dist/Treex-Core/tred_extension/treex/contrib/treex/Treex_mode.inc (unchanged)
Skip blib/lib/auto/share/dist/Treex-Core/tred_extension/treex/resources/treex_subschema_interset.xml (unchanged)
Skip blib/lib/auto/share/dist/Treex-Core/tred_extension/treex/resources/treex_subschema_langcodes.xml (unchanged)
Skip blib/lib/auto/share/dist/Treex-Core/tred_extension/treex/resources/treex_schema.xml (unchanged)
Skip blib/lib/auto/share/dist/Treex-Core/tred_extension/treex/resources/treex_subschema_a_layer.xml (unchanged)
Skip blib/lib/auto/share/dist/Treex-Core/tred_extension/treex/resources/treex_subschema_n_layer.xml (unchanged)
Skip blib/lib/auto/share/dist/Treex-Core/tred_extension/treex/package.xml (unchanged)
PERL_DL_NONLAZY=1 "/usr/perl5.28.1Dp/bin/perl5.28.1" "-MExtUtils::Command::MM" "-MTest::Harness" "-e" "undef *Test::Harness::Switches; test_harness(0, 'blib/lib', 'blib/arch')" t/*.t
t/00-compile.t ..................... ok
t/a_effective_rel.t ................ ok
TREEX-WARN:     0.973:	You called $node->get_aligned_nodes($filter) without determining the "directed" parameter in the $filter. For the time being, it returns links only in the specified direction, but this will be changed soon.
t/alignment.t ...................... ok
t/attribute.t ...................... ok
t/author-critic.t .................. skipped: these tests are for testing by the author
t/author-distmeta.t ................ skipped: these tests are for testing by the author
t/author-minimum-version.t ......... skipped: these tests are for testing by the author
t/author-mojibake.t ................ skipped: these tests are for testing by the author
t/author-no-tabs.t ................. skipped: these tests are for testing by the author
t/author-pod-coverage.t ............ skipped: these tests are for testing by the author
t/author-pod-linkcheck.t ........... skipped: these tests are for testing by the author
t/author-pod-syntax.t .............. skipped: these tests are for testing by the author
t/author-portability.t ............. skipped: these tests are for testing by the author
t/author-synopsis.t ................ skipped: these tests are for testing by the author
t/author-test-version.t ............ skipped: these tests are for testing by the author
t/backrefs.t ....................... ok
t/base.t ........................... ok
t/block.t .......................... ok
t/bundle.t ......................... ok
t/bundle_zones.t ................... ok
t/common.t ......................... ok
t/config.t ......................... ok
t/document.t ....................... ok
t/document_zones.t ................. ok
t/dump_scen.t ...................... ok
t/files.t .......................... ok
t/following_node.t ................. ok
t/grammar.t ........................ ok
t/log.t ............................ ok
t/n_tree.t ......................... ok
t/node.t ........................... ok
t/ordered.t ........................ ok
t/p_penn_treebank_string_format.t .. ok
t/phrase.t ......................... ok
t/release-cpan-changes.t ........... skipped: these tests are for release candidate testing
t/release-dist-manifest.t .......... skipped: these tests are for release candidate testing
t/release-kwalitee.t ............... skipped: these tests are for release candidate testing
t/release-unused-vars.t ............ skipped: these tests are for release candidate testing
t/remove_bundle.t .................. ok
t/resource.t ....................... ok
t/run.t ............................ ok
t/scenario.t ....................... ok
t/scenario_parser.t ................ ok
t/storable.t ....................... ok
t/t_effective_rel.t ................ ok
t/trees.t .......................... ok
t/wildattr.t ....................... ok
t/writers.t ........................ skipped: these tests require export AUTHOR_TESTING=1
All tests successful.
Files=48, Tests=677, 77 wallclock secs ( 0.35 usr  0.16 sys + 62.73 cusr 13.77 csys = 77.02 CPU)
Result: PASS

------------------------------
PREREQUISITES
------------------------------

Prerequisite modules loaded:

requires:

    Module                                          Need    Have    
    ----------------------------------------------- ------- --------
    App::whichpm                                    0       0.05    
    autodie                                         0       2.32    
    base                                            0       2.27    
    Cache::LRU                                      0       0.04    
    Carp                                            0       1.50    
    Cwd                                             0       3.75    
    Data::Dumper                                    0       2.173   
    Digest::MD5                                     0       2.57    
    Encode                                          0       3.08    
    English                                         0       1.10    
    Exporter                                        0       5.74    
    File::Basename                                  0       2.85    
    File::chdir                                     0       0.1010  
    File::Glob                                      0       1.31    
    File::HomeDir                                   0.97    1.006   
    File::Path                                      2.08    2.18    
    File::ShareDir                                  0       1.116   
    File::Slurp                                     9999.19 9999.32 
    File::Spec                                      0       3.75    
    File::Spec::Functions                           0       3.75    
    File::Temp                                      0       0.2309  
    File::Which                                     0       1.23    
    integer                                         0       1.01    
    IO::Handle                                      0       1.42    
    IO::Interactive                                 0       1.022   
    Lingua::Interset                                3.006   3.014   
    Lingua::Interset::FeatureStructure              0       3.014   
    List::MoreUtils                                 0       0.430   
    List::Util                                      0       1.55    
    Locale::Language                                0       3.66    
    LWP::Simple                                     0       6.50    
    Module::Reload                                  0       1.11    
    Moose                                           0       2.2013  
    Moose::Exporter                                 0       2.2013  
    Moose::Role                                     0       2.2013  
    Moose::Util::TypeConstraints                    0       2.2013  
    MooseX::Getopt                                  0       0.74    
    MooseX::NonMoose                                0       0.26    
    MooseX::Params::Validate                        0       0.21    
    MooseX::Role::Parameterized                     0       1.11    
    MooseX::SemiAffordanceAccessor                  0.09    0.10    
    MooseX::SemiAffordanceAccessor::Role::Attribute 0.09    0.10    
    namespace::autoclean                            0       0.29    
    Parse::RecDescent                               0       1.967015
    perl                                            5.010   5.028001
    PerlIO::via::gzip                               0       0.03    
    POSIX                                           0       1.84    
    Readonly                                        0       2.05    
    Scalar::Util                                    0       1.55    
    Storable                                        0       3.15    
    strict                                          0       1.11    
    Sys::Hostname                                   0       1.22    
    Text::Balanced                                  0       2.04    
    Time::HiRes                                     0       1.9764  
    Treex::PML                                      0       2.24    
    Treex::PML::Factory                             0       2.24    
    Treex::PML::IO                                  0       2.24    
    Treex::PML::Node                                0       2.24    
    Treex::PML::Struct                              0       2.24    
    UNIVERSAL::DOES                                 0       0.005   
    utf8                                            0       1.21    
    vars                                            0       1.04    
    warnings                                        0       1.42    
    YAML                                            0.72    1.30    

build_requires:

    Module                                          Need    Have    
    ----------------------------------------------- ------- --------
    constant                                        0       1.33    
    ExtUtils::MakeMaker                             0       7.58    
    File::Spec                                      0       3.75    
    IO::Handle                                      0       1.42    
    IPC::Open3                                      0       1.20    
    Test::Moose                                     0       2.2013  
    Test::More                                      0       1.302183
    Test::Output                                    0       1.031   

configure_requires:

    Module                                          Need    Have    
    ----------------------------------------------- ------- --------
    ExtUtils::MakeMaker                             0       7.58    
    File::ShareDir::Install                         0.06    0.13    


------------------------------
ENVIRONMENT AND OTHER CONTEXT
------------------------------

Environment variables:

    PATH = /usr/local/bin:/usr/bin:/bin:/usr/local/sbin:/usr/sbin:/sbin:/home/cpansand/bin/sh:/home/cpansand/bin:/usr/games:/home/cpansand/devel:/usr/home/eserte/src/srezic-misc/scripts
    PERL5LIB = /home/cpansand/.cpan/build/2021010221/Treex-PML-2.24-4/blib/arch:/home/cpansand/.cpan/build/2021010221/Treex-PML-2.24-4/blib/lib:/home/cpansand/.cpan/build/2021010221/XML-CompactTree-0.03-4/blib/arch:/home/cpansand/.cpan/build/2021010221/XML-CompactTree-0.03-4/blib/lib:/home/cpansand/.cpan/build/2021010221/UNIVERSAL-DOES-0.005-4/blib/arch:/home/cpansand/.cpan/build/2021010221/UNIVERSAL-DOES-0.005-4/blib/lib:/home/cpansand/.cpan/build/2021010221/PerlIO-via-gzip-0.03-6/blib/arch:/home/cpansand/.cpan/build/2021010221/PerlIO-via-gzip-0.03-6/blib/lib:/home/cpansand/.cpan/build/2021010221/Lingua-Interset-3.014-6/blib/arch:/home/cpansand/.cpan/build/2021010221/Lingua-Interset-3.014-6/blib/lib:/home/cpansand/.cpan/build/2021010221/App-whichpm-0.05-6/blib/arch:/home/cpansand/.cpan/build/2021010221/App-whichpm-0.05-6/blib/lib
    PERL5OPT = 
    PERL5_CPANPLUS_IS_RUNNING = 1241
    PERL5_CPAN_IS_RUNNING = 1241
    PERL5_CPAN_IS_RUNNING_IN_RECURSION = 95559,1241
    PERL_BATCH = yes
    PERL_CANARY_STABILITY_NOPROMPT = 1
    PERL_CPAN_REPORTER_CONFIG = /var/tmp/cpansmoker-1023/2021010221/cpanreporter_000_config.ini
    PERL_EXTUTILS_AUTOINSTALL = --defaultdeps
    PERL_USE_UNSAFE_INC = 1
    SHELL = /bin/sh
    TMPDIR = /var/tmp/cpansmoker-1023/2021010221

Perl special variables (and OS-specific diagnostics, for MSWin32):

    $^X = /usr/perl5.28.1Dp/bin/perl5.28.1
    $UID/$EUID = 1023 / 1023
    $GID = 1023 1023
    $EGID = 1023 1023

Perl module toolchain versions installed:

    Module              Have    
    ------------------- --------
    CPAN                2.27    
    CPAN::Meta          2.150010
    Cwd                 3.75    
    ExtUtils::CBuilder  0.280231
    ExtUtils::Command   7.58    
    ExtUtils::Install   2.20    
    ExtUtils::MakeMaker 7.58    
    ExtUtils::Manifest  1.70    
    ExtUtils::ParseXS   3.39    
    File::Spec          3.75    
    JSON                4.02    
    JSON::PP            4.05    
    Module::Build       0.4231  
    Module::Signature   0.86    
    Parse::CPAN::Meta   2.150010
    Test::Harness       3.42    
    Test::More          1.302183
    YAML                1.30    
    YAML::Syck          1.33    
    version             0.9924  


--

Summary of my perl5 (revision 5 version 28 subversion 1) configuration:
   
  Platform:
    osname=freebsd
    osvers=12.0-stable
    archname=amd64-freebsd-ld
    uname='freebsd cloud1.bbbike.org 12.0-stable freebsd 12.0-stable 851f4c1257c(stable12) generic amd64 '
    config_args='-ds -e -Dprefix=/usr/perl5.28.1Dp -Duselongdouble -Dcf_email=srezic@cpan.org -Doptimize=-O2 -pipe'
    hint=recommended
    useposix=true
    d_sigaction=define
    useithreads=undef
    usemultiplicity=undef
    use64bitint=define
    use64bitall=define
    uselongdouble=define
    usemymalloc=n
    default_inc_excludes_dot=define
    bincompat5005=undef
  Compiler:
    cc='cc'
    ccflags ='-DHAS_FPSETMASK -DHAS_FLOATINGPOINT_H -fno-strict-aliasing -pipe -fstack-protector-strong -I/usr/local/include -D_FORTIFY_SOURCE=2'
    optimize='-O2 -pipe'
    cppflags='-DHAS_FPSETMASK -DHAS_FLOATINGPOINT_H -fno-strict-aliasing -pipe -fstack-protector-strong -I/usr/local/include'
    ccversion=''
    gccversion='4.2.1 Compatible FreeBSD Clang 7.0.1 (tags/RELEASE_701/final 349250)'
    gccosandvers=''
    intsize=4
    longsize=8
    ptrsize=8
    doublesize=8
    byteorder=12345678
    doublekind=3
    d_longlong=define
    longlongsize=8
    d_longdbl=define
    longdblsize=16
    longdblkind=3
    ivtype='long'
    ivsize=8
    nvtype='long double'
    nvsize=16
    Off_t='off_t'
    lseeksize=8
    alignbytes=16
    prototype=define
  Linker and Libraries:
    ld='cc'
    ldflags ='-pthread -Wl,-E  -fstack-protector-strong -L/usr/local/lib'
    libpth=/usr/lib /usr/local/lib /usr/lib/clang/7.0.1/lib /usr/lib
    libs=-lpthread -lgdbm -ldl -lm -lcrypt -lutil -lc
    perllibs=-lpthread -ldl -lm -lcrypt -lutil -lc
    libc=
    so=so
    useshrplib=false
    libperl=libperl.a
    gnulibc_version=''
  Dynamic Linking:
    dlsrc=dl_dlopen.xs
    dlext=so
    d_dlsymun=undef
    ccdlflags=' '
    cccdlflags='-DPIC -fPIC'
    lddlflags='-shared  -L/usr/local/lib -fstack-protector-strong'


Characteristics of this binary (from libperl): 
  Compile-time options:
    HAS_TIMES
    PERLIO_LAYERS
    PERL_COPY_ON_WRITE
    PERL_DONT_CREATE_GVSV
    PERL_MALLOC_WRAP
    PERL_OP_PARENT
    PERL_PRESERVE_IVUV
    USE_64_BIT_ALL
    USE_64_BIT_INT
    USE_LARGE_FILES
    USE_LOCALE
    USE_LOCALE_COLLATE
    USE_LOCALE_CTYPE
    USE_LOCALE_NUMERIC
    USE_LOCALE_TIME
    USE_LONG_DOUBLE
    USE_PERLIO
    USE_PERL_ATOF
  Built under freebsd
  Compiled at Mar 25 2019 22:00:02
  %ENV:
    PERL5LIB="/home/cpansand/.cpan/build/2021010221/Treex-PML-2.24-4/blib/arch:/home/cpansand/.cpan/build/2021010221/Treex-PML-2.24-4/blib/lib:/home/cpansand/.cpan/build/2021010221/XML-CompactTree-0.03-4/blib/arch:/home/cpansand/.cpan/build/2021010221/XML-CompactTree-0.03-4/blib/lib:/home/cpansand/.cpan/build/2021010221/UNIVERSAL-DOES-0.005-4/blib/arch:/home/cpansand/.cpan/build/2021010221/UNIVERSAL-DOES-0.005-4/blib/lib:/home/cpansand/.cpan/build/2021010221/PerlIO-via-gzip-0.03-6/blib/arch:/home/cpansand/.cpan/build/2021010221/PerlIO-via-gzip-0.03-6/blib/lib:/home/cpansand/.cpan/build/2021010221/Lingua-Interset-3.014-6/blib/arch:/home/cpansand/.cpan/build/2021010221/Lingua-Interset-3.014-6/blib/lib:/home/cpansand/.cpan/build/2021010221/App-whichpm-0.05-6/blib/arch:/home/cpansand/.cpan/build/2021010221/App-whichpm-0.05-6/blib/lib"
    PERL5OPT=""
    PERL5_CPANPLUS_IS_RUNNING="1241"
    PERL5_CPAN_IS_RUNNING="1241"
    PERL5_CPAN_IS_RUNNING_IN_RECURSION="95559,1241"
    PERL_BATCH="yes"
    PERL_CANARY_STABILITY_NOPROMPT="1"
    PERL_CPAN_REPORTER_CONFIG="/var/tmp/cpansmoker-1023/2021010221/cpanreporter_000_config.ini"
    PERL_EXTUTILS_AUTOINSTALL="--defaultdeps"
    PERL_USE_UNSAFE_INC="1"
  @INC:
    /home/cpansand/.cpan/build/2021010221/Treex-PML-2.24-4/blib/arch
    /home/cpansand/.cpan/build/2021010221/Treex-PML-2.24-4/blib/lib
    /home/cpansand/.cpan/build/2021010221/XML-CompactTree-0.03-4/blib/arch
    /home/cpansand/.cpan/build/2021010221/XML-CompactTree-0.03-4/blib/lib
    /home/cpansand/.cpan/build/2021010221/UNIVERSAL-DOES-0.005-4/blib/arch
    /home/cpansand/.cpan/build/2021010221/UNIVERSAL-DOES-0.005-4/blib/lib
    /home/cpansand/.cpan/build/2021010221/PerlIO-via-gzip-0.03-6/blib/arch
    /home/cpansand/.cpan/build/2021010221/PerlIO-via-gzip-0.03-6/blib/lib
    /home/cpansand/.cpan/build/2021010221/Lingua-Interset-3.014-6/blib/arch
    /home/cpansand/.cpan/build/2021010221/Lingua-Interset-3.014-6/blib/lib
    /home/cpansand/.cpan/build/2021010221/App-whichpm-0.05-6/blib/arch
    /home/cpansand/.cpan/build/2021010221/App-whichpm-0.05-6/blib/lib
    /usr/perl5.28.1Dp/lib/site_perl/5.28.1/amd64-freebsd-ld
    /usr/perl5.28.1Dp/lib/site_perl/5.28.1
    /usr/perl5.28.1Dp/lib/5.28.1/amd64-freebsd-ld
    /usr/perl5.28.1Dp/lib/5.28.1
    .