Devel-CheckLib v1.11 Perl 5 v5.24.3 x86_64-linux

Status
Pass
From
NONAME
Dist
Devel-CheckLib v1.11
Platform
Perl 5 v5.24.3 x86_64-linux
Date
2018-04-29 21:28:39
ID
485ef12e-4bf4-11e8-827b-c5843735e2bc
This distribution has been tested as part of the CPAN Testers
project, supporting the Perl programming language.  See
http://wiki.cpantesters.org/ for more information or email
questions to cpan-testers-discuss@perl.org


--
Dear MATTN,

This is a computer-generated report for Devel-CheckLib-1.11
on perl 5.24.3, created by App::cpanminus::reporter 0.17 (1.7022).

Thank you for uploading your work to CPAN.  Congratulations!
All tests were successful.

Sections of this report:

    * Tester comments
    * Program output
    * Prerequisites
    * Environment and other context

------------------------------
TESTER COMMENTS
------------------------------

Additional comments from tester:

none provided

------------------------------
PROGRAM OUTPUT
------------------------------

Output from '':

Building and testing Devel-CheckLib-1.11
cp lib/Devel/CheckLib.pm blib/lib/Devel/CheckLib.pm
cp bin/use-devel-checklib blib/script/use-devel-checklib
"/home/user/perl5/perlbrew/perls/perl-5.24.3/bin/perl" -MExtUtils::MY -e 'MY->fixin(shift)' -- blib/script/use-devel-checklib
Manifying 1 pod document
Manifying 1 pod document
PERL_DL_NONLAZY=1 "/home/user/perl5/perlbrew/perls/perl-5.24.3/bin/perl" "-MExtUtils::Command::MM" "-MTest::Harness" "-e" "undef *Test::Harness::Switches; test_harness(0, 'blib/lib', 'blib/arch')" t/*.t
t/00-load.t ................... ok
t/bad-single-word-compiler.t .. ok
t/analyze-binary.t ............ ok
t/cmdline-LIBS-INC.t .......... ok
t/dash-l-libs.t ............... ok
t/exit_with_message.t ......... ok
t/custom-function.t ........... ok
t/flags.t ..................... ok
t/headers.t ................... ok
t/multi-word-compiler.t ....... ok
t/found.t ..................... ok
t/not_found.t ................. ok
All tests successful.
Files=12, Tests=42, 16 wallclock secs ( 0.08 usr  0.03 sys +  6.19 cusr 16.84 csys = 23.14 CPU)
Result: PASS

------------------------------
PREREQUISITES
------------------------------

Prerequisite modules loaded:

    No requirements found

------------------------------
ENVIRONMENT AND OTHER CONTEXT
------------------------------

Environment variables:

    AUTHOR_TESTING = 1
    HARNESS_OPTIONS = j3
    LANG = en_US.UTF-8
    LC_COLLATE = POSIX
    LD_LIBRARY_PATH = /lib64:/opt/gimp2.8/lib:/opt/gcc482inst/lib64:/usr/lib:/usr/lib64
    PATH = /home/user/.perlbrew/libs/perl-5.24.3@gql/bin:/home/user/perl5/perlbrew/bin:/home/user/perl5/perlbrew/perls/perl-5.24.3/bin:/opt/bin:/opt/gcc482inst/bin:/opt/gimp2.8/bin:/usr/lib64/qt-3.3/bin:/usr/local/bin:/bin:/usr/bin:/usr/local/sbin:/usr/sbin:/sbin:/home/user/bin
    PERL5LIB = /home/user/.perlbrew/libs/perl-5.24.3@gql/lib/perl5
    PERLBREW_BASHRC_VERSION = 0.72
    PERLBREW_HOME = /home/user/.perlbrew
    PERLBREW_LIB = gql
    PERLBREW_MANPATH = /home/user/.perlbrew/libs/perl-5.24.3@gql/man:/home/user/perl5/perlbrew/perls/perl-5.24.3/man
    PERLBREW_PATH = /home/user/.perlbrew/libs/perl-5.24.3@gql/bin:/home/user/perl5/perlbrew/bin:/home/user/perl5/perlbrew/perls/perl-5.24.3/bin
    PERLBREW_PERL = perl-5.24.3
    PERLBREW_ROOT = /home/user/perl5/perlbrew
    PERLBREW_VERSION = 0.82
    PERL_LOCAL_LIB_ROOT = /home/user/.perlbrew/libs/perl-5.24.3@gql
    PERL_MB_OPT = --install_base /home/user/.perlbrew/libs/perl-5.24.3@gql
    PERL_MM_OPT = INSTALL_BASE=/home/user/.perlbrew/libs/perl-5.24.3@gql
    RELEASE_TESTING = 1
    SHELL = /bin/bash
    TERM = xterm

Perl special variables (and OS-specific diagnostics, for MSWin32):

    EGID = 500 500
    EUID = 500
    EXECUTABLE_NAME = /home/user/perl5/perlbrew/perls/perl-5.24.3/bin/perl
    GID = 500 500
    UID = 500

Perl module toolchain versions installed:

    Module              Have      
    ------------------- ----------
    CPAN                2.11_01   
    CPAN::Meta          2.150005  
    Cwd                 3.63_01   
    ExtUtils::CBuilder  0.280225  
    ExtUtils::Command   7.30      
    ExtUtils::Install   2.06      
    ExtUtils::MakeMaker 7.30      
    ExtUtils::Manifest  1.70      
    ExtUtils::ParseXS   3.31      
    File::Spec          3.63_01   
    JSON                2.97001   
    JSON::PP            2.97000   
    Module::Build       0.4224    
    Module::Signature   n/a       
    Parse::CPAN::Meta   1.4417_001
    Test::Harness       3.36_01   
    Test::More          1.302113  
    YAML                1.24      
    YAML::Syck          n/a       
    version             0.9916    


--

Summary of my perl5 (revision 5 version 24 subversion 3) configuration:
   
  Platform:
    osname=linux, osvers=2.6.32-504.3.3.el6.x86_64, archname=x86_64-linux
    uname='linux localhost.localdomain 2.6.32-504.3.3.el6.x86_64 #1 smp wed dec 17 01:55:02 utc 2014 x86_64 x86_64 x86_64 gnulinux '
    config_args='-de -Dprefix=/home/user/perl5/perlbrew/perls/perl-5.24.3 -Aeval:scriptdir=/home/user/perl5/perlbrew/perls/perl-5.24.3/bin'
    hint=recommended, useposix=true, d_sigaction=define
    useithreads=undef, usemultiplicity=undef
    use64bitint=define, use64bitall=define, uselongdouble=undef
    usemymalloc=n, bincompat5005=undef
  Compiler:
    cc='cc', ccflags ='-fwrapv -fno-strict-aliasing -pipe -fstack-protector -I/usr/local/include -D_LARGEFILE_SOURCE -D_FILE_OFFSET_BITS=64 -D_FORTIFY_SOURCE=2',
    optimize='-O2',
    cppflags='-fwrapv -fno-strict-aliasing -pipe -fstack-protector -I/usr/local/include'
    ccversion='', gccversion='4.8.2', gccosandvers=''
    intsize=4, longsize=8, ptrsize=8, doublesize=8, byteorder=12345678, doublekind=3
    d_longlong=define, longlongsize=8, d_longdbl=define, longdblsize=16, longdblkind=3
    ivtype='long', ivsize=8, nvtype='double', nvsize=8, Off_t='off_t', lseeksize=8
    alignbytes=8, prototype=define
  Linker and Libraries:
    ld='cc', ldflags =' -fstack-protector -L/usr/local/lib'
    libpth=/usr/local/lib /opt/gcc482inst/lib /opt/gcc482inst/lib/gcc/x86_64-unknown-linux-gnu/4.8.2/include-fixed /usr/lib /lib/../lib64 /usr/lib/../lib64 /lib /lib64 /usr/lib64 /usr/local/lib64
    libs=-lpthread -lnsl -lgdbm -ldb -ldl -lm -lcrypt -lutil -lc
    perllibs=-lpthread -lnsl -ldl -lm -lcrypt -lutil -lc
    libc=libc-2.12.so, so=so, useshrplib=false, libperl=libperl.a
    gnulibc_version='2.12'
  Dynamic Linking:
    dlsrc=dl_dlopen.xs, dlext=so, d_dlsymun=undef, ccdlflags='-Wl,-E'
    cccdlflags='-fPIC', lddlflags='-shared -O2 -L/usr/local/lib -fstack-protector'


Characteristics of this binary (from libperl): 
  Compile-time options: HAS_TIMES PERLIO_LAYERS PERL_COPY_ON_WRITE
                        PERL_DONT_CREATE_GVSV
                        PERL_HASH_FUNC_ONE_AT_A_TIME_HARD PERL_MALLOC_WRAP
                        PERL_PRESERVE_IVUV USE_64_BIT_ALL USE_64_BIT_INT
                        USE_LARGE_FILES USE_LOCALE USE_LOCALE_COLLATE
                        USE_LOCALE_CTYPE USE_LOCALE_NUMERIC USE_LOCALE_TIME
                        USE_PERLIO USE_PERL_ATOF
  Locally applied patches:
	Devel::PatchPerl 1.30
  Built under linux
  Compiled at Nov 27 2017 00:35:46
  %ENV:
    PERL5LIB="/home/user/.perlbrew/libs/perl-5.24.3@gql/lib/perl5"
    PERLBREW_BASHRC_VERSION="0.72"
    PERLBREW_HOME="/home/user/.perlbrew"
    PERLBREW_LIB="gql"
    PERLBREW_MANPATH="/home/user/.perlbrew/libs/perl-5.24.3@gql/man:/home/user/perl5/perlbrew/perls/perl-5.24.3/man"
    PERLBREW_PATH="/home/user/.perlbrew/libs/perl-5.24.3@gql/bin:/home/user/perl5/perlbrew/bin:/home/user/perl5/perlbrew/perls/perl-5.24.3/bin"
    PERLBREW_PERL="perl-5.24.3"
    PERLBREW_ROOT="/home/user/perl5/perlbrew"
    PERLBREW_VERSION="0.82"
    PERL_LOCAL_LIB_ROOT="/home/user/.perlbrew/libs/perl-5.24.3@gql"
    PERL_MB_OPT="--install_base /home/user/.perlbrew/libs/perl-5.24.3@gql"
    PERL_MM_OPT="INSTALL_BASE=/home/user/.perlbrew/libs/perl-5.24.3@gql"
  @INC:
    /home/user/.perlbrew/libs/perl-5.24.3@gql/lib/perl5/5.24.3/x86_64-linux
    /home/user/.perlbrew/libs/perl-5.24.3@gql/lib/perl5/5.24.3
    /home/user/.perlbrew/libs/perl-5.24.3@gql/lib/perl5/x86_64-linux
    /home/user/.perlbrew/libs/perl-5.24.3@gql/lib/perl5
    /home/user/perl5/perlbrew/perls/perl-5.24.3/lib/site_perl/5.24.3/x86_64-linux
    /home/user/perl5/perlbrew/perls/perl-5.24.3/lib/site_perl/5.24.3
    /home/user/perl5/perlbrew/perls/perl-5.24.3/lib/5.24.3/x86_64-linux
    /home/user/perl5/perlbrew/perls/perl-5.24.3/lib/5.24.3
    .