Geo-Coder-US-Census v0.06 Perl 5 v5.34.1 x86_64-linux
- Status
- Pass
- From
- David Solimano
- Dist
-
Geo-Coder-US-Census v0.06
- Platform
- Perl 5 v5.34.1 x86_64-linux
- Date
- 2023-02-01 13:42:32
- ID
- 474d709c-a236-11ed-9fb8-d397058e3f0a
This distribution has been tested as part of the CPAN Testers
project, supporting the Perl programming language. See
http://wiki.cpantesters.org/ for more information or email
questions to cpan-testers-discuss@perl.org
--
Dear Nigel Horne,
This is a computer-generated report for Geo-Coder-US-Census-0.06
on perl 5.34.1, created by CPAN-Reporter-1.2018.
Thank you for uploading your work to CPAN. Congratulations!
All tests were successful.
Sections of this report:
* Tester comments
* Program output
* Prerequisites
* Environment and other context
------------------------------
TESTER COMMENTS
------------------------------
Additional comments from tester:
this report is from an automated smoke testing program
and was not reviewed by a human for accuracy
------------------------------
PROGRAM OUTPUT
------------------------------
Output from '/usr/bin/make test':
PERL_DL_NONLAZY=1 "/home/perluser/perl5/perlbrew/perls/perl-5.34.1/bin/perl" "-MExtUtils::Command::MM" "-MTest::Harness" "-e" "undef *Test::Harness::Switches; test_harness(0, 'blib/lib', 'blib/arch')" t/*.t
# Testing Geo::Coder::US::Census 0.06, Perl 5.034001, /home/perluser/perl5/perlbrew/perls/perl-5.34.1/bin/perl
t/00-load.t ........... ok
t/10-new.t ............ ok
# Author tests not required for installation
t/bin.t ............... ok
t/boiler.t ............ ok
t/carp.t .............. ok
t/changes.t ........... skipped: Author tests not required for installation
t/comment-spelling.t .. skipped: Author tests not required for installation
t/coverage.t .......... ok
t/critic.t ............ skipped: Author tests not required for installation
t/cv.t ................ skipped: Author tests not required for installation
t/dist.t .............. skipped: Author tests not required for installation
t/eof.t ............... skipped: Author tests not required for installation
t/eol.t ............... skipped: Author tests not required for installation
t/gv.t ................ skipped: Author tests not required for installation
t/kwalitee.t .......... skipped: Author tests not required for installation
t/links.t ............. skipped: Author tests not required for installation
t/manifest.t .......... skipped: Author tests not required for installation
t/metrics.t ........... skipped: Author tests not required for installation
t/namespaces.t ........ skipped: Author tests not required for installation
t/no404s.t ............ skipped: Author tests not required for installation
t/noplan.t ............ skipped: Author tests not required for installation
t/pod-cm.t ............ skipped: Test::Pod::Spelling::CommonMistakes required for testing POD spelling
t/pod-spelling.t ...... skipped: Author tests not required for installation
t/pod.t ............... skipped: Author tests not required for installation
t/port.t .............. skipped: Test::Portability::Files required for testing filenames portability
t/prereq.t ............ skipped: Author tests not required for installation
t/snippets.t .......... skipped: Author tests not required for installation
t/strict.t ............ skipped: Author tests not required for installation
t/unused.t ............ skipped: Author tests not required for installation
t/us.t ................ ok
t/used.t .............. skipped: Author tests not required for installation
t/vars.t .............. skipped: Author tests not required for installation
All tests successful.
Test Summary Report
-------------------
t/boiler.t (Wstat: 0 Tests: 3 Failed: 0)
TODO passed: 1-3
t/us.t (Wstat: 0 Tests: 18 Failed: 0)
TODO passed: 8-9
Files=32, Tests=32, 10 wallclock secs ( 0.13 usr 0.18 sys + 5.61 cusr 2.12 csys = 8.04 CPU)
Result: PASS
------------------------------
PREREQUISITES
------------------------------
Prerequisite modules loaded:
requires:
Module Need Have
---------------------- -------- --------
Encode 0 3.19
Geo::StreetAddress::US 0 1.04
HTTP::Request 0 6.44
JSON::MaybeXS 0 1.004004
LWP::Protocol::https 0 6.10
LWP::UserAgent 0 6.67
Net::SSLeay 1.81 1.92
perl 5.006002 5.034001
URI 0 5.17
build_requires:
Module Need Have
---------------------- -------- --------
ExtUtils::MakeMaker 0 7.64
IPC::System::Simple 0 1.30
Test::Carp 0 0.2
Test::LWP::UserAgent 0 0.036
Test::Most 0 0.38
Test::NoWarnings 0 1.06
Test::Number::Delta 0 1.06
Test::Script 1.12 1.29
configure_requires:
Module Need Have
---------------------- -------- --------
ExtUtils::MakeMaker 0 7.64
------------------------------
ENVIRONMENT AND OTHER CONTEXT
------------------------------
Environment variables:
AUTOMATED_TESTING = 1
LANG = en_US.UTF-8
PATH = /home/perluser/perl5/perlbrew/bin:/home/perluser/perl5/perlbrew/perls/perl-5.34.1/bin:/usr/local/bin:/usr/bin:/bin:/usr/local/games:/usr/games
PERL5LIB = /home/perluser/.cpan/build/Test-Script-1.29-0/blib/arch:/home/perluser/.cpan/build/Test-Script-1.29-0/blib/lib:/home/perluser/.cpan/build/Test-Number-Delta-1.06-6/blib/arch:/home/perluser/.cpan/build/Test-Number-Delta-1.06-6/blib/lib:/home/perluser/.cpan/build/Test-Most-0.38-4/blib/arch:/home/perluser/.cpan/build/Test-Most-0.38-4/blib/lib:/home/perluser/.cpan/build/Test-Differences-0.69-7/blib/arch:/home/perluser/.cpan/build/Test-Differences-0.69-7/blib/lib:/home/perluser/.cpan/build/Text-Diff-1.45-7/blib/arch:/home/perluser/.cpan/build/Text-Diff-1.45-7/blib/lib:/home/perluser/.cpan/build/Algorithm-Diff-1.201-7/blib/arch:/home/perluser/.cpan/build/Algorithm-Diff-1.201-7/blib/lib:/home/perluser/.cpan/build/Test-LWP-UserAgent-0.036-0/blib/arch:/home/perluser/.cpan/build/Test-LWP-UserAgent-0.036-0/blib/lib:/home/perluser/.cpan/build/Safe-Isa-1.000010-0/blib/arch:/home/perluser/.cpan/build/Safe-Isa-1.000010-0/blib/lib:/home/perluser/.cpan/build/Test-Carp-0.2-0/blib/arch:/home/perluser/.cpan/build/Test-Carp-0.2-0/blib/lib:/home/perluser/.cpan/build/Geo-StreetAddress-US-1.04-0/blib/arch:/home/perluser/.cpan/build/Geo-StreetAddress-US-1.04-0/blib/lib
PERL5OPT =
PERL5_CPANPLUS_IS_RUNNING = 21186
PERL5_CPAN_IS_RUNNING = 21186
PERL5_CPAN_IS_RUNNING_IN_RECURSION = 15363,21186
PERLBREW_HOME = /home/perluser/.perlbrew
PERLBREW_MANPATH = /home/perluser/perl5/perlbrew/perls/perl-5.34.1/man
PERLBREW_PATH = /home/perluser/perl5/perlbrew/bin:/home/perluser/perl5/perlbrew/perls/perl-5.34.1/bin
PERLBREW_PERL = perl-5.34.1
PERLBREW_ROOT = /home/perluser/perl5/perlbrew
PERLBREW_SHELLRC_VERSION = 0.96
PERLBREW_VERSION = 0.96
PERL_CR_SMOKER_CURRENT = Geo-Coder-US-Census-0.06
PERL_EXTUTILS_AUTOINSTALL = --defaultdeps
PERL_MM_USE_DEFAULT = 1
PERL_USE_UNSAFE_INC = 1
SHELL = /bin/bash
TERM = screen
Perl special variables (and OS-specific diagnostics, for MSWin32):
$^X = /home/perluser/perl5/perlbrew/perls/perl-5.34.1/bin/perl
$UID/$EUID = 1001 / 1001
$GID = 1001 1001
$EGID = 1001 1001
Perl module toolchain versions installed:
Module Have
------------------- --------
CPAN 2.34
CPAN::Meta 2.150010
Cwd 3.80
ExtUtils::CBuilder 0.280236
ExtUtils::Command 7.64
ExtUtils::Install 2.20
ExtUtils::MakeMaker 7.64
ExtUtils::Manifest 1.73
ExtUtils::ParseXS 3.44
File::Spec 3.80
JSON n/a
JSON::PP 4.12
Module::Build 0.4232
Module::Signature n/a
Parse::CPAN::Meta 2.150010
Test::Harness 3.44
Test::More 1.302191
YAML n/a
YAML::Syck n/a
version 0.9929
--
Summary of my perl5 (revision 5 version 34 subversion 1) configuration:
Platform:
osname=linux
osvers=4.19.0-12-amd64
archname=x86_64-linux
uname='linux csi-nyp-lensrv 4.19.0-12-amd64 #1 smp debian 4.19.152-1 (2020-10-18) x86_64 gnulinux '
config_args='-de -Dprefix=/home/perluser/perl5/perlbrew/perls/perl-5.34.1 -Aeval:scriptdir=/home/perluser/perl5/perlbrew/perls/perl-5.34.1/bin'
hint=recommended
useposix=true
d_sigaction=define
useithreads=undef
usemultiplicity=undef
use64bitint=define
use64bitall=define
uselongdouble=undef
usemymalloc=n
default_inc_excludes_dot=define
Compiler:
cc='cc'
ccflags ='-fwrapv -fno-strict-aliasing -pipe -fstack-protector-strong -I/usr/local/include -D_LARGEFILE_SOURCE -D_FILE_OFFSET_BITS=64 -D_FORTIFY_SOURCE=2'
optimize='-O2'
cppflags='-fwrapv -fno-strict-aliasing -pipe -fstack-protector-strong -I/usr/local/include'
ccversion=''
gccversion='8.3.0'
gccosandvers=''
intsize=4
longsize=8
ptrsize=8
doublesize=8
byteorder=12345678
doublekind=3
d_longlong=define
longlongsize=8
d_longdbl=define
longdblsize=16
longdblkind=3
ivtype='long'
ivsize=8
nvtype='double'
nvsize=8
Off_t='off_t'
lseeksize=8
alignbytes=8
prototype=define
Linker and Libraries:
ld='cc'
ldflags =' -fstack-protector-strong -L/usr/local/lib'
libpth=/usr/local/lib /usr/lib/x86_64-linux-gnu /usr/lib /lib/x86_64-linux-gnu /lib
libs=-lpthread -lnsl -ldl -lm -lcrypt -lutil -lc
perllibs=-lpthread -lnsl -ldl -lm -lcrypt -lutil -lc
libc=libc-2.28.so
so=so
useshrplib=false
libperl=libperl.a
gnulibc_version='2.28'
Dynamic Linking:
dlsrc=dl_dlopen.xs
dlext=so
d_dlsymun=undef
ccdlflags='-Wl,-E'
cccdlflags='-fPIC'
lddlflags='-shared -O2 -L/usr/local/lib -fstack-protector-strong'
Characteristics of this binary (from libperl):
Compile-time options:
HAS_TIMES
PERLIO_LAYERS
PERL_COPY_ON_WRITE
PERL_DONT_CREATE_GVSV
PERL_MALLOC_WRAP
PERL_OP_PARENT
PERL_PRESERVE_IVUV
USE_64_BIT_ALL
USE_64_BIT_INT
USE_LARGE_FILES
USE_LOCALE
USE_LOCALE_COLLATE
USE_LOCALE_CTYPE
USE_LOCALE_NUMERIC
USE_LOCALE_TIME
USE_PERLIO
USE_PERL_ATOF
Built under linux
Compiled at Dec 20 2022 22:02:38
%ENV:
PERL5LIB="/home/perluser/.cpan/build/Test-Script-1.29-0/blib/arch:/home/perluser/.cpan/build/Test-Script-1.29-0/blib/lib:/home/perluser/.cpan/build/Test-Number-Delta-1.06-6/blib/arch:/home/perluser/.cpan/build/Test-Number-Delta-1.06-6/blib/lib:/home/perluser/.cpan/build/Test-Most-0.38-4/blib/arch:/home/perluser/.cpan/build/Test-Most-0.38-4/blib/lib:/home/perluser/.cpan/build/Test-Differences-0.69-7/blib/arch:/home/perluser/.cpan/build/Test-Differences-0.69-7/blib/lib:/home/perluser/.cpan/build/Text-Diff-1.45-7/blib/arch:/home/perluser/.cpan/build/Text-Diff-1.45-7/blib/lib:/home/perluser/.cpan/build/Algorithm-Diff-1.201-7/blib/arch:/home/perluser/.cpan/build/Algorithm-Diff-1.201-7/blib/lib:/home/perluser/.cpan/build/Test-LWP-UserAgent-0.036-0/blib/arch:/home/perluser/.cpan/build/Test-LWP-UserAgent-0.036-0/blib/lib:/home/perluser/.cpan/build/Safe-Isa-1.000010-0/blib/arch:/home/perluser/.cpan/build/Safe-Isa-1.000010-0/blib/lib:/home/perluser/.cpan/build/Test-Carp-0.2-0/blib/arch:/home/perluser/.cpan/build/Test-Carp-0.2-0/blib/lib:/home/perluser/.cpan/build/Geo-StreetAddress-US-1.04-0/blib/arch:/home/perluser/.cpan/build/Geo-StreetAddress-US-1.04-0/blib/lib"
PERL5OPT=""
PERL5_CPANPLUS_IS_RUNNING="21186"
PERL5_CPAN_IS_RUNNING="21186"
PERL5_CPAN_IS_RUNNING_IN_RECURSION="15363,21186"
PERLBREW_HOME="/home/perluser/.perlbrew"
PERLBREW_MANPATH="/home/perluser/perl5/perlbrew/perls/perl-5.34.1/man"
PERLBREW_PATH="/home/perluser/perl5/perlbrew/bin:/home/perluser/perl5/perlbrew/perls/perl-5.34.1/bin"
PERLBREW_PERL="perl-5.34.1"
PERLBREW_ROOT="/home/perluser/perl5/perlbrew"
PERLBREW_SHELLRC_VERSION="0.96"
PERLBREW_VERSION="0.96"
PERL_CR_SMOKER_CURRENT="Geo-Coder-US-Census-0.06"
PERL_EXTUTILS_AUTOINSTALL="--defaultdeps"
PERL_MM_USE_DEFAULT="1"
PERL_USE_UNSAFE_INC="1"
@INC:
/home/perluser/.cpan/build/Test-Script-1.29-0/blib/arch
/home/perluser/.cpan/build/Test-Script-1.29-0/blib/lib
/home/perluser/.cpan/build/Test-Number-Delta-1.06-6/blib/arch
/home/perluser/.cpan/build/Test-Number-Delta-1.06-6/blib/lib
/home/perluser/.cpan/build/Test-Most-0.38-4/blib/arch
/home/perluser/.cpan/build/Test-Most-0.38-4/blib/lib
/home/perluser/.cpan/build/Test-Differences-0.69-7/blib/arch
/home/perluser/.cpan/build/Test-Differences-0.69-7/blib/lib
/home/perluser/.cpan/build/Text-Diff-1.45-7/blib/arch
/home/perluser/.cpan/build/Text-Diff-1.45-7/blib/lib
/home/perluser/.cpan/build/Algorithm-Diff-1.201-7/blib/arch
/home/perluser/.cpan/build/Algorithm-Diff-1.201-7/blib/lib
/home/perluser/.cpan/build/Test-LWP-UserAgent-0.036-0/blib/arch
/home/perluser/.cpan/build/Test-LWP-UserAgent-0.036-0/blib/lib
/home/perluser/.cpan/build/Safe-Isa-1.000010-0/blib/arch
/home/perluser/.cpan/build/Safe-Isa-1.000010-0/blib/lib
/home/perluser/.cpan/build/Test-Carp-0.2-0/blib/arch
/home/perluser/.cpan/build/Test-Carp-0.2-0/blib/lib
/home/perluser/.cpan/build/Geo-StreetAddress-US-1.04-0/blib/arch
/home/perluser/.cpan/build/Geo-StreetAddress-US-1.04-0/blib/lib
/home/perluser/perl5/perlbrew/perls/perl-5.34.1/lib/site_perl/5.34.1/x86_64-linux
/home/perluser/perl5/perlbrew/perls/perl-5.34.1/lib/site_perl/5.34.1
/home/perluser/perl5/perlbrew/perls/perl-5.34.1/lib/5.34.1/x86_64-linux
/home/perluser/perl5/perlbrew/perls/perl-5.34.1/lib/5.34.1
.