Report for Convert-Binary-C-0.77

Back
From: metabase:user:5bbb2efa-715f-11e3-8cc1-b2993ff2e0c7
Subject: PASS Convert-Binary-C-0.77 v5.16.3 Windows (Cygwin)
Date: 2015-07-23T10:44:01Z

This distribution has been tested as part of the CPAN Testers
project, supporting the Perl programming language.  See
http://wiki.cpantesters.org/ for more information or email
questions to cpan-testers-discuss@perl.org


--
Dear MHX,

This is a computer-generated report for Convert-Binary-C-0.77
on perl 5.16.3, created by App::cpanminus::reporter 0.13 (1.7039).

Thank you for uploading your work to CPAN.  Congratulations!
All tests were successful.

Sections of this report:

    * Tester comments
    * Program output
    * Prerequisites
    * Environment and other context

------------------------------
TESTER COMMENTS
------------------------------

Additional comments from tester:

none provided

------------------------------
PROGRAM OUTPUT
------------------------------

Output from '':

Building and testing Convert-Binary-C-0.77
cp lib/Convert/Binary/C/Cached.pm blib/lib/Convert/Binary/C/Cached.pm
cp lib/Convert/Binary/C.pm blib/lib/Convert/Binary/C.pm
Running Mkbootstrap for Convert::Binary::C ()
chmod 644 "C.bs"
"/home/ollisg/opt/perl/5.16.3/bin/perl.exe" "/home/ollisg/opt/perl/5.16.3/my/lib/perl5/ExtUtils/xsubpp"  -typemap "/home/ollisg/opt/perl/5.16.3/lib/5.16.3/ExtUtils/typemap" -typemap "typemap"  C.xs > C.xsc && mv C.xsc C.c
"/home/ollisg/opt/perl/5.16.3/bin/perl.exe" "-Iblib/arch" "-Iblib/lib" ctlib/arch.pl ctlib/arch.h
Compiling [gcc -O3] C.c
Compiling [gcc -O3] cbc/basic.c
Compiling [gcc -O3] cbc/dimension.c
Compiling [gcc -O3] cbc/hook.c
Compiling [gcc -O3] cbc/idl.c
Compiling [gcc -O3] cbc/init.c
Compiling [gcc -O3] cbc/macros.c
Compiling [gcc -O3] cbc/member.c
Compiling [gcc -O3] cbc/object.c
Compiling [gcc -O3] cbc/option.c
Compiling [gcc -O3] cbc/pack.c
Compiling [gcc -O3] cbc/sourcify.c
Compiling [gcc -O3] cbc/tag.c
Compiling [gcc -O3] cbc/type.c
Compiling [gcc -O3] cbc/typeinfo.c
Compiling [gcc -O3] cbc/util.c
Compiling [gcc -O3] ctlib/bitfields.c
Compiling [gcc -O3] ctlib/byteorder.c
Compiling [gcc -O3] ctlib/cterror.c
Compiling [gcc -O3] ctlib/ctparse.c
Compiling [gcc -O3] ctlib/cttags.c
Compiling [gcc -O3] ctlib/cttype.c
Compiling [gcc -O3] ctlib/fileinfo.c
Compiling [gcc -O3] ctlib/layout.c
Compiling [gcc -O3] ctlib/y_parser.c
Compiling [gcc -O3] ctlib/y_pragma.c
Compiling [gcc -O3] ucpp/assert.c
Compiling [gcc -O3] ucpp/cpp.c
Compiling [gcc -O3] ucpp/eval.c
Compiling [gcc -O3] ucpp/lexer.c
Compiling [gcc -O3] ucpp/macro.c
Compiling [gcc -O3] ucpp/mem.c
Compiling [gcc -O3] ucpp/nhash.c
Compiling [gcc -O3] util/hash.c
Compiling [gcc -O3] util/list.c
Compiling [gcc -O3] util/memalloc.c
rm -f blib/arch/auto/Convert/Binary/C/C.dll
g++  --shared  -Wl,--enable-auto-import -Wl,--export-all-symbols -Wl,--enable-auto-image-base -L/usr/local/lib -fstack-protector C.o cbc/basic.o cbc/dimension.o cbc/hook.o cbc/idl.o cbc/init.o cbc/macros.o cbc/member.o cbc/object.o cbc/option.o cbc/pack.o cbc/sourcify.o cbc/tag.o cbc/type.o cbc/typeinfo.o cbc/util.o ctlib/bitfields.o ctlib/byteorder.o ctlib/cterror.o ctlib/ctparse.o ctlib/cttags.o ctlib/cttype.o ctlib/fileinfo.o ctlib/layout.o ctlib/y_parser.o ctlib/y_pragma.o ucpp/assert.o ucpp/cpp.o ucpp/eval.o ucpp/lexer.o ucpp/macro.o ucpp/mem.o ucpp/nhash.o util/hash.o util/list.o util/memalloc.o  -o blib/arch/auto/Convert/Binary/C/C.dll 	\
  /home/ollisg/opt/perl/5.16.3/lib/5.16.3/cygwin-thread-multi/CORE/cygperl5_16_3.dll   	\
  
chmod 755 blib/arch/auto/Convert/Binary/C/C.dll
"/home/ollisg/opt/perl/5.16.3/bin/perl.exe" -MExtUtils::Command::MM -e 'cp_nonempty' -- C.bs blib/arch/auto/Convert/Binary/C/C.bs 644
"/home/ollisg/opt/perl/5.16.3/bin/perl.exe" "-Iblib/arch" "-Iblib/lib" bin/memmap.PL examples/memmap.pl
"/home/ollisg/opt/perl/5.16.3/bin/perl.exe" "-Iblib/arch" "-Iblib/lib" bin/elf.PL examples/elf.pl
"/home/ollisg/opt/perl/5.16.3/bin/perl.exe" "-Iblib/arch" "-Iblib/lib" bin/perltypes.PL examples/perltypes.pl
"/home/ollisg/opt/perl/5.16.3/bin/perl.exe" "-Iblib/arch" "-Iblib/lib" bin/convert.PL examples/convert.pl
cp bin/ccconfig blib/script/ccconfig
"/home/ollisg/opt/perl/5.16.3/bin/perl.exe" -MExtUtils::MY -e 'MY->fixin(shift)' -- blib/script/ccconfig
Manifying 1 pod document
Manifying 2 pod documents
Running Mkbootstrap for Convert::Binary::C ()
chmod 644 "C.bs"
PERL_DL_NONLAZY=1 "/home/ollisg/opt/perl/5.16.3/bin/perl.exe" "-Iblib/lib" "-Iblib/arch" test.pl
tests/001_init.t .......... ok
tests/101_basic.t ......... ok
tests/201_config.t ........ ok
tests/202_misc.t .......... ok
tests/203_warnings.t ...... ok
tests/204_enum.t .......... ok
tests/205_pack.t .......... ok
tests/206_parse.t ......... ok
tests/207_typedef.t ....... ok
tests/208_float.t ......... ok
tests/209_sourcify.t ...... ok
tests/210_depend.t ........ ok
tests/211_clone.t ......... ok
tests/212_clean.t ......... ok
tests/213_string.t ........ ok
tests/214_cache.t ......... ok
tests/215_local.t ......... ok
tests/216_language.t ...... ok
tests/217_preproc.t ....... ok
tests/218_member.t ........ ok
tests/219_def.t ........... ok
tests/220_new.t ........... ok
tests/221_asm.t ........... ok
tests/222_ieee.t .......... ok
tests/223_initializer.t ... ok
tests/224_typeof.t ........ ok
tests/225_magic.t ......... ok
tests/226_indexed.t ....... ok
tests/227_flexarray.t ..... ok
tests/228_hooks.t ......... ok
tests/229_substr.t ........ ok
tests/230_compiler.t ...... ok
tests/231_align.t ......... ok
tests/232_native.t ........ ok
tests/233_tags.t .......... ok
tests/234_format.t ........ ok
tests/235_basic.t ......... ok
tests/236_typeinfo.t ...... ok
tests/237_parser.t ........ ok
tests/238_byteorder.t ..... ok
tests/239_macros.t ........ ok
tests/240_offsetof.t ...... ok
tests/241_sizeof.t ........ ok
tests/242_dimension.t ..... ok
tests/243_parser.t ........ ok
tests/501_bfsimple.t ...... ok
tests/502_bfmicrosoft.t ... ok
tests/503_bfgeneric.t ..... ok
tests/601_speed.t ......... ok
tests/602_threads.t ....... ok
tests/603_complex.t ....... ok
tests/701_debug.t ......... ok
tests/702_env.t ........... ok
tests/703_bugs.t .......... ok
tests/801_examples.t ...... ok
tests/802_pod.t ........... ok
tests/803_pod_coverage.t .. ok
tests/901_memory.t ........ ok
All tests successful.
Files=58, Tests=50423, 31 wallclock secs ( 1.06 usr  0.05 sys + 18.83 cusr  4.88 csys = 24.82 CPU)
Result: PASS

------------------------------
PREREQUISITES
------------------------------

Prerequisite modules loaded:

    No requirements found

------------------------------
ENVIRONMENT AND OTHER CONTEXT
------------------------------

Environment variables:

    COMSPEC = C:\Windows\system32\cmd.exe
    LANG = en_US.UTF-8
    LC_COLLATE = C
    PATH = /home/ollisg/opt/perl/5.16.3/my/bin:/home/ollisg/opt/perl/5.16.3/bin:/home/ollisg/bin:/usr/local/bin:/usr/bin:/bin
    PERL5LIB = /home/ollisg/opt/perl/5.16.3/my/lib/perl5
    PERL_CPANM_OPT = --mirror http://mirror.sydney.wdlabs.com/cpan/ --mirror-only
    PERL_LOCAL_LIB_ROOT = /home/ollisg/opt/perl/5.16.3/my
    PERL_MB_OPT = --install_base "/home/ollisg/opt/perl/5.16.3/my"
    PERL_MM_OPT = INSTALL_BASE=/home/ollisg/opt/perl/5.16.3/my
    SHELL = /bin/tcsh
    TERM = screen

Perl special variables (and OS-specific diagnostics, for MSWin32):

    EGID = 513 513 559 545 4 66049 11 15 113 4095 66048 262154 401408
    EUID = 1001
    EXECUTABLE_NAME = /home/ollisg/opt/perl/5.16.3/bin/perl
    GID = 513 513 559 545 4 66049 11 15 113 4095 66048 262154 401408
    UID = 1001

Perl module toolchain versions installed:

    Module              Have    
    ------------------- --------
    CPAN                2.10    
    CPAN::Meta          2.150005
    Cwd                 3.47    
    ExtUtils::CBuilder  0.280223
    ExtUtils::Command   1.20    
    ExtUtils::Install   2.04    
    ExtUtils::MakeMaker 7.04    
    ExtUtils::Manifest  1.70    
    ExtUtils::ParseXS   3.24    
    File::Spec          3.47    
    JSON                2.90    
    JSON::PP            2.27300 
    Module::Build       0.4214  
    Module::Signature   n/a     
    Parse::CPAN::Meta   1.4417  
    Test::Harness       3.35    
    Test::More          1.001014
    YAML                1.15    
    YAML::Syck          n/a     
    version             0.9912  


--

Summary of my perl5 (revision 5 version 16 subversion 3) configuration:
   
  Platform:
    osname=cygwin, osvers=1.7.34(0.28553), archname=cygwin-thread-multi
    uname='cygwin_nt-6.1 xian 1.7.34(0.28553) 2015-02-04 12:14 x86_64 cygwin '
    config_args='-de -Dprefix=/home/ollisg/opt/perl/5.16.3/ -Aeval:scriptdir=/home/ollisg/opt/perl/5.16.3/bin'
    hint=recommended, useposix=true, d_sigaction=define
    useithreads=define, usemultiplicity=define
    useperlio=define, d_sfio=undef, uselargefiles=define, usesocks=undef
    use64bitint=define, use64bitall=define, uselongdouble=undef
    usemymalloc=n, bincompat5005=undef
  Compiler:
    cc='gcc', ccflags ='-DPERL_USE_SAFE_PUTENV -U__STRICT_ANSI__ -fno-strict-aliasing -pipe -fstack-protector',
    optimize='-O3',
    cppflags='-DPERL_USE_SAFE_PUTENV -U__STRICT_ANSI__ -fno-strict-aliasing -pipe -fstack-protector'
    ccversion='', gccversion='4.9.2', gccosandvers=''
    intsize=4, longsize=8, ptrsize=8, doublesize=8, byteorder=12345678
    d_longlong=define, longlongsize=8, d_longdbl=define, longdblsize=16
    ivtype='long', ivsize=8, nvtype='double', nvsize=8, Off_t='off_t', lseeksize=8
    alignbytes=8, prototype=define
  Linker and Libraries:
    ld='g++', ldflags =' -Wl,--enable-auto-import -Wl,--export-all-symbols -Wl,--enable-auto-image-base -fstack-protector -L/usr/local/lib'
    libpth=/usr/local/lib /usr/lib /lib
    libs=-ldb -ldl -lcrypt
    perllibs=-ldl -lcrypt
    libc=/usr/lib/libc.a, so=dll, useshrplib=true, libperl=cygperl5_16_3.dll
    gnulibc_version=''
  Dynamic Linking:
    dlsrc=dl_dlopen.xs, dlext=dll, d_dlsymun=undef, ccdlflags=' '
    cccdlflags=' ', lddlflags=' --shared  -Wl,--enable-auto-import -Wl,--export-all-symbols -Wl,--enable-auto-image-base -L/usr/local/lib -fstack-protector'


Characteristics of this binary (from libperl): 
  Compile-time options: HAS_TIMES MULTIPLICITY PERLIO_LAYERS
                        PERL_DONT_CREATE_GVSV PERL_IMPLICIT_CONTEXT
                        PERL_PRESERVE_IVUV PERL_USE_SAFE_PUTENV
                        USE_64_BIT_ALL USE_64_BIT_INT USE_ITHREADS
                        USE_LARGE_FILES USE_LOCALE USE_LOCALE_COLLATE
                        USE_LOCALE_CTYPE USE_LOCALE_NUMERIC USE_PERLIO
                        USE_PERL_ATOF USE_REENTRANT_API
  Built under cygwin
  Compiled at May 15 2015 22:06:57
  %ENV:
    PERL5LIB="/home/ollisg/opt/perl/5.16.3/my/lib/perl5"
    PERL_CPANM_OPT="--mirror http://mirror.sydney.wdlabs.com/cpan/ --mirror-only"
    PERL_LOCAL_LIB_ROOT="/home/ollisg/opt/perl/5.16.3/my"
    PERL_MB_OPT="--install_base "/home/ollisg/opt/perl/5.16.3/my""
    PERL_MM_OPT="INSTALL_BASE=/home/ollisg/opt/perl/5.16.3/my"
  @INC:
    /home/ollisg/opt/perl/5.16.3/my/lib/perl5/cygwin-thread-multi
    /home/ollisg/opt/perl/5.16.3/my/lib/perl5
    /home/ollisg/opt/perl/5.16.3/lib/site_perl/5.16.3/cygwin-thread-multi
    /home/ollisg/opt/perl/5.16.3/lib/site_perl/5.16.3
    /home/ollisg/opt/perl/5.16.3/lib/5.16.3/cygwin-thread-multi
    /home/ollisg/opt/perl/5.16.3/lib/5.16.3
    .