Back
From: metabase:user:30ae4450-2aae-11df-837a-5e0a49663a4f
Subject: PASS RDF-Query-2.917 v5.16.0
Date: 2016-05-29T21:23:39Z
This distribution has been tested as part of the CPAN Testers
project, supporting the Perl programming language. See
http://wiki.cpantesters.org/ for more information or email
questions to cpan-testers-discuss@perl.org
--
Dear Gregory Todd Williams,
This is a computer-generated report for RDF-Query-2.917
on perl 5.16.0, created by CPAN-Reporter-1.2017.
Thank you for uploading your work to CPAN. Congratulations!
All tests were successful.
Sections of this report:
* Tester comments
* Program output
* Prerequisites
* Environment and other context
------------------------------
TESTER COMMENTS
------------------------------
Additional comments from tester:
this report is from an automated smoke testing program
and was not reviewed by a human for accuracy
------------------------------
PROGRAM OUTPUT
------------------------------
Output from 'C:\strawberry160\c\bin\dmake.exe test':
C:\strawberry160\perl\bin\perl.exe "-MExtUtils::Command::MM" "-MTest::Harness" "-e" "undef *Test::Harness::Switches; test_harness(0, 'inc', 'blib\lib', 'blib\arch')" t/*.t
t/00-simple.t .................... ok
t/01-coverage.t .................. ok
t/algebra-bgp.t .................. ok
t/algebra-expr.t ................. ok
t/algebra-func.t ................. ok
t/algebra-subsumption.t .......... ok
t/algebra.t ...................... ok
t/constraints.t .................. ok
t/dataset-from-file.t ............ ok
t/dataset-from-net.t ............. skipped: No network. Set RDFQUERY_NETWORK_TESTS to run these tests.
t/dev-computed-statements.t ...... ok
t/ext-select-expr.t .............. ok
t/filters.t ...................... ok
t/functions.t .................... ok
t/hooks.t ........................ skipped: No network. Set RDFQUERY_NETWORK_TESTS to run these tests.
t/iterators.t .................... ok
t/literals.t ..................... ok
t/named-graphs.t ................. ok
t/optional.t ..................... ok
t/plan.t ......................... skipped: Developer tests. Set RDFQUERY_DEV_TESTS to run these tests.
t/protocol-serialization.t ....... ok
t/queryform-ask.t ................ ok
t/queryform-construct.t .......... ok
t/queryform-describe.t ........... ok
t/rdql.t ......................... ok
t/resultforms.t .................. ok
t/serialize.t .................... ok
t/sparql11-aggregates.t .......... ok
t/sparql11-federation.t .......... ok
t/sparql11-negation.t ............ ok
t/sparql11-propery_paths.t ....... ok
t/sparql11-select_expressions.t .. ok
t/sparql11-subselect.t ........... ok
t/sparql11-update.t .............. ok
t/syntactic_forms.t .............. ok
t/union.t ........................ ok
All tests successful.
Files=36, Tests=1141, 180 wallclock secs ( 0.12 usr + 0.45 sys = 0.57 CPU)
Result: PASS
------------------------------
PREREQUISITES
------------------------------
Prerequisite modules loaded:
requires:
Module Need Have
------------------------ ----- --------
Data::UUID 0 1.219
DateTime::Format::W3CDTF 0 0.06
Digest::SHA 0 5.71
Error 0 0.17021
File::Spec 0 3.40
File::Temp 0 0.22
I18N::LangTags 0 0.38
JSON 2 2.53
Module::Pluggable 0 4.8
Parse::RecDescent 0 1.967009
RDF::Trine 1.004 1.007
Scalar::Util 0 1.35
Set::Scalar 0 1.26
URI 1.52 1.60
build_requires:
Module Need Have
------------------------ ----- --------
ExtUtils::MakeMaker 6.36 6.84
FindBin 0 1.51
Test::Exception 0 0.32
Test::JSON 0 0.11
Test::More 0.88 1.001002
YAML 0 0.88
configure_requires:
Module Need Have
------------------------ ----- --------
ExtUtils::MakeMaker 6.36 6.84
------------------------------
ENVIRONMENT AND OTHER CONTEXT
------------------------------
Environment variables:
AUTOMATED_TESTING = 1
COMSPEC = C:\WINDOWS\system32\cmd.exe
NUMBER_OF_PROCESSORS = 1
PATH = C:\WINDOWS\system32;C:\WINDOWS;C:\WINDOWS\System32\Wbem;C:\strawberry160\c\bin;C:\strawberry160\perl\site\bin;C:\strawberry160\perl\bin
PERL5LIB =
PERL5OPT =
PERL5_CPANPLUS_IS_RUNNING = 1268
PERL5_CPAN_IS_RUNNING = 1268
PERL5_CPAN_IS_RUNNING_IN_RECURSION = 1676,1268
PERL_CR_SMOKER_CURRENT = RDF-Query-2.917
PERL_CR_SMOKER_RUNONCE = 1
PERL_EXTUTILS_AUTOINSTALL = --defaultdeps
PERL_JSON_BACKEND = JSON::XS
PERL_MM_USE_DEFAULT = 1
PERL_YAML_BACKEND = YAML
PROCESSOR_IDENTIFIER = x86 Family 16 Model 5 Stepping 3, AuthenticAMD
TEMP = C:\DOCUME~1\a\LOCALS~1\Temp
TERM = dumb
Perl special variables (and OS-specific diagnostics, for MSWin32):
$^X = C:\strawberry160\perl\bin\perl.exe
$UID/$EUID = 0 / 0
$GID = 0
$EGID = 0
Win32::GetOSName = WinXP/.Net
Win32::GetOSVersion = Service Pack 3, 5, 1, 2600, 2, 3, 0, 256, 1
Win32::FsType = NTFS
Win32::IsAdminUser = 1
Perl module toolchain versions installed:
Module Have
------------------- --------
CPAN 2.00
CPAN::Meta 2.133380
Cwd 3.40
ExtUtils::CBuilder 0.280206
ExtUtils::Command 1.17
ExtUtils::Install 1.58
ExtUtils::MakeMaker 6.84
ExtUtils::Manifest 1.61
ExtUtils::ParseXS 3.22
File::Spec 3.40
JSON 2.53
JSON::PP 2.27203
Module::Build 0.4203
Module::Signature 0.68
Parse::CPAN::Meta 1.4405
Test::Harness 3.30
Test::More 1.001002
YAML 0.88
YAML::Syck 1.27
version 0.9904
--
Summary of my perl5 (revision 5 version 16 subversion 0) configuration:
Platform:
osname=MSWin32, osvers=4.0, archname=MSWin32-x86-multi-thread
uname='Win32 strawberry-perl 5.16.0.1 #1 Mon May 21 22:07:30 2012 i386'
config_args='undef'
hint=recommended, useposix=true, d_sigaction=undef
useithreads=define, usemultiplicity=define
useperlio=define, d_sfio=undef, uselargefiles=define, usesocks=undef
use64bitint=undef, use64bitall=undef, uselongdouble=undef
usemymalloc=n, bincompat5005=undef
Compiler:
cc='gcc', ccflags =' -s -O2 -DWIN32 -DPERL_TEXTMODE_SCRIPTS -DPERL_IMPLICIT_CONTEXT -DPERL_IMPLICIT_SYS -fno-strict-aliasing -mms-bitfields',
optimize='-s -O2',
cppflags='-DWIN32'
ccversion='', gccversion='4.6.3', gccosandvers=''
intsize=4, longsize=4, ptrsize=4, doublesize=8, byteorder=1234
d_longlong=undef, longlongsize=8, d_longdbl=define, longdblsize=12
ivtype='long', ivsize=4, nvtype='double', nvsize=8, Off_t='long long', lseeksize=8
alignbytes=8, prototype=define
Linker and Libraries:
ld='g++', ldflags ='-s -L"C:\strawberry160\perl\lib\CORE" -L"C:\strawberry160\c\lib"'
libpth=C:\strawberry160\c\lib C:\strawberry160\c\i686-w64-mingw32\lib
libs=-lmoldname -lkernel32 -luser32 -lgdi32 -lwinspool -lcomdlg32 -ladvapi32 -lshell32 -lole32 -loleaut32 -lnetapi32 -luuid -lws2_32 -lmpr -lwinmm -lversion -lodbc32 -lodbccp32 -lcomctl32
perllibs=-lmoldname -lkernel32 -luser32 -lgdi32 -lwinspool -lcomdlg32 -ladvapi32 -lshell32 -lole32 -loleaut32 -lnetapi32 -luuid -lws2_32 -lmpr -lwinmm -lversion -lodbc32 -lodbccp32 -lcomctl32
libc=, so=dll, useshrplib=true, libperl=libperl516.a
gnulibc_version=''
Dynamic Linking:
dlsrc=dl_win32.xs, dlext=dll, d_dlsymun=undef, ccdlflags=' '
cccdlflags=' ', lddlflags='-mdll -s -L"C:\strawberry160\perl\lib\CORE" -L"C:\strawberry160\c\lib"'
Characteristics of this binary (from libperl):
Compile-time options: HAS_TIMES HAVE_INTERP_INTERN MULTIPLICITY
PERLIO_LAYERS PERL_DONT_CREATE_GVSV
PERL_IMPLICIT_CONTEXT PERL_IMPLICIT_SYS
PERL_MALLOC_WRAP PERL_PRESERVE_IVUV PL_OP_SLAB_ALLOC
USE_ITHREADS USE_LARGE_FILES USE_LOCALE
USE_LOCALE_COLLATE USE_LOCALE_CTYPE
USE_LOCALE_NUMERIC USE_PERLIO USE_PERL_ATOF
Built under MSWin32
Compiled at May 21 2012 22:15:38
%ENV:
PERL5_CPANPLUS_IS_RUNNING="1268"
PERL5_CPAN_IS_RUNNING="1268"
PERL5_CPAN_IS_RUNNING_IN_RECURSION="1676,1268"
PERL_CR_SMOKER_CURRENT="RDF-Query-2.917"
PERL_CR_SMOKER_RUNONCE="1"
PERL_EXTUTILS_AUTOINSTALL="--defaultdeps"
PERL_JSON_BACKEND="JSON::XS"
PERL_MM_USE_DEFAULT="1"
PERL_YAML_BACKEND="YAML"
@INC:
C:/strawberry160/perl/site/lib/MSWin32-x86-multi-thread
C:/strawberry160/perl/site/lib
C:/strawberry160/perl/vendor/lib
C:/strawberry160/perl/lib
.