YAML v1.27 Perl 5 v5.8.9 x86_64-linux

Status
Pass
From
Nigel Horne
Dist
YAML v1.27
Platform
Perl 5 v5.8.9 x86_64-linux
Date
2018-11-14 15:45:11
ID
45a0cf9e-e824-11e8-afbf-aec3b07506ca
This distribution has been tested as part of the CPAN Testers
project, supporting the Perl programming language.  See
http://wiki.cpantesters.org/ for more information or email
questions to cpan-testers-discuss@perl.org


--
Dear Tina Muller,

This is a computer-generated report for YAML-1.27
on perl 5.8.9, created by CPAN-Reporter-1.2018.

Thank you for uploading your work to CPAN.  Congratulations!
All tests were successful.

Sections of this report:

    * Tester comments
    * Program output
    * Prerequisites
    * Environment and other context

------------------------------
TESTER COMMENTS
------------------------------

Additional comments from tester:

none provided

------------------------------
PROGRAM OUTPUT
------------------------------

Output from '/usr/bin/make test':

PERL_DL_NONLAZY=1 "/home/smoker/perl5/perlbrew/perls/perl-5.8.9/bin/perl" "-MExtUtils::Command::MM" "-MTest::Harness" "-e" "undef *Test::Harness::Switches; test_harness(0, 'blib/lib', 'blib/arch')" t/*.t
t/000-compile-modules..............ok
t/2-scalars........................ok
t/author-pod-syntax................skipped
        all skipped: these tests are for testing by the author
t/basic-tests......................ok
t/bugs-emailed.....................ok
        3/25 skipped: various reasons
t/bugs-rt..........................ok
        10/42 skipped: various reasons
t/changes..........................ok
        1/1 skipped: various reasons
t/dump-basics......................ok
t/dump-blessed-glob................ok
t/dump-blessed.....................ok
t/dump-code........................ok
t/dump-file-utf8...................ok
t/dump-file........................ok
t/dump-nested......................ok
t/dump-opts........................ok
t/dump-perl-types-512..............ok
t/dump-perl-types-514..............skipped
        all skipped: test only for perls v5.13.5-11-gfb85c04 or later
t/dump-perl-types..................ok
t/dump-stringify...................ok
t/dump-stringy-numbers.............ok
t/dump-synopsis....................ok
t/dump-tests-512...................ok
t/dump-tests-514...................skipped
        all skipped: test only for perls v5.13.5-11-gfb85c04 or later
t/dump-tests.......................ok
t/dump-works.......................ok
t/errors...........................ok
t/export...........................ok
t/freeze-thaw......................ok
t/global-api.......................ok
t/inbox............................ok
        3/3 skipped: various reasons
t/io-handle........................ok
t/issue-149........................ok
t/issue-69.........................ok
t/load-code........................ok
t/load-fails.......................ok
t/load-passes......................ok
t/load-slides......................ok
t/load-spec........................ok
t/load-tests.......................ok
t/load-works.......................ok
t/marshall.........................ok
t/no-load-blessed..................ok
t/node-info........................ok
t/numify...........................ok
t/preserve.........................ok
t/pugs-objects.....................ok
t/references.......................ok
t/regexp...........................ok
t/roundtrip........................ok
t/rt-90593.........................skipped
        all skipped: Skip old perls
t/svk..............................ok
t/test.............................ok
t/trailing-comments-content........ok
t/trailing-comments-non-content....ok
All tests successful, 4 tests and 17 subtests skipped.
Files=54, Tests=538,  3 wallclock secs ( 2.34 cusr +  0.28 csys =  2.62 CPU)

------------------------------
PREREQUISITES
------------------------------

Prerequisite modules loaded:

requires:

    Module              Need     Have    
    ------------------- -------- --------
    perl                5.008001 5.008009

build_requires:

    Module              Need     Have    
    ------------------- -------- --------
    Encode              0        2.26    
    ExtUtils::MakeMaker 0        7.34    
    Test::Deep          0        1.128   
    Test::More          0.88     1.302140
    Test::YAML          1.05     1.07    

configure_requires:

    Module              Need     Have    
    ------------------- -------- --------
    ExtUtils::MakeMaker 0        7.34    


------------------------------
ENVIRONMENT AND OTHER CONTEXT
------------------------------

Environment variables:

    HARNESS_OPTIONS = c:j10
    NONINTERACTIVE_TESTING = 1
    PATH = /home/smoker/perl5/perlbrew/bin:/home/smoker/perl5/perlbrew/perls/perl-5.8.9/bin:/usr/local/sbin:/usr/local/bin:/usr/sbin:/usr/bin:/sbin:/bin
    PERL5LIB = 
    PERL5OPT = 
    PERL5_CPANPLUS_IS_RUNNING = 32492
    PERL5_CPAN_IS_RUNNING = 32492
    PERLBREW_HOME = /home/smoker/.perlbrew
    PERLBREW_MANPATH = /home/smoker/perl5/perlbrew/perls/perl-5.8.9/man
    PERLBREW_PATH = /home/smoker/perl5/perlbrew/bin:/home/smoker/perl5/perlbrew/perls/perl-5.8.9/bin
    PERLBREW_PERL = perl-5.8.9
    PERLBREW_ROOT = /home/smoker/perl5/perlbrew
    PERLBREW_SHELLRC_VERSION = 0.84
    PERLBREW_VERSION = 0.84
    PERL_MM_USE_DEFAULT = 1
    SHELL = /bin/bash
    TMPDIR = /tmp

Perl special variables (and OS-specific diagnostics, for MSWin32):

    $^X = /home/smoker/perl5/perlbrew/perls/perl-5.8.9/bin/perl
    $UID/$EUID = 1000 / 1000
    $GID = 1000
    $EGID = 1000

Perl module toolchain versions installed:

    Module              Have    
    ------------------- --------
    CPAN                2.16    
    CPAN::Meta          2.143240
    Cwd                 3.75    
    ExtUtils::CBuilder  n/a     
    ExtUtils::Command   7.34    
    ExtUtils::Install   2.06    
    ExtUtils::MakeMaker 7.34    
    ExtUtils::Manifest  1.70    
    ExtUtils::ParseXS   2.19    
    File::Spec          3.75    
    JSON                n/a     
    JSON::PP            2.27203 
    Module::Build       n/a     
    Module::Signature   n/a     
    Parse::CPAN::Meta   1.4414  
    Test::Harness       2.64    
    Test::More          1.302140
    YAML                n/a     
    YAML::Syck          n/a     
    version             0.9924  


--

Summary of my perl5 (revision 5 version 8 subversion 9) configuration:
  Platform:
    osname=linux, osvers=4.18.0-2-amd64, archname=x86_64-linux
    uname='linux 41a4bf6b6fea 4.18.0-2-amd64 #1 smp debian 4.18.10-2 (2018-11-02) x86_64 gnulinux '
    config_args='-de -Dprefix=/home/smoker/perl5/perlbrew/perls/perl-5.8.9 -Aeval:scriptdir=/home/smoker/perl5/perlbrew/perls/perl-5.8.9/bin'
    hint=recommended, useposix=true, d_sigaction=define
    usethreads=undef use5005threads=undef useithreads=undef usemultiplicity=undef
    useperlio=define d_sfio=undef uselargefiles=define usesocks=undef
    use64bitint=define use64bitall=define uselongdouble=undef
    usemymalloc=n, bincompat5005=undef
  Compiler:
    cc='cc', ccflags ='-fno-strict-aliasing -pipe -I/usr/local/include -D_LARGEFILE_SOURCE -D_FILE_OFFSET_BITS=64',
    optimize='-O2',
    cppflags='-fno-strict-aliasing -pipe -I/usr/local/include'
    ccversion='', gccversion='6.3.0 20170516', gccosandvers=''
    intsize=4, longsize=8, ptrsize=8, doublesize=8, byteorder=12345678
    d_longlong=define, longlongsize=8, d_longdbl=define, longdblsize=16
    ivtype='long', ivsize=8, nvtype='double', nvsize=8, Off_t='off_t', lseeksize=8
    alignbytes=8, prototype=define
  Linker and Libraries:
    ld='cc', ldflags =' -L/usr/local/lib'
    libpth=/usr/local/lib /lib/x86_64-linux-gnu /lib/../lib /usr/lib/x86_64-linux-gnu /usr/lib/../lib /lib /usr/lib
    libs=-lnsl -ldl -lm -lcrypt -lutil -lc
    perllibs=-lnsl -ldl -lm -lcrypt -lutil -lc
    libc=libc-2.24.so, so=so, useshrplib=false, libperl=libperl.a
    gnulibc_version='2.24'
  Dynamic Linking:
    dlsrc=dl_dlopen.xs, dlext=so, d_dlsymun=undef, ccdlflags='-Wl,-E'
    cccdlflags='-fPIC', lddlflags='-shared -O2 -L/usr/local/lib'


Characteristics of this binary (from libperl): 
  Compile-time options: PERL_MALLOC_WRAP USE_64_BIT_ALL USE_64_BIT_INT
                        USE_FAST_STDIO USE_LARGE_FILES USE_PERLIO
  Locally applied patches:
	Devel::PatchPerl 1.52
  Built under linux
  Compiled at Nov 14 2018 15:40:49
  %ENV:
    PERL5LIB=""
    PERL5OPT=""
    PERL5_CPANPLUS_IS_RUNNING="32492"
    PERL5_CPAN_IS_RUNNING="32492"
    PERLBREW_HOME="/home/smoker/.perlbrew"
    PERLBREW_MANPATH="/home/smoker/perl5/perlbrew/perls/perl-5.8.9/man"
    PERLBREW_PATH="/home/smoker/perl5/perlbrew/bin:/home/smoker/perl5/perlbrew/perls/perl-5.8.9/bin"
    PERLBREW_PERL="perl-5.8.9"
    PERLBREW_ROOT="/home/smoker/perl5/perlbrew"
    PERLBREW_SHELLRC_VERSION="0.84"
    PERLBREW_VERSION="0.84"
    PERL_MM_USE_DEFAULT="1"
  @INC:
    /home/smoker/perl5/perlbrew/perls/perl-5.8.9/lib/5.8.9/x86_64-linux
    /home/smoker/perl5/perlbrew/perls/perl-5.8.9/lib/5.8.9
    /home/smoker/perl5/perlbrew/perls/perl-5.8.9/lib/site_perl/5.8.9/x86_64-linux
    /home/smoker/perl5/perlbrew/perls/perl-5.8.9/lib/site_perl/5.8.9
    .